BEGIN:VCALENDAR
VERSION:2.0
PRODID:-//Beer.be - ECPv6.15.20//NONSGML v1.0//EN
CALSCALE:GREGORIAN
METHOD:PUBLISH
X-WR-CALNAME:Beer.be
X-ORIGINAL-URL:https://beer.be
X-WR-CALDESC:Évènements pour Beer.be
REFRESH-INTERVAL;VALUE=DURATION:PT1H
X-Robots-Tag:noindex
X-PUBLISHED-TTL:PT1H
BEGIN:VTIMEZONE
TZID:Europe/Brussels
BEGIN:DAYLIGHT
TZOFFSETFROM:+0100
TZOFFSETTO:+0200
TZNAME:CEST
DTSTART:20200329T010000
END:DAYLIGHT
BEGIN:STANDARD
TZOFFSETFROM:+0200
TZOFFSETTO:+0100
TZNAME:CET
DTSTART:20201025T010000
END:STANDARD
BEGIN:DAYLIGHT
TZOFFSETFROM:+0100
TZOFFSETTO:+0200
TZNAME:CEST
DTSTART:20210328T010000
END:DAYLIGHT
BEGIN:STANDARD
TZOFFSETFROM:+0200
TZOFFSETTO:+0100
TZNAME:CET
DTSTART:20211031T010000
END:STANDARD
BEGIN:DAYLIGHT
TZOFFSETFROM:+0100
TZOFFSETTO:+0200
TZNAME:CEST
DTSTART:20220327T010000
END:DAYLIGHT
BEGIN:STANDARD
TZOFFSETFROM:+0200
TZOFFSETTO:+0100
TZNAME:CET
DTSTART:20221030T010000
END:STANDARD
END:VTIMEZONE
BEGIN:VEVENT
DTSTART;VALUE=DATE:20210731
DTEND;VALUE=DATE:20210801
DTSTAMP:20260423T010036
CREATED:20210712T045505Z
LAST-MODIFIED:20210712T045505Z
UID:16972-1627689600-1627775999@beer.be
SUMMARY:Not Quite Dead - Misery's First Birthday
DESCRIPTION:BEERS MUSIC & TACOS\nUne première année de misère qui se termine  L'occasion pour nous de vous recevoir au manoir pour exorciser les mauvais sorts et célébrer la fin de la fin du monde. Nous avons traversé le pire grâce à vous\, nous avons survécu avec le shop\, le webshop et votre soutien  On sera content de vous remercier en personne  Pour l'occasion on sortira une nouvelle bière de Foudre assemblée avec plus de 350kg d'abricots  et la TURBO TIPA des familles  Le tout accompagné de TACOS  et mis en musique par Deejay Sonar et les Pogo Bastard (plus...). Cette été\, on ne fait pas un gros évènement au manoir\, on fera ça à Liège à la fin de l'automne pour vous accueillir plus nombreux.
URL:https://beer.be/agenda/not-quite-dead-miserys-first-birthday/
LOCATION:Misery Beer Co.\, Pouhon 22\, Aywaille\, Belgique
CATEGORIES:Brasserie
ATTACH;FMTTYPE=image/jpeg:https://beer.be/wp-content/uploads/2021/07/214874814_2856064411325178_6943247956895062598_n.jpg
END:VEVENT
END:VCALENDAR