BEGIN:VCALENDAR
VERSION:2.0
PRODID:-//Beer.be - ECPv6.15.20//NONSGML v1.0//EN
CALSCALE:GREGORIAN
METHOD:PUBLISH
X-WR-CALNAME:Beer.be
X-ORIGINAL-URL:https://beer.be
X-WR-CALDESC:Évènements pour Beer.be
REFRESH-INTERVAL;VALUE=DURATION:PT1H
X-Robots-Tag:noindex
X-PUBLISHED-TTL:PT1H
BEGIN:VTIMEZONE
TZID:Europe/Brussels
BEGIN:DAYLIGHT
TZOFFSETFROM:+0100
TZOFFSETTO:+0200
TZNAME:CEST
DTSTART:20200329T010000
END:DAYLIGHT
BEGIN:STANDARD
TZOFFSETFROM:+0200
TZOFFSETTO:+0100
TZNAME:CET
DTSTART:20201025T010000
END:STANDARD
BEGIN:DAYLIGHT
TZOFFSETFROM:+0100
TZOFFSETTO:+0200
TZNAME:CEST
DTSTART:20210328T010000
END:DAYLIGHT
BEGIN:STANDARD
TZOFFSETFROM:+0200
TZOFFSETTO:+0100
TZNAME:CET
DTSTART:20211031T010000
END:STANDARD
BEGIN:DAYLIGHT
TZOFFSETFROM:+0100
TZOFFSETTO:+0200
TZNAME:CEST
DTSTART:20220327T010000
END:DAYLIGHT
BEGIN:STANDARD
TZOFFSETFROM:+0200
TZOFFSETTO:+0100
TZNAME:CET
DTSTART:20221030T010000
END:STANDARD
END:VTIMEZONE
BEGIN:VEVENT
DTSTART;VALUE=DATE:20211127
DTEND;VALUE=DATE:20211128
DTSTAMP:20260422T181135
CREATED:20211124T064707Z
LAST-MODIFIED:20211124T064707Z
UID:18321-1637971200-1638057599@beer.be
SUMMARY:Et si on se retrouvait?
DESCRIPTION:Cela fait longtemps que l’on ne s’est plus rassemblé pour boire un bon verre entre amis\, connaissances\, voisins … En tout cas\, pour nous cela nous a semblé long. Pour pallier à ce manque\, nous vous donnons rendez-vous le samedi 27 novembre de 11h à 19h à la brasserie La Botteresse. Ce sera l’occasion pour vous de découvrir notre bière de Noël cuvée 2021 brassée en tirage limité. Nous avons rassemblé des produits locaux et régionaux pour vous aider à compléter vos colis cadeaux de fin d’année. Nous vous proposerons également notre nouveau coffret en bois pratique et réutilisable (la brasserie souhaite s’inscrire dans une démarche zéro déchet dans la mesure du possible). \n\nAlors\, on se voit ce 27 novembre ?\nLes mesures sanitaires à respecter seront celles d’application à la date de nos retrouvailles.\nL’équipe de La Botteresse \nInfos : 0488/21 14 80
URL:https://beer.be/agenda/et-si-on-se-retrouvait/
LOCATION:Brasserie La Botteresse\, Rue Fond Méan 6\, Saint-Georges\, 4470\, Belgique
CATEGORIES:Brasserie
ATTACH;FMTTYPE=image/jpeg:https://beer.be/wp-content/uploads/2021/11/257817850_10158546587452514_6635147108001925282_n.jpg
END:VEVENT
END:VCALENDAR