BEGIN:VCALENDAR
VERSION:2.0
PRODID:-//Beer.be - ECPv6.15.20//NONSGML v1.0//EN
CALSCALE:GREGORIAN
METHOD:PUBLISH
X-ORIGINAL-URL:https://beer.be
X-WR-CALDESC:Évènements pour Beer.be
REFRESH-INTERVAL;VALUE=DURATION:PT1H
X-Robots-Tag:noindex
X-PUBLISHED-TTL:PT1H
BEGIN:VTIMEZONE
TZID:Europe/Brussels
BEGIN:DAYLIGHT
TZOFFSETFROM:+0100
TZOFFSETTO:+0200
TZNAME:CEST
DTSTART:20180325T010000
END:DAYLIGHT
BEGIN:STANDARD
TZOFFSETFROM:+0200
TZOFFSETTO:+0100
TZNAME:CET
DTSTART:20181028T010000
END:STANDARD
BEGIN:DAYLIGHT
TZOFFSETFROM:+0100
TZOFFSETTO:+0200
TZNAME:CEST
DTSTART:20190331T010000
END:DAYLIGHT
BEGIN:STANDARD
TZOFFSETFROM:+0200
TZOFFSETTO:+0100
TZNAME:CET
DTSTART:20191027T010000
END:STANDARD
BEGIN:DAYLIGHT
TZOFFSETFROM:+0100
TZOFFSETTO:+0200
TZNAME:CEST
DTSTART:20200329T010000
END:DAYLIGHT
BEGIN:STANDARD
TZOFFSETFROM:+0200
TZOFFSETTO:+0100
TZNAME:CET
DTSTART:20201025T010000
END:STANDARD
END:VTIMEZONE
BEGIN:VEVENT
DTSTART;VALUE=DATE:20190607
DTEND;VALUE=DATE:20190608
DTSTAMP:20260423T004618
CREATED:20190325T133032Z
LAST-MODIFIED:20190325T133032Z
UID:13612-1559865600-1559951999@beer.be
SUMMARY:Alvinne Vintage Tasting #2
DESCRIPTION:BAR OPEN FOR EVERYONE NEXT TO THE EVENT! After the sold out first edition we're back for another one! 4 of the 10 beers were also served in the fist Vintage Tasting. Tasting: 10 Vintage Alvinne beers \nSubscription is obliged\, you can't take part of the event without having your spot. The bar will be open as well for public next to the tasting. Subscription link: https://www.alvinnesfellowship.be/afterwork-at-deproefloft-events \nVINTAGE BEER LIST\n(1) Undressed 2013 (Foeder BA Oud Bruin\, 6.9%)\n(2) Wild West 2014 (Red Wine BA Flemish Sour Ale\, 6%)\n(3) Kerasus 2014 (Foeder BA Oud Bruin\, Undressed with Cherries\, 6%)\n(4) Kerasus 2016 (Foeder BA Oud Bruin\, Undressed with Cherries\, 6%)\n(5) Wild West Grape 2015 (Red Wine BA Flemish Sour Ale\, 6%)\n(6) Cuvée Freddy 2016 (Red Wine BA Imperial Oud Bruin\, 8%)\n(7) Wild West Barrel 58 2016 (Red Wine BA Flemish Sour Ale\, blend of Wild West & Cuvée Sofie with Sloeberries\, Blueberries and Blackberries\, 6%)\n(8) Black King 2016 (Cognac BA Stout\, 10%)\n(9) Barley King 2016 (Red Wine BA Barley Wine\, 12%)\n(10) Cuvée Sofie 2017 (Red Wine BA Flemish Sour Ale\, 8%)
URL:https://beer.be/agenda/alvinne-vintage-tasting-2/
LOCATION:Brouwerij Alvinne\, 8552 Moen\, Moen\, West-Vlaanderen\, Belgique
CATEGORIES:Dégustation
ATTACH;FMTTYPE=image/jpeg:https://beer.be/wp-content/uploads/2019/03/53408378_2528459854047736_1463787827287293952_n.jpg
END:VEVENT
END:VCALENDAR