BEGIN:VCALENDAR
VERSION:2.0
PRODID:-//Beer.be - ECPv6.15.20//NONSGML v1.0//EN
CALSCALE:GREGORIAN
METHOD:PUBLISH
X-ORIGINAL-URL:https://beer.be
X-WR-CALDESC:Évènements pour Beer.be
REFRESH-INTERVAL;VALUE=DURATION:PT1H
X-Robots-Tag:noindex
X-PUBLISHED-TTL:PT1H
BEGIN:VTIMEZONE
TZID:Europe/Brussels
BEGIN:DAYLIGHT
TZOFFSETFROM:+0100
TZOFFSETTO:+0200
TZNAME:CEST
DTSTART:20190331T010000
END:DAYLIGHT
BEGIN:STANDARD
TZOFFSETFROM:+0200
TZOFFSETTO:+0100
TZNAME:CET
DTSTART:20191027T010000
END:STANDARD
BEGIN:DAYLIGHT
TZOFFSETFROM:+0100
TZOFFSETTO:+0200
TZNAME:CEST
DTSTART:20200329T010000
END:DAYLIGHT
BEGIN:STANDARD
TZOFFSETFROM:+0200
TZOFFSETTO:+0100
TZNAME:CET
DTSTART:20201025T010000
END:STANDARD
BEGIN:DAYLIGHT
TZOFFSETFROM:+0100
TZOFFSETTO:+0200
TZNAME:CEST
DTSTART:20210328T010000
END:DAYLIGHT
BEGIN:STANDARD
TZOFFSETFROM:+0200
TZOFFSETTO:+0100
TZNAME:CET
DTSTART:20211031T010000
END:STANDARD
END:VTIMEZONE
BEGIN:VEVENT
DTSTART;VALUE=DATE:20200111
DTEND;VALUE=DATE:20200112
DTSTAMP:20260423T223745
CREATED:20191230T200007Z
LAST-MODIFIED:20191230T200007Z
UID:14822-1578700800-1578787199@beer.be
SUMMARY:Brasserie Azimut Tap Takeover
DESCRIPTION:Ladies & Gents\, for the first tap takeover of this year we chose Azimut Brasserie\, the best micro brewery from Bordeaux\, to share it's liquid creations with us! Their philosophy is inspired by the words of the architecht Mies van der Rohe : "Less is more". Their brews are simple\, original\, accessible\, bewildering and mostly developped to be drunk in pints!
URL:https://beer.be/agenda/brasserie-azimut-tap-takeover/
LOCATION:Brewdog\, Putterij 20\, Brussels\, 1000\, Belgique
CATEGORIES:Tap Takeover
ATTACH;FMTTYPE=image/jpeg:https://beer.be/wp-content/uploads/2019/12/81474576_1759261424203943_8121926746082639872_n.jpg
END:VEVENT
BEGIN:VEVENT
DTSTART;VALUE=DATE:20200124
DTEND;VALUE=DATE:20200125
DTSTAMP:20260423T223745
CREATED:20200115T091639Z
LAST-MODIFIED:20200115T091639Z
UID:14920-1579824000-1579910399@beer.be
SUMMARY:Brewdog re-opening Party
DESCRIPTION:The DOG will be back more stylish\, bigger\, badder and bolder to celebrate our refurbishment we will offer one year of beer to one of the first hundred customer through the door from 4pm. Be here early to be in the prize draw!
URL:https://beer.be/agenda/brewdog-re-opening-party/
LOCATION:Brewdog\, Putterij 20\, Brussels\, 1000\, Belgique
CATEGORIES:Autre
ATTACH;FMTTYPE=image/jpeg:https://beer.be/wp-content/uploads/2020/01/82138007_1777674792362606_8352180642900869120_o.jpg
END:VEVENT
END:VCALENDAR