BEGIN:VCALENDAR
VERSION:2.0
PRODID:-//Beer.be - ECPv6.15.20//NONSGML v1.0//EN
CALSCALE:GREGORIAN
METHOD:PUBLISH
X-ORIGINAL-URL:https://beer.be
X-WR-CALDESC:Évènements pour Beer.be
REFRESH-INTERVAL;VALUE=DURATION:PT1H
X-Robots-Tag:noindex
X-PUBLISHED-TTL:PT1H
BEGIN:VTIMEZONE
TZID:Europe/Brussels
BEGIN:DAYLIGHT
TZOFFSETFROM:+0100
TZOFFSETTO:+0200
TZNAME:CEST
DTSTART:20180325T010000
END:DAYLIGHT
BEGIN:STANDARD
TZOFFSETFROM:+0200
TZOFFSETTO:+0100
TZNAME:CET
DTSTART:20181028T010000
END:STANDARD
BEGIN:DAYLIGHT
TZOFFSETFROM:+0100
TZOFFSETTO:+0200
TZNAME:CEST
DTSTART:20190331T010000
END:DAYLIGHT
BEGIN:STANDARD
TZOFFSETFROM:+0200
TZOFFSETTO:+0100
TZNAME:CET
DTSTART:20191027T010000
END:STANDARD
BEGIN:DAYLIGHT
TZOFFSETFROM:+0100
TZOFFSETTO:+0200
TZNAME:CEST
DTSTART:20200329T010000
END:DAYLIGHT
BEGIN:STANDARD
TZOFFSETFROM:+0200
TZOFFSETTO:+0100
TZNAME:CET
DTSTART:20201025T010000
END:STANDARD
END:VTIMEZONE
BEGIN:VEVENT
DTSTART;VALUE=DATE:20190404
DTEND;VALUE=DATE:20190405
DTSTAMP:20260424T125700
CREATED:20190325T132328Z
LAST-MODIFIED:20190325T132328Z
UID:13605-1554336000-1554422399@beer.be
SUMMARY:BBP // Vernissage Randos bière
DESCRIPTION:Autour d'un verre (ou plusieurs)\, découvrez le livre\, l'origine du projet et son auteure\, Pauline Moulin connue aussi sous le nom Madame Bougeotte ! Un très chouette concept : 40 randonnées réparties sur toute la Belgique et accessibles à tous\, aux amateurs comme aux fous de randos. Immanquablement\, chaque balade se termine par une brasserie\, une abbaye ou occasionnellement par un bar ?. \n? AU PROGRAMME\n- Une dégustation offerte au premier 50 inscrits ! Inscrivez vous sur : https://www.weezevent.com/vernissage-rendos-bieres\n- Speech et rencontre de l'auteure\n- Vidéo de présentation du guide\n- Vente et dédicace \nPlus d'infos sur le bouquin : https://madamebougeotte.com/regard-sur-le-monde/randos-biere-belgique-livre/
URL:https://beer.be/agenda/bbp-vernissage-randos-biere/
LOCATION:Brussels Beer Project Dansaert\, 188 rue Antoine Dansaert\, Bruxelles\, 1000\, Belgique
CATEGORIES:Autre
ATTACH;FMTTYPE=image/jpeg:https://beer.be/wp-content/uploads/2019/03/53639381_613525109089105_1732060525501612032_o.jpg
END:VEVENT
BEGIN:VEVENT
DTSTART;VALUE=DATE:20190406
DTEND;VALUE=DATE:20190407
DTSTAMP:20260424T125700
CREATED:20190318T130741Z
LAST-MODIFIED:20190318T130741Z
UID:13568-1554508800-1554595199@beer.be
SUMMARY:They are FIVE!
DESCRIPTION:Anspach & Hobday just turned FIVE this year! It's our great pleasure to celebrate this 5th birthday at GIST! We will tap their 5 favorite beers they re-brewed for the occasion:\n- The Three Treads - REAL CASK!\n- The Patersbier - TAP\n- The EEEPA - REAL CASK!\n- The Dry Hopped Blonde - TAP\n- The Baltic Porter - TAP
URL:https://beer.be/agenda/they-are-five/
CATEGORIES:Tap Takeover
ATTACH;FMTTYPE=image/jpeg:https://beer.be/wp-content/uploads/2019/03/54514402_622429204864653_2969754428149596160_n.jpg
END:VEVENT
BEGIN:VEVENT
DTSTART;VALUE=DATE:20190411
DTEND;VALUE=DATE:20190412
DTSTAMP:20260424T125700
CREATED:20190405T114402Z
LAST-MODIFIED:20190405T114402Z
UID:13706-1554940800-1555027199@beer.be
SUMMARY:Beer of the month // BBP X Le motel collab
DESCRIPTION:We're really proud to release this exceptional beer in collab with Le Motel!! We dug into his musical inspiration of the indigenous people of South American and the Caribbean. Guava derives from the Arawak word "Guayabo" and balances out this sour beer together with the hops for tropical and citrusy notes on a base of refreshing acidity. Low in alcohol\, very drinkable and with a nice body\, the guava matches really well with sourness\, giving an extra sour layer of from the fruit itself\, also giving it some sweet notes and tropicality.
URL:https://beer.be/agenda/beer-of-the-month-bbp-x-le-motel-collab/
LOCATION:Brussels Beer Project Dansaert\, 188 rue Antoine Dansaert\, Bruxelles\, 1000\, Belgique
CATEGORIES:Brasserie
ATTACH;FMTTYPE=image/jpeg:https://beer.be/wp-content/uploads/2019/04/56214321_623981134710169_2979783619167387648_o-scaled.jpg
END:VEVENT
BEGIN:VEVENT
DTSTART;VALUE=DATE:20190419
DTEND;VALUE=DATE:20190420
DTSTAMP:20260424T125700
CREATED:20190403T123039Z
LAST-MODIFIED:20190403T123039Z
UID:13689-1555632000-1555718399@beer.be
SUMMARY:April release party & Suske's birthday
DESCRIPTION:Ce mois-ci une seule et unique nouvelle bière à présenter\, mais laquelle... Pour célébrer son anniversaire\, notre cher Suske vous a brassé une bière rocambolesque\, qui risque de faire quelques émules. Double IPA cryo hops mosaic citra ekuanot fermentée avec du fruit de la passion. Une bombe de houblon et de fruits à 8.5%. La bière sortira le 19 avril\, jour précis de son anniversaire. On vous invite à venir fêter ça avec nous (attention ne prévoyez rien le lendemain matin). Résumons : 19 avril\, DIPA\, rock n roll et Suske le millionaire prêt à lâcher les billets. Il connait ses limites\, c'est pourquoi il va au delà.
URL:https://beer.be/agenda/april-release-party-suskes-birthday/
LOCATION:Nanobrasserie de l'Ermitage\, 28 rue Lambert Crickx\, Bruxelles\, 1070\, Belgique
CATEGORIES:Brasserie
ATTACH;FMTTYPE=image/jpeg:https://beer.be/wp-content/uploads/2019/04/54520044_1901615346609478_7136518084235362304_o.jpg
END:VEVENT
BEGIN:VEVENT
DTSTART;VALUE=DATE:20190426
DTEND;VALUE=DATE:20190427
DTSTAMP:20260424T125700
CREATED:20190403T124250Z
LAST-MODIFIED:20190403T124250Z
UID:13699-1556236800-1556323199@beer.be
SUMMARY:Barrel Aged night Fever
DESCRIPTION:As you may have heard\, our Barrel-Aged beers are really valuable to us\, we're proud of them! After more than 3 years cherishing our babies\, we thought it was about time to share a few of them with you! Come to Dansaert to enjoy these very limited editions and have a chat with David and Dimitri\, our Barrel-Aged magicians!
URL:https://beer.be/agenda/barrel-aged-night-fever/
LOCATION:Brussels Beer Project Dansaert\, 188 rue Antoine Dansaert\, Bruxelles\, 1000\, Belgique
CATEGORIES:Brasserie
ATTACH;FMTTYPE=image/jpeg:https://beer.be/wp-content/uploads/2019/04/55901929_623978594710423_9038265521992105984_o.jpg
END:VEVENT
END:VCALENDAR