BEGIN:VCALENDAR
VERSION:2.0
PRODID:-//Beer.be - ECPv6.15.20//NONSGML v1.0//EN
CALSCALE:GREGORIAN
METHOD:PUBLISH
X-WR-CALNAME:Beer.be
X-ORIGINAL-URL:https://beer.be
X-WR-CALDESC:Évènements pour Beer.be
REFRESH-INTERVAL;VALUE=DURATION:PT1H
X-Robots-Tag:noindex
X-PUBLISHED-TTL:PT1H
BEGIN:VTIMEZONE
TZID:Europe/Brussels
BEGIN:DAYLIGHT
TZOFFSETFROM:+0100
TZOFFSETTO:+0200
TZNAME:CEST
DTSTART:20180325T010000
END:DAYLIGHT
BEGIN:STANDARD
TZOFFSETFROM:+0200
TZOFFSETTO:+0100
TZNAME:CET
DTSTART:20181028T010000
END:STANDARD
BEGIN:DAYLIGHT
TZOFFSETFROM:+0100
TZOFFSETTO:+0200
TZNAME:CEST
DTSTART:20190331T010000
END:DAYLIGHT
BEGIN:STANDARD
TZOFFSETFROM:+0200
TZOFFSETTO:+0100
TZNAME:CET
DTSTART:20191027T010000
END:STANDARD
BEGIN:DAYLIGHT
TZOFFSETFROM:+0100
TZOFFSETTO:+0200
TZNAME:CEST
DTSTART:20200329T010000
END:DAYLIGHT
BEGIN:STANDARD
TZOFFSETFROM:+0200
TZOFFSETTO:+0100
TZNAME:CET
DTSTART:20201025T010000
END:STANDARD
END:VTIMEZONE
BEGIN:VEVENT
DTSTART;VALUE=DATE:20190707
DTEND;VALUE=DATE:20190708
DTSTAMP:20260424T084414
CREATED:20190705T133801Z
LAST-MODIFIED:20190705T133801Z
UID:14073-1562457600-1562543999@beer.be
SUMMARY:Grand départ\, petite ouverture du kiosque "en stoemelings"
DESCRIPTION:Mesdames & Messieurs\, Dames & Heren\, dimanche\, Le Tour - Brussels Grand Départ 2019 passera au bois de la cambre à 14h30! C'est donc avec grande joie que nous vous invitons à découvrir Le Kiosque ! 🏆🚴🍻🏆🚴🍻🏆🚴🍻 \nNiché in't camer bos\, la guingette proposera exclusivement nos bières aan't vat! Bonne ambiance\, petite restauration et bien d'autres choses à découvrir tout au long de l'été. N'hésitez pas à ramener vos frisbees\, mölky et autre! Venez donc découvrir le nouveau hotspot de l'été en primeur ce Dimanche! 🏆🚴🍻🏆🚴🍻🏆🚴🍻
URL:https://beer.be/agenda/grand-depart-petite-ouverture-du-kiosque-en-stoemelings/
LOCATION:Le Kioske\, Avenue des Genêts\, Bruxelles\, 1000\, Belgique
CATEGORIES:Ouverture
ATTACH;FMTTYPE=image/jpeg:https://beer.be/wp-content/uploads/2019/07/65872561_2067887579984359_2780545059878076416_n.jpg
END:VEVENT
BEGIN:VEVENT
DTSTART;VALUE=DATE:20190723
DTEND;VALUE=DATE:20190724
DTSTAMP:20260424T084414
CREATED:20190716T134852Z
LAST-MODIFIED:20190716T134852Z
UID:14094-1563840000-1563926399@beer.be
SUMMARY:Rocket Brewing Tap Takeover
DESCRIPTION:We are honoured to welcome an amazing selection of beers from Rocket Brewing Company. This small craft brewery is located in Malmö\, Sweden and its setup is low-tech therefore lots of the production is very "hands on"\, and local ingredients are used as much as possible. Although their mythology is quite interstellar we can assure you that all their brewing is conducted on this planet.\nCome taste these intergalactic Man Made Beers. \nTaplist:\n1. Pulsar - Berliner Weisse w/ blackcurrant 3.4%\n2. Nova - India Session Ale 4.5%\n3. Expansion Immense - Imperial Stout 10.5%\n4. Plasma - Hazy IPA 7.1%\n5. Lost Heroes - Porter 5.7%\n6. The King in Yellow - Pale Ale dry hopped with Citra 4.1%\n7. King's Dead - Cranberry Rye Saison 6.6% ft. Six°North\n8. Standard Model - West Coast IPA 6.4%
URL:https://beer.be/agenda/rocket-brewing-tap-takeover/
LOCATION:Brewdog\, Putterij 20\, Brussels\, 1000\, Belgique
CATEGORIES:Tap Takeover
ATTACH;FMTTYPE=image/jpeg:https://beer.be/wp-content/uploads/2019/07/66833175_1591839540946133_1159212454874447872_o.jpg
END:VEVENT
END:VCALENDAR