BEGIN:VCALENDAR
VERSION:2.0
PRODID:-//Beer.be - ECPv6.15.20//NONSGML v1.0//EN
CALSCALE:GREGORIAN
METHOD:PUBLISH
X-WR-CALNAME:Beer.be
X-ORIGINAL-URL:https://beer.be
X-WR-CALDESC:Évènements pour Beer.be
REFRESH-INTERVAL;VALUE=DURATION:PT1H
X-Robots-Tag:noindex
X-PUBLISHED-TTL:PT1H
BEGIN:VTIMEZONE
TZID:Europe/Brussels
BEGIN:DAYLIGHT
TZOFFSETFROM:+0100
TZOFFSETTO:+0200
TZNAME:CEST
DTSTART:20180325T010000
END:DAYLIGHT
BEGIN:STANDARD
TZOFFSETFROM:+0200
TZOFFSETTO:+0100
TZNAME:CET
DTSTART:20181028T010000
END:STANDARD
BEGIN:DAYLIGHT
TZOFFSETFROM:+0100
TZOFFSETTO:+0200
TZNAME:CEST
DTSTART:20190331T010000
END:DAYLIGHT
BEGIN:STANDARD
TZOFFSETFROM:+0200
TZOFFSETTO:+0100
TZNAME:CET
DTSTART:20191027T010000
END:STANDARD
BEGIN:DAYLIGHT
TZOFFSETFROM:+0100
TZOFFSETTO:+0200
TZNAME:CEST
DTSTART:20200329T010000
END:DAYLIGHT
BEGIN:STANDARD
TZOFFSETFROM:+0200
TZOFFSETTO:+0100
TZNAME:CET
DTSTART:20201025T010000
END:STANDARD
END:VTIMEZONE
BEGIN:VEVENT
DTSTART;VALUE=DATE:20190822
DTEND;VALUE=DATE:20190823
DTSTAMP:20260424T072544
CREATED:20190817T103355Z
LAST-MODIFIED:20190817T103355Z
UID:14177-1566432000-1566518399@beer.be
SUMMARY:The Bruery Tap Take Over\, meet Keith from Bruery Terreux
DESCRIPTION:Founded in 2008 by Patrick Rue\, B"Rue"ry was the perfect choice when it came to name his brewery. Coming straight from California\, the Bruery is joining us for their first TTO in the country that inspired them so much since day one. The Bruery is world famous by specializing in barrel aging and experimental ales. Bruery Terreux is their oak-aging sour & wild beers project. Keith Pumilia\, production manager from Bruery Terreux will be from the party! Come to meet him\, and feel free to have a talk or ask every question you have in mind! We'll have 22 beers available on keg\, and a couple of big whales in bottles\, sometimes super limited. We'll make a rotation of the kegs in order to offer the 22 beers on the same day!
URL:https://beer.be/agenda/the-bruery-tap-take-over-meet-keith-from-bruery-terreux/
LOCATION:Beergium Bar\, 1227 Chaussée de Waterloo\, Bruxelles\, 1180\, Belgique
CATEGORIES:Tap Takeover
ATTACH;FMTTYPE=image/jpeg:https://beer.be/wp-content/uploads/2019/08/67735089_2424635487773561_3618211347868680192_o.jpg
END:VEVENT
BEGIN:VEVENT
DTSTART;VALUE=DATE:20190824
DTEND;VALUE=DATE:20190826
DTSTAMP:20260424T072544
CREATED:20190331T102740Z
LAST-MODIFIED:20190331T102740Z
UID:13653-1566604800-1566777599@beer.be
SUMMARY:BXLBeerFest 2019
DESCRIPTION:60 breweries from 10 countries pouring only craft\, honest beers! More than 300 beers to taste during 2 days. Come and meet the brewers. Workshops and food trucks. Infos&tickets --> bxlbeerfest.com
URL:https://beer.be/agenda/bxlbeerfest-2019/
LOCATION:Tour & Taxis\, Avenue du Port 86C\, Bruxelles\, 1000\, Belgique
CATEGORIES:Festival
ATTACH;FMTTYPE=image/png:https://beer.be/wp-content/uploads/2019/03/55510757_2057966477653967_7114752499944259584_n.png
END:VEVENT
END:VCALENDAR