BEGIN:VCALENDAR
VERSION:2.0
PRODID:-//Beer.be - ECPv6.15.20//NONSGML v1.0//EN
CALSCALE:GREGORIAN
METHOD:PUBLISH
X-WR-CALNAME:Beer.be
X-ORIGINAL-URL:https://beer.be
X-WR-CALDESC:Évènements pour Beer.be
REFRESH-INTERVAL;VALUE=DURATION:PT1H
X-Robots-Tag:noindex
X-PUBLISHED-TTL:PT1H
BEGIN:VTIMEZONE
TZID:Europe/Brussels
BEGIN:DAYLIGHT
TZOFFSETFROM:+0100
TZOFFSETTO:+0200
TZNAME:CEST
DTSTART:20180325T010000
END:DAYLIGHT
BEGIN:STANDARD
TZOFFSETFROM:+0200
TZOFFSETTO:+0100
TZNAME:CET
DTSTART:20181028T010000
END:STANDARD
BEGIN:DAYLIGHT
TZOFFSETFROM:+0100
TZOFFSETTO:+0200
TZNAME:CEST
DTSTART:20190331T010000
END:DAYLIGHT
BEGIN:STANDARD
TZOFFSETFROM:+0200
TZOFFSETTO:+0100
TZNAME:CET
DTSTART:20191027T010000
END:STANDARD
BEGIN:DAYLIGHT
TZOFFSETFROM:+0100
TZOFFSETTO:+0200
TZNAME:CEST
DTSTART:20200329T010000
END:DAYLIGHT
BEGIN:STANDARD
TZOFFSETFROM:+0200
TZOFFSETTO:+0100
TZNAME:CET
DTSTART:20201025T010000
END:STANDARD
END:VTIMEZONE
BEGIN:VEVENT
DTSTART;VALUE=DATE:20191203
DTEND;VALUE=DATE:20191204
DTSTAMP:20260424T021315
CREATED:20191127T143440Z
LAST-MODIFIED:20191127T143440Z
UID:14686-1575331200-1575417599@beer.be
SUMMARY:Bols & Bières
DESCRIPTION:La brigade du chef Dario et l'équipe du Beer Project s'associent pour une soirée alléchante qui enchantera vos papilles. Nous avons en effet le plaisir d'inviter le Chef Dario Ruffa aux commandes des cuisines de SAN-Bruxelles\, pour un dîner gastronomique 5 services en pairing avec nos bières le mardi 3 décembre à 19h30 à la brasserie. Le chef Dario propose une gastronomie moderne et raffinée qui puise ses origines dans ses nombreux voyages eurasiens: un véritable tour du monde culinaire basé sur des produits de qualité\, des saveurs originales et une touche personnelle qui donne envie d’escapades. San-Bruxelles\, est une des adresses de Sang Hoon\, le chef doublement étoilé de l'Air du Temps\, où il partage sa vision plus accessible de la gastronomie avec un concept plus simple autour du bol et de la cuillère pour un repas chaleureux\, célébrant les influences culinaires internationales.
URL:https://beer.be/agenda/bols-bieres-2/
LOCATION:Brussels Beer Project Dansaert\, 188 rue Antoine Dansaert\, Bruxelles\, 1000\, Belgique
CATEGORIES:Dégustation
ATTACH;FMTTYPE=image/png:https://beer.be/wp-content/uploads/2019/11/8912000005693004_zc_v2_bol_.png
END:VEVENT
BEGIN:VEVENT
DTSTART;VALUE=DATE:20191211
DTEND;VALUE=DATE:20191213
DTSTAMP:20260424T021315
CREATED:20191122T090851Z
LAST-MODIFIED:20191122T090851Z
UID:14645-1576022400-1576195199@beer.be
SUMMARY:Hoppy Road Tap Takeover
DESCRIPTION:They come from Lorraine in France and they've been amazing us with their brews since 2017! One of the public's favourite French breweries is honouring us with it's presence on our taps just before Christmas! Taplist to be released very soon\, so STAY TUNED! We can't wait to have Hoppy Road over so bring thirst\, and help us drink these kegs dry!
URL:https://beer.be/agenda/hoppy-road-tap-takeover/
LOCATION:Brewdog\, Putterij 20\, Brussels\, 1000\, Belgique
CATEGORIES:Tap Takeover
ATTACH;FMTTYPE=image/jpeg:https://beer.be/wp-content/uploads/2019/11/75642442_1712786498851436_3801381146013466624_n.jpg
END:VEVENT
BEGIN:VEVENT
DTSTART;VALUE=DATE:20191220
DTEND;VALUE=DATE:20191221
DTSTAMP:20260424T021315
CREATED:20191210T154606Z
LAST-MODIFIED:20191210T154606Z
UID:14759-1576800000-1576886399@beer.be
SUMMARY:Vacances de Noël
DESCRIPTION:Dernier jour d'ouverture avant les vacances de Noël. Nous avons décidé de boire une verre avec vous. Pour qui viendra pour le déjeuner ou le dîner\, les vins seront également combinés avec de la nourriture. Pour ceux qui viennent boire\, il y aura plus de bouteilles ouvertes pour donner la possibilité d'essayer plus de vins possible. Il y aura des verres à déguster et des pour boire. Petit finger food sera également préparées dans l'après-midi. Nous vous attendons pour un verre ensemble!
URL:https://beer.be/agenda/vacances-de-noel/
LOCATION:La Tana\, 10 rue de l'Enseignement\, Bruxelles\, 1000\, Belgique
CATEGORIES:Autre
ATTACH;FMTTYPE=image/jpeg:https://beer.be/wp-content/uploads/2019/12/78552794_1250354915158090_7026974518149120000_n.jpg
END:VEVENT
END:VCALENDAR