BEGIN:VCALENDAR
VERSION:2.0
PRODID:-//Beer.be - ECPv6.15.20//NONSGML v1.0//EN
CALSCALE:GREGORIAN
METHOD:PUBLISH
X-WR-CALNAME:Beer.be
X-ORIGINAL-URL:https://beer.be
X-WR-CALDESC:Évènements pour Beer.be
REFRESH-INTERVAL;VALUE=DURATION:PT1H
X-Robots-Tag:noindex
X-PUBLISHED-TTL:PT1H
BEGIN:VTIMEZONE
TZID:Europe/Brussels
BEGIN:DAYLIGHT
TZOFFSETFROM:+0100
TZOFFSETTO:+0200
TZNAME:CEST
DTSTART:20190331T010000
END:DAYLIGHT
BEGIN:STANDARD
TZOFFSETFROM:+0200
TZOFFSETTO:+0100
TZNAME:CET
DTSTART:20191027T010000
END:STANDARD
BEGIN:DAYLIGHT
TZOFFSETFROM:+0100
TZOFFSETTO:+0200
TZNAME:CEST
DTSTART:20200329T010000
END:DAYLIGHT
BEGIN:STANDARD
TZOFFSETFROM:+0200
TZOFFSETTO:+0100
TZNAME:CET
DTSTART:20201025T010000
END:STANDARD
BEGIN:DAYLIGHT
TZOFFSETFROM:+0100
TZOFFSETTO:+0200
TZNAME:CEST
DTSTART:20210328T010000
END:DAYLIGHT
BEGIN:STANDARD
TZOFFSETFROM:+0200
TZOFFSETTO:+0100
TZNAME:CET
DTSTART:20211031T010000
END:STANDARD
END:VTIMEZONE
BEGIN:VEVENT
DTSTART;VALUE=DATE:20200202
DTEND;VALUE=DATE:20200203
DTSTAMP:20260423T233017
CREATED:20200130T190333Z
LAST-MODIFIED:20200130T190333Z
UID:14999-1580601600-1580687999@beer.be
SUMMARY:EFP Bottle Club #4: Women!
DESCRIPTION:You have some incredible bottles\, and don't know who you could share these with? One of your bottles is just too big for you\, and you don't want to waste half of it? You are looking for some people to taste how amazing this beer from your collection is? We provide you with the perfect occasion for that: our next bottle club! \nFor this fourth EFP Bottle Club\, we continue once again with a theme\, and this month it is ‘women’. Beers brewed by women\, dedicated to a woman\, with a woman's name\, or a lady on the label... anything goes! It should go without saying\, that even this time\, men are are allowed to attend the Bottle Club gathering as well! 😉 Bring a 66cl or 75cl bottle (or 2 x 33cl) from your collection\, present it to the other attendees\, and share the love! This club is\, of course\, as usual\, free to attend\, and everybody is welcome. Don't hesitate to invite your friends or family. Save the date\, and see you soon for some new beery adventures! 😉
URL:https://beer.be/agenda/efp-bottle-club-4-women/
LOCATION:Brewdog\, Putterij 20\, Brussels\, 1000\, Belgique
CATEGORIES:Autre
ATTACH;FMTTYPE=image/jpeg:https://beer.be/wp-content/uploads/2020/01/81181262_1767260533404032_4623544530505826304_n.jpg
END:VEVENT
BEGIN:VEVENT
DTSTART;VALUE=DATE:20200227
DTEND;VALUE=DATE:20200228
DTSTAMP:20260423T233017
CREATED:20200224T101156Z
LAST-MODIFIED:20200224T101156Z
UID:15189-1582761600-1582847999@beer.be
SUMMARY:Launching Future Proof
DESCRIPTION:We are proud to present FUTURE PROOF the latest BrewDog collab with Modern Times Beer :\nCalifornia docks in Aberdeen for this West Coast Unification. A 6.2% all American IPA flexing its hoppy muscles. Massive tropical fruit aroma disembarks. Mango stands tall\, front and centre with notes of citrus\, lychee\, and resinous pine. All resting on a toasted malt base. And an assertive bitter finish brings us back to the future. Futureproof - Beer for tomorrow (and the day after that).
URL:https://beer.be/agenda/launching-future-proof/
LOCATION:Brewdog\, Putterij 20\, Brussels\, 1000\, Belgique
CATEGORIES:Autre
ATTACH;FMTTYPE=image/jpeg:https://beer.be/wp-content/uploads/2020/02/86477251_1812167482246670_7108088733630464000_o.jpg
END:VEVENT
END:VCALENDAR