BEGIN:VCALENDAR
VERSION:2.0
PRODID:-//Beer.be - ECPv6.15.20//NONSGML v1.0//EN
CALSCALE:GREGORIAN
METHOD:PUBLISH
X-WR-CALNAME:Beer.be
X-ORIGINAL-URL:https://beer.be
X-WR-CALDESC:Évènements pour Beer.be
REFRESH-INTERVAL;VALUE=DURATION:PT1H
X-Robots-Tag:noindex
X-PUBLISHED-TTL:PT1H
BEGIN:VTIMEZONE
TZID:Europe/Brussels
BEGIN:DAYLIGHT
TZOFFSETFROM:+0100
TZOFFSETTO:+0200
TZNAME:CEST
DTSTART:20190331T010000
END:DAYLIGHT
BEGIN:STANDARD
TZOFFSETFROM:+0200
TZOFFSETTO:+0100
TZNAME:CET
DTSTART:20191027T010000
END:STANDARD
BEGIN:DAYLIGHT
TZOFFSETFROM:+0100
TZOFFSETTO:+0200
TZNAME:CEST
DTSTART:20200329T010000
END:DAYLIGHT
BEGIN:STANDARD
TZOFFSETFROM:+0200
TZOFFSETTO:+0100
TZNAME:CET
DTSTART:20201025T010000
END:STANDARD
BEGIN:DAYLIGHT
TZOFFSETFROM:+0100
TZOFFSETTO:+0200
TZNAME:CEST
DTSTART:20210328T010000
END:DAYLIGHT
BEGIN:STANDARD
TZOFFSETFROM:+0200
TZOFFSETTO:+0100
TZNAME:CET
DTSTART:20211031T010000
END:STANDARD
END:VTIMEZONE
BEGIN:VEVENT
DTSTART;VALUE=DATE:20200314
DTEND;VALUE=DATE:20200315
DTSTAMP:20260423T215358
CREATED:20200224T101413Z
LAST-MODIFIED:20200224T101413Z
UID:15193-1584144000-1584230399@beer.be
SUMMARY:Brassin Public - Open brouwdag - Public brewing session
DESCRIPTION:Nous organisons un brassin public deux samedis par an\, en novembre et en mars. Le second de la saison de brassage 2019/2020 se tiendra le samedi 14 mars 2020. \n🕛 Programme :\nde 07h à 09h00 Opération de brassage\nde 09h00 à 13h00 Filtration et houblonnage\nde 12h00 à 15h00 Cuisson du moût\nvers 15h30 Pompage du moût sur le bac refroidissoir\nde 07h à 12h00 Nettoyage des fûts à l’ancienne \nVisites guidées en français toutes les demi-heures à partir de 7h10 et jusqu’à 16h10.\nTICKETS : https://www.billetweb.fr/samedi-14-mars-2020-brassin-public-chez-cantillon&language=fr
URL:https://beer.be/agenda/brassin-public-open-brouwdag-public-brewing-session-2/
LOCATION:Cantillon\, rue Gheude\, 56\, Bruxelles\, 1070\, Belgique
CATEGORIES:Brasserie
ATTACH;FMTTYPE=image/jpeg:https://beer.be/wp-content/uploads/2020/02/87358956_3002344856484137_3957267031266426880_o-1.jpg
END:VEVENT
END:VCALENDAR