BEGIN:VCALENDAR
VERSION:2.0
PRODID:-//Beer.be - ECPv6.15.20//NONSGML v1.0//EN
CALSCALE:GREGORIAN
METHOD:PUBLISH
X-WR-CALNAME:Beer.be
X-ORIGINAL-URL:https://beer.be
X-WR-CALDESC:Évènements pour Beer.be
REFRESH-INTERVAL;VALUE=DURATION:PT1H
X-Robots-Tag:noindex
X-PUBLISHED-TTL:PT1H
BEGIN:VTIMEZONE
TZID:Europe/Brussels
BEGIN:DAYLIGHT
TZOFFSETFROM:+0100
TZOFFSETTO:+0200
TZNAME:CEST
DTSTART:20210328T010000
END:DAYLIGHT
BEGIN:STANDARD
TZOFFSETFROM:+0200
TZOFFSETTO:+0100
TZNAME:CET
DTSTART:20211031T010000
END:STANDARD
BEGIN:DAYLIGHT
TZOFFSETFROM:+0100
TZOFFSETTO:+0200
TZNAME:CEST
DTSTART:20220327T010000
END:DAYLIGHT
BEGIN:STANDARD
TZOFFSETFROM:+0200
TZOFFSETTO:+0100
TZNAME:CET
DTSTART:20221030T010000
END:STANDARD
BEGIN:DAYLIGHT
TZOFFSETFROM:+0100
TZOFFSETTO:+0200
TZNAME:CEST
DTSTART:20230326T010000
END:DAYLIGHT
BEGIN:STANDARD
TZOFFSETFROM:+0200
TZOFFSETTO:+0100
TZNAME:CET
DTSTART:20231029T010000
END:STANDARD
END:VTIMEZONE
BEGIN:VEVENT
DTSTART;VALUE=DATE:20220827
DTEND;VALUE=DATE:20220829
DTSTAMP:20260422T005221
CREATED:20211002T091548Z
LAST-MODIFIED:20211002T091548Z
UID:17820-1661558400-1661731199@beer.be
SUMMARY:BXLBeerFest 2022
DESCRIPTION:Not just another beer festival... After 2 postponed editions we're ready to kick out the jams\, to set up the kegs\, to serve you fabulous beer from fabulous breweries in the best conditions! Expect around 60 breweries from BXL\, Belgium\, Europe and beyond with a wide variety of artisan beers\, tasty food trucks\, intriguing talks&tastings\, culinary treats & plenty of good vibes! Tickets in presale are 5€ (10€ at the entrance) or 9€ for a combi ticket for both days! Tokens -->18€ for 20 tokens(20€ at the festival). See you all there!
URL:https://beer.be/agenda/bxlbeerfest-2022/
LOCATION:Tour & Taxis\, Avenue du Port 86C\, Bruxelles\, 1000\, Belgique
CATEGORIES:Festival
ATTACH;FMTTYPE=image/jpeg:https://beer.be/wp-content/uploads/2021/10/243906707_4274113056039287_2597122307127281112_n.jpg
END:VEVENT
END:VCALENDAR