BEGIN:VCALENDAR
VERSION:2.0
PRODID:-//Beer.be - ECPv6.15.20//NONSGML v1.0//EN
CALSCALE:GREGORIAN
METHOD:PUBLISH
X-ORIGINAL-URL:https://beer.be
X-WR-CALDESC:Évènements pour Beer.be
REFRESH-INTERVAL;VALUE=DURATION:PT1H
X-Robots-Tag:noindex
X-PUBLISHED-TTL:PT1H
BEGIN:VTIMEZONE
TZID:Europe/Brussels
BEGIN:DAYLIGHT
TZOFFSETFROM:+0100
TZOFFSETTO:+0200
TZNAME:CEST
DTSTART:20190331T010000
END:DAYLIGHT
BEGIN:STANDARD
TZOFFSETFROM:+0200
TZOFFSETTO:+0100
TZNAME:CET
DTSTART:20191027T010000
END:STANDARD
BEGIN:DAYLIGHT
TZOFFSETFROM:+0100
TZOFFSETTO:+0200
TZNAME:CEST
DTSTART:20200329T010000
END:DAYLIGHT
BEGIN:STANDARD
TZOFFSETFROM:+0200
TZOFFSETTO:+0100
TZNAME:CET
DTSTART:20201025T010000
END:STANDARD
BEGIN:DAYLIGHT
TZOFFSETFROM:+0100
TZOFFSETTO:+0200
TZNAME:CEST
DTSTART:20210328T010000
END:DAYLIGHT
BEGIN:STANDARD
TZOFFSETFROM:+0200
TZOFFSETTO:+0100
TZNAME:CET
DTSTART:20211031T010000
END:STANDARD
END:VTIMEZONE
BEGIN:VEVENT
DTSTART;VALUE=DATE:20200827
DTEND;VALUE=DATE:20200828
DTSTAMP:20260424T012308
CREATED:20200820T103057Z
LAST-MODIFIED:20200820T103057Z
UID:15567-1598486400-1598572799@beer.be
SUMMARY:Brewer's Delight #31 : Cantillon
DESCRIPTION:* 9 beers on tap\n* Much much pleasure\n* A delicious Cantillon twisted 3-course menu by chef Manu' \n38€ (very limited\, upon reservation only : barboteurbierotheque@gmail.com) \n--MENU--\nStarters: Mussels croquettes à la Gueuze Cantillon celery and coriander mayo\nMain: Pork carbonnades à la bruxelloise\, Kriek reduction sauce and Kriek pickled onions\nDesert : tarte au sucre\, fresh strawberry\, Vigneronne reduction sauce
URL:https://beer.be/agenda/brewers-delight-31-cantillon/
LOCATION:Barboteur\, 23 avenue Louis Bertrand\, Bruxelles\, Schaerbeek\, 1030\, Belgique
CATEGORIES:Barboteur
ATTACH;FMTTYPE=image/jpeg:https://beer.be/wp-content/uploads/2020/08/117876707_1570462146469157_6450090175369834142_o.jpg
END:VEVENT
END:VCALENDAR