BEGIN:VCALENDAR
VERSION:2.0
PRODID:-//Beer.be - ECPv6.15.20//NONSGML v1.0//EN
CALSCALE:GREGORIAN
METHOD:PUBLISH
X-ORIGINAL-URL:https://beer.be
X-WR-CALDESC:Évènements pour Beer.be
REFRESH-INTERVAL;VALUE=DURATION:PT1H
X-Robots-Tag:noindex
X-PUBLISHED-TTL:PT1H
BEGIN:VTIMEZONE
TZID:Europe/Brussels
BEGIN:DAYLIGHT
TZOFFSETFROM:+0100
TZOFFSETTO:+0200
TZNAME:CEST
DTSTART:20200329T010000
END:DAYLIGHT
BEGIN:STANDARD
TZOFFSETFROM:+0200
TZOFFSETTO:+0100
TZNAME:CET
DTSTART:20201025T010000
END:STANDARD
BEGIN:DAYLIGHT
TZOFFSETFROM:+0100
TZOFFSETTO:+0200
TZNAME:CEST
DTSTART:20210328T010000
END:DAYLIGHT
BEGIN:STANDARD
TZOFFSETFROM:+0200
TZOFFSETTO:+0100
TZNAME:CET
DTSTART:20211031T010000
END:STANDARD
BEGIN:DAYLIGHT
TZOFFSETFROM:+0100
TZOFFSETTO:+0200
TZNAME:CEST
DTSTART:20220327T010000
END:DAYLIGHT
BEGIN:STANDARD
TZOFFSETFROM:+0200
TZOFFSETTO:+0100
TZNAME:CET
DTSTART:20221030T010000
END:STANDARD
END:VTIMEZONE
BEGIN:VEVENT
DTSTART;VALUE=DATE:20210924
DTEND;VALUE=DATE:20210926
DTSTAMP:20260423T061723
CREATED:20210907T063822Z
LAST-MODIFIED:20210907T063822Z
UID:17559-1632441600-1632614399@beer.be
SUMMARY:Zwanze 2021
DESCRIPTION:Zwanze is above all a joke - this year\, you can bring your beach clothes to celebrate the Bxl Beach zwanzer fest\, Parasol edition! On this occasion\, we will have a special selection of Cantillon beers on tap on Friday September 24th (4pm to 1am) and Saturday September 25th (2pm to 1am)\, while stocks last. The Zwanze 2021 will be served at 9pm on Saturday. You can buy drink tokens in advance to save some time during the event. Tickets and tokens are valid in both our locations.\n\n\n\n\n\nOn tap :\n\n\nMoeder Fontainas :\n\n\n- Nath 2017\n- Nath 2021\n- Lambic 2011\n- Fou'Foune 2014\n- Fou'Foune 2019\n- Fou'Foune 2021\n- Lambic Jaune 2018\n- Carignan 2017\n- Lambic d'Aunis 2017\n- Cuvée Saint-Gilloise 2017\n- Cuvée Saint-Gilloise 2021\n- Camerise 2020\n- Aronia 2019\n- Iris 2012\n- Iris 2016\n- Menu Pineau 2018\n- Magic Lambic 2020\n- Cuvée 10 ans\n- Special Gueuze\n- Brabantiae\n- Kriek Cuvée Moeder\n- Framboise Cuvée Moeder\n- 50°N\n- CLAC\n- Reine des Prés & Sureau\n- Zwanze 2021 (Saturday 9pm)\n\n\n\n• Moeder Original\n- Lambic d'Aunis 2020\n- Cuvée Saint-Gilloise 2016\n- Mourvèdre\n- Yellow 2017\n- Kriek Cuvée Moeder\n- Framboise Cuvée Moeder\n- Argousier\n- Zwanze 2021( Saturday 9pm)\n- We will also have a special bottle list @Moeder Original.
URL:https://beer.be/agenda/zwanze-2021/
LOCATION:Moeder Lambic Fontainas\, 8 place Fontainas\, Bruxelles\, Bruxelles\, 1000\, Belgique
CATEGORIES:Moeder Lambic
ATTACH;FMTTYPE=image/jpeg:https://beer.be/wp-content/uploads/2021/09/241455270_10158644487722686_5273903710921595289_n.jpg
END:VEVENT
END:VCALENDAR