BEGIN:VCALENDAR
VERSION:2.0
PRODID:-//Beer.be - ECPv6.15.20//NONSGML v1.0//EN
CALSCALE:GREGORIAN
METHOD:PUBLISH
X-ORIGINAL-URL:https://beer.be
X-WR-CALDESC:Évènements pour Beer.be
REFRESH-INTERVAL;VALUE=DURATION:PT1H
X-Robots-Tag:noindex
X-PUBLISHED-TTL:PT1H
BEGIN:VTIMEZONE
TZID:Europe/Brussels
BEGIN:DAYLIGHT
TZOFFSETFROM:+0100
TZOFFSETTO:+0200
TZNAME:CEST
DTSTART:20180325T010000
END:DAYLIGHT
BEGIN:STANDARD
TZOFFSETFROM:+0200
TZOFFSETTO:+0100
TZNAME:CET
DTSTART:20181028T010000
END:STANDARD
BEGIN:DAYLIGHT
TZOFFSETFROM:+0100
TZOFFSETTO:+0200
TZNAME:CEST
DTSTART:20190331T010000
END:DAYLIGHT
BEGIN:STANDARD
TZOFFSETFROM:+0200
TZOFFSETTO:+0100
TZNAME:CET
DTSTART:20191027T010000
END:STANDARD
BEGIN:DAYLIGHT
TZOFFSETFROM:+0100
TZOFFSETTO:+0200
TZNAME:CEST
DTSTART:20200329T010000
END:DAYLIGHT
BEGIN:STANDARD
TZOFFSETFROM:+0200
TZOFFSETTO:+0100
TZNAME:CET
DTSTART:20201025T010000
END:STANDARD
END:VTIMEZONE
BEGIN:VEVENT
DTSTART;VALUE=DATE:20190601
DTEND;VALUE=DATE:20190602
DTSTAMP:20260422T224856
CREATED:20190516T132630Z
LAST-MODIFIED:20190516T132630Z
UID:13913-1559347200-1559433599@beer.be
SUMMARY:Soirée Beer Market : "BFF Session"
DESCRIPTION:Tu aimes la bouffe anglaise\, la bonne bière et les mecs en short? Parce qu’on te prépare une super soirée 100% anglaise ce samedi 1er juin\, lors de la finale de la Champions League (qui sera surtout une excuse pour s’en mettre plein la panse). En résumé\, le programme de la soirée :\n- Comme toujours\, des tas de bonnes bières artisanales\, bien entendu.\n- Une série de préparations culinaires directement inspirées de la gastronomie londonienne. Mais en plus culotté et surtout avec un lien à la bière quand c’est possible.\n- Un écran avec retransmission en direct de la finale de la Champions League qui opposera deux clubs anglais.\nQu’on aime ou pas le foot\, c’est donc un superbe prétexte pour vivre une soirée comme dans un vrai pub anglais. Je ne sais pas vous\, mais moi j’ai hâte !
URL:https://beer.be/agenda/soiree-beer-market-bff-session/
LOCATION:Beer Market\, 2 Rue Louis de Brouckère\, La Louvière\, 7100\, Belgique
CATEGORIES:Dégustation
ATTACH;FMTTYPE=image/jpeg:https://beer.be/wp-content/uploads/2019/05/60663550_906883432980612_1267542357692121088_n.jpg
END:VEVENT
END:VCALENDAR