BEGIN:VCALENDAR
VERSION:2.0
PRODID:-//Beer.be - ECPv6.15.20//NONSGML v1.0//EN
CALSCALE:GREGORIAN
METHOD:PUBLISH
X-ORIGINAL-URL:https://beer.be
X-WR-CALDESC:Évènements pour Beer.be
REFRESH-INTERVAL;VALUE=DURATION:PT1H
X-Robots-Tag:noindex
X-PUBLISHED-TTL:PT1H
BEGIN:VTIMEZONE
TZID:Europe/Brussels
BEGIN:DAYLIGHT
TZOFFSETFROM:+0100
TZOFFSETTO:+0200
TZNAME:CEST
DTSTART:20180325T010000
END:DAYLIGHT
BEGIN:STANDARD
TZOFFSETFROM:+0200
TZOFFSETTO:+0100
TZNAME:CET
DTSTART:20181028T010000
END:STANDARD
BEGIN:DAYLIGHT
TZOFFSETFROM:+0100
TZOFFSETTO:+0200
TZNAME:CEST
DTSTART:20190331T010000
END:DAYLIGHT
BEGIN:STANDARD
TZOFFSETFROM:+0200
TZOFFSETTO:+0100
TZNAME:CET
DTSTART:20191027T010000
END:STANDARD
BEGIN:DAYLIGHT
TZOFFSETFROM:+0100
TZOFFSETTO:+0200
TZNAME:CEST
DTSTART:20200329T010000
END:DAYLIGHT
BEGIN:STANDARD
TZOFFSETFROM:+0200
TZOFFSETTO:+0100
TZNAME:CET
DTSTART:20201025T010000
END:STANDARD
END:VTIMEZONE
BEGIN:VEVENT
DTSTART;VALUE=DATE:20191122
DTEND;VALUE=DATE:20191123
DTSTAMP:20260422T163756
CREATED:20191122T091334Z
LAST-MODIFIED:20191122T091334Z
UID:14648-1574380800-1574467199@beer.be
SUMMARY:Elderpine / August Burns Red - Constellation Tour Beer Release
DESCRIPTION:The amazing metal core band August Burns Red are about to start their CONSTELLATION TOUR in Europe! 🤘 For this special European tour\, they made a beer collaboration with their friends @elderpinebeer. An amazing brewery from Maryland who is brewing crazyyy 🍻 beers 🍻 🍻 We are very honoured to release theirs cans to go & to pour the beers on TAP in our bar \n🎶 We'll propose you a special August Burns Red night!\nThe 3 beers releases (TAP / CANS TO GO)\nElderpine / August Burns Red Constellations: Antares\nSour Ale fermented with over 1\,200 lbs of raspberries & passion fruit\nElderpine / August Burns Red Constellations: Pollux\nNew England DIPA hopped with full load of Galaxy & Calypso\nElderpine Treegazer\nHazy American Pale Ale with Citra\, Comet & Centennial
URL:https://beer.be/agenda/elderpine-august-burns-red-constellation-tour-beer-release/
LOCATION:Beergium Bar\, 1227 Chaussée de Waterloo\, Bruxelles\, 1180\, Belgique
CATEGORIES:Tap Takeover
ATTACH;FMTTYPE=image/jpeg:https://beer.be/wp-content/uploads/2019/11/76676831_2510699189167190_5826842161793990656_o.jpg
END:VEVENT
END:VCALENDAR