BEGIN:VCALENDAR
VERSION:2.0
PRODID:-//Beer.be - ECPv6.15.20//NONSGML v1.0//EN
CALSCALE:GREGORIAN
METHOD:PUBLISH
X-ORIGINAL-URL:https://beer.be
X-WR-CALDESC:Évènements pour Beer.be
REFRESH-INTERVAL;VALUE=DURATION:PT1H
X-Robots-Tag:noindex
X-PUBLISHED-TTL:PT1H
BEGIN:VTIMEZONE
TZID:Europe/Brussels
BEGIN:DAYLIGHT
TZOFFSETFROM:+0100
TZOFFSETTO:+0200
TZNAME:CEST
DTSTART:20200329T010000
END:DAYLIGHT
BEGIN:STANDARD
TZOFFSETFROM:+0200
TZOFFSETTO:+0100
TZNAME:CET
DTSTART:20201025T010000
END:STANDARD
BEGIN:DAYLIGHT
TZOFFSETFROM:+0100
TZOFFSETTO:+0200
TZNAME:CEST
DTSTART:20210328T010000
END:DAYLIGHT
BEGIN:STANDARD
TZOFFSETFROM:+0200
TZOFFSETTO:+0100
TZNAME:CET
DTSTART:20211031T010000
END:STANDARD
BEGIN:DAYLIGHT
TZOFFSETFROM:+0100
TZOFFSETTO:+0200
TZNAME:CEST
DTSTART:20220327T010000
END:DAYLIGHT
BEGIN:STANDARD
TZOFFSETFROM:+0200
TZOFFSETTO:+0100
TZNAME:CET
DTSTART:20221030T010000
END:STANDARD
END:VTIMEZONE
BEGIN:VEVENT
DTSTART;VALUE=DATE:20211206
DTEND;VALUE=DATE:20211207
DTSTAMP:20260425T034631
CREATED:20211206T062139Z
LAST-MODIFIED:20211206T062139Z
UID:18532-1638748800-1638835199@beer.be
SUMMARY:Les Lundis Tous Courts - Thème "Aaah la famille !"
DESCRIPTION:Après le succès de la première édition\, on revient avec une projection courts-métrages spécial "AAAH LA FAMILLE !"\nVenez avec la famille\, les amis\, lundi 6 décembre dès 19h à l’Amère à Boire St-Gilles.\n* Plus d'infos sur cet événement à venir prochainement ! *\nAu plaisir de vous retrouver !\nPAF : 3euros ou lancez le  et laissez-le décider pour vous \nL’équipe des Lundis Tous Courts
URL:https://beer.be/agenda/les-lundis-tous-courts-theme-aaah-la-famille/
CATEGORIES:Autre
ATTACH;FMTTYPE=image/jpeg:https://beer.be/wp-content/uploads/2021/12/259985003_133804835681279_1210473379729551696_n.jpg
END:VEVENT
END:VCALENDAR