BEGIN:VCALENDAR
VERSION:2.0
PRODID:-//Beer.be - ECPv6.15.20//NONSGML v1.0//EN
CALSCALE:GREGORIAN
METHOD:PUBLISH
X-WR-CALNAME:Beer.be
X-ORIGINAL-URL:https://beer.be
X-WR-CALDESC:Évènements pour Beer.be
REFRESH-INTERVAL;VALUE=DURATION:PT1H
X-Robots-Tag:noindex
X-PUBLISHED-TTL:PT1H
BEGIN:VTIMEZONE
TZID:Europe/Brussels
BEGIN:DAYLIGHT
TZOFFSETFROM:+0100
TZOFFSETTO:+0200
TZNAME:CEST
DTSTART:20200329T010000
END:DAYLIGHT
BEGIN:STANDARD
TZOFFSETFROM:+0200
TZOFFSETTO:+0100
TZNAME:CET
DTSTART:20201025T010000
END:STANDARD
BEGIN:DAYLIGHT
TZOFFSETFROM:+0100
TZOFFSETTO:+0200
TZNAME:CEST
DTSTART:20210328T010000
END:DAYLIGHT
BEGIN:STANDARD
TZOFFSETFROM:+0200
TZOFFSETTO:+0100
TZNAME:CET
DTSTART:20211031T010000
END:STANDARD
BEGIN:DAYLIGHT
TZOFFSETFROM:+0100
TZOFFSETTO:+0200
TZNAME:CEST
DTSTART:20220327T010000
END:DAYLIGHT
BEGIN:STANDARD
TZOFFSETFROM:+0200
TZOFFSETTO:+0100
TZNAME:CET
DTSTART:20221030T010000
END:STANDARD
END:VTIMEZONE
BEGIN:VEVENT
DTSTART;VALUE=DATE:20211023
DTEND;VALUE=DATE:20211024
DTSTAMP:20260424T144309
CREATED:20211008T070344Z
LAST-MODIFIED:20211008T070344Z
UID:17897-1634947200-1635033599@beer.be
SUMMARY:Tilquin Fruit Extravaganza @De Geus van Gent
DESCRIPTION:TILQUIN FRUIT EXTRAVAGANZA\nop alleen een locatie in Gent\, met 5 verschillende exclusieve bieren op vat !\nHier is de lijst van bieren :\n• Pomme Tilquin - Draft Version - 6.0%\n• Pêche Tilquin - Draft Version - 5.5%\n• Sureau Tilquin - Draft Version - 5.6%\n• Cassis Tilquin - Draft Version - 5.8%\n• Framboise Tilquin - Draft Version - 5.5%\nWe hopen dat u zaterdag 23 oktober kunt komen!
URL:https://beer.be/agenda/tilquin-fruit-extravaganza-de-geus-van-gent/
LOCATION:De Geus van Gent\, Kantienberg 9\, Gand\, Belgique
CATEGORIES:Tap Takeover
ATTACH;FMTTYPE=image/jpeg:https://beer.be/wp-content/uploads/2021/10/244470337_4442324202492193_6822810456681557590_n.jpg
END:VEVENT
END:VCALENDAR