BEGIN:VCALENDAR
VERSION:2.0
PRODID:-//Beer.be - ECPv6.15.20//NONSGML v1.0//EN
CALSCALE:GREGORIAN
METHOD:PUBLISH
X-WR-CALNAME:Beer.be
X-ORIGINAL-URL:https://beer.be
X-WR-CALDESC:Évènements pour Beer.be
REFRESH-INTERVAL;VALUE=DURATION:PT1H
X-Robots-Tag:noindex
X-PUBLISHED-TTL:PT1H
BEGIN:VTIMEZONE
TZID:Europe/Brussels
BEGIN:DAYLIGHT
TZOFFSETFROM:+0100
TZOFFSETTO:+0200
TZNAME:CEST
DTSTART:20180325T010000
END:DAYLIGHT
BEGIN:STANDARD
TZOFFSETFROM:+0200
TZOFFSETTO:+0100
TZNAME:CET
DTSTART:20181028T010000
END:STANDARD
BEGIN:DAYLIGHT
TZOFFSETFROM:+0100
TZOFFSETTO:+0200
TZNAME:CEST
DTSTART:20190331T010000
END:DAYLIGHT
BEGIN:STANDARD
TZOFFSETFROM:+0200
TZOFFSETTO:+0100
TZNAME:CET
DTSTART:20191027T010000
END:STANDARD
BEGIN:DAYLIGHT
TZOFFSETFROM:+0100
TZOFFSETTO:+0200
TZNAME:CEST
DTSTART:20200329T010000
END:DAYLIGHT
BEGIN:STANDARD
TZOFFSETFROM:+0200
TZOFFSETTO:+0100
TZNAME:CET
DTSTART:20201025T010000
END:STANDARD
END:VTIMEZONE
BEGIN:VEVENT
DTSTART;VALUE=DATE:20190518
DTEND;VALUE=DATE:20190519
DTSTAMP:20260425T225141
CREATED:20190412T081153Z
LAST-MODIFIED:20190412T081153Z
UID:13757-1558137600-1558223999@beer.be
SUMMARY:Meet the brewer: De Leite
DESCRIPTION:En 1997 déjà\, Luc Vermeersch menait ses premières expérimentations dans une maisonnette au fond de son jardin\, où il fit installer une petite brasserie qu'il avait achetée en Finlande. Dix ans plus tard il se décida à suivre des cours de brassage et en avril 2008 la brasserie De Leite était née. Depuis\, cette brasserie de Ruddervoorde offre un large choix de bières tout aussi intéressantes et savoureuses les unes que les autres\, telles que la Femme Fatale\, la Bon Homme\, l'Enfant Terriple ou encore la Fils à Papa. Nous dégusterons plusieurs d'entre elles tout en bénéficiant des explications du brasseur en personne.
URL:https://beer.be/agenda/meet-the-brewer-de-leite/
LOCATION:Elzenhof\, 12 Kroonlaan\, Bruxelles\, 1050\, Belgique
CATEGORIES:Dégustation
ATTACH;FMTTYPE=image/jpeg:https://beer.be/wp-content/uploads/2019/04/56985409_2392956540722742_5552057928086716416_o.jpg
END:VEVENT
END:VCALENDAR