BEGIN:VCALENDAR
VERSION:2.0
PRODID:-//Beer.be - ECPv6.15.20//NONSGML v1.0//EN
CALSCALE:GREGORIAN
METHOD:PUBLISH
X-ORIGINAL-URL:https://beer.be
X-WR-CALDESC:Évènements pour Beer.be
REFRESH-INTERVAL;VALUE=DURATION:PT1H
X-Robots-Tag:noindex
X-PUBLISHED-TTL:PT1H
BEGIN:VTIMEZONE
TZID:Europe/Brussels
BEGIN:DAYLIGHT
TZOFFSETFROM:+0100
TZOFFSETTO:+0200
TZNAME:CEST
DTSTART:20180325T010000
END:DAYLIGHT
BEGIN:STANDARD
TZOFFSETFROM:+0200
TZOFFSETTO:+0100
TZNAME:CET
DTSTART:20181028T010000
END:STANDARD
BEGIN:DAYLIGHT
TZOFFSETFROM:+0100
TZOFFSETTO:+0200
TZNAME:CEST
DTSTART:20190331T010000
END:DAYLIGHT
BEGIN:STANDARD
TZOFFSETFROM:+0200
TZOFFSETTO:+0100
TZNAME:CET
DTSTART:20191027T010000
END:STANDARD
BEGIN:DAYLIGHT
TZOFFSETFROM:+0100
TZOFFSETTO:+0200
TZNAME:CEST
DTSTART:20200329T010000
END:DAYLIGHT
BEGIN:STANDARD
TZOFFSETFROM:+0200
TZOFFSETTO:+0100
TZNAME:CET
DTSTART:20201025T010000
END:STANDARD
END:VTIMEZONE
BEGIN:VEVENT
DTSTART;VALUE=DATE:20190412
DTEND;VALUE=DATE:20190413
DTSTAMP:20260425T142037
CREATED:20190405T114724Z
LAST-MODIFIED:20190405T114724Z
UID:13709-1555027200-1555113599@beer.be
SUMMARY:Belgian Tasting #1 Fantôme & Lombetto Stagionato
DESCRIPTION:...que dire\, on ouvre des bouteilles de Fantôme\, on boit\, on mange\, on discute ... des choses habituelles. Nous essaierons sûrement les Dry Hop Series et serons accompagnés du Lombo Stagionato des frères Nesta (Lazio). Bière de qualité et nourriture de qualité... easy !
URL:https://beer.be/agenda/belgian-tasting-1-fantome-lombetto-stagionato/
LOCATION:La Tana 2.0\, 22 rue de l'Enseignement\, Bruxelles\, 1000\, Belgique
CATEGORIES:Dégustation
ATTACH;FMTTYPE=image/jpeg:https://beer.be/wp-content/uploads/2019/04/56656212_347776459187167_8627228420096393216_n.jpg
END:VEVENT
BEGIN:VEVENT
DTSTART;VALUE=DATE:20190413
DTEND;VALUE=DATE:20190414
DTSTAMP:20260425T142037
CREATED:20190202T095615Z
LAST-MODIFIED:20190202T095615Z
UID:13292-1555113600-1555199999@beer.be
SUMMARY:Degustatie Nevel Artisan ales
DESCRIPTION:Als enige brouwerij in Nederland leggen zij zich volledig toe op bieren met gemengde en wilde gisten. Inspiratie voor hun bieren halen ze uit het Rijk van Nijmegen zelf: bramen die langs hun fietsroute groeien\, kersen van een oude boomgaard in Lent\, bloemen op het terrein van de brouwerij en kruiden uit een naburig voedselbos. De mooie en gevarieerde natuur van Nijmegen is het belangrijkste ingrediënt van hun bier.
URL:https://beer.be/agenda/degustatie-nevel-artisan-ales/
LOCATION:Bierhalle Deconinck\, 37A Bosstraat\, Vichte\, 8570\, Belgique
CATEGORIES:Dégustation
ATTACH;FMTTYPE=image/jpeg:https://beer.be/wp-content/uploads/2019/02/50951951_2168318253207186_5002290801254858752_o-scaled.jpg
END:VEVENT
BEGIN:VEVENT
DTSTART;VALUE=DATE:20190430
DTEND;VALUE=DATE:20190501
DTSTAMP:20260425T142037
CREATED:20190325T132640Z
LAST-MODIFIED:20190325T132640Z
UID:13608-1556582400-1556668799@beer.be
SUMMARY:Bier proeven met Sven Gatz
DESCRIPTION:Sven Gatz laat je alle trappisten ter wereld proeven: Achel\, Chimay\, Engelszell\, La Trappe\, Orval\, Rochefort\, Spencer\, Tre Fontane\, Tynt Meadow\, Westmalle\, Westvleteren en Zundert. En op de koop toe geeft Sebastien Vandenheede een tapcursus. Voor 12€ krijg je een bierdegustatie met aangepaste kaas! \nInschrijven kan via: gatzsven@gmail.com
URL:https://beer.be/agenda/bier-proeven-met-sven-gatz/
LOCATION:Sven gatz\, 28 place Cardinal Mercier\, Bruxelles\, 1090\, Belgique
CATEGORIES:Dégustation
ATTACH;FMTTYPE=image/jpeg:https://beer.be/wp-content/uploads/2019/03/54278139_10161488158295481_8984026201077055488_o.jpg
END:VEVENT
END:VCALENDAR