BEGIN:VCALENDAR
VERSION:2.0
PRODID:-//Beer.be - ECPv6.15.20//NONSGML v1.0//EN
CALSCALE:GREGORIAN
METHOD:PUBLISH
X-ORIGINAL-URL:https://beer.be
X-WR-CALDESC:Évènements pour Beer.be
REFRESH-INTERVAL;VALUE=DURATION:PT1H
X-Robots-Tag:noindex
X-PUBLISHED-TTL:PT1H
BEGIN:VTIMEZONE
TZID:Europe/Brussels
BEGIN:DAYLIGHT
TZOFFSETFROM:+0100
TZOFFSETTO:+0200
TZNAME:CEST
DTSTART:20180325T010000
END:DAYLIGHT
BEGIN:STANDARD
TZOFFSETFROM:+0200
TZOFFSETTO:+0100
TZNAME:CET
DTSTART:20181028T010000
END:STANDARD
BEGIN:DAYLIGHT
TZOFFSETFROM:+0100
TZOFFSETTO:+0200
TZNAME:CEST
DTSTART:20190331T010000
END:DAYLIGHT
BEGIN:STANDARD
TZOFFSETFROM:+0200
TZOFFSETTO:+0100
TZNAME:CET
DTSTART:20191027T010000
END:STANDARD
BEGIN:DAYLIGHT
TZOFFSETFROM:+0100
TZOFFSETTO:+0200
TZNAME:CEST
DTSTART:20200329T010000
END:DAYLIGHT
BEGIN:STANDARD
TZOFFSETFROM:+0200
TZOFFSETTO:+0100
TZNAME:CET
DTSTART:20201025T010000
END:STANDARD
END:VTIMEZONE
BEGIN:VEVENT
DTSTART;VALUE=DATE:20191109
DTEND;VALUE=DATE:20191110
DTSTAMP:20260425T030036
CREATED:20190104T112636Z
LAST-MODIFIED:20190104T112636Z
UID:13047-1573257600-1573343999@beer.be
SUMMARY:ABC-proeverij
DESCRIPTION:Deze ABC-proeverij is een onvervalste driehoeksproeverij. Ontdek jij hetzelfde bier?
URL:https://beer.be/agenda/abc-proeverij/
LOCATION:Brasserie Belgoo\, Georges Wittouckstraat 61\, Sint-Pieters-Leeuw\, 1600\, Belgique
CATEGORIES:Dégustation
ATTACH;FMTTYPE=image/jpeg:https://beer.be/wp-content/uploads/2019/01/48417099_2056411411064956_4058047051592630272_o.jpg
END:VEVENT
BEGIN:VEVENT
DTSTART;VALUE=DATE:20191116
DTEND;VALUE=DATE:20191117
DTSTAMP:20260425T030036
CREATED:20191020T071043Z
LAST-MODIFIED:20191020T071043Z
UID:14467-1573862400-1573948799@beer.be
SUMMARY:Degustatie van kriek tot druif & in between
DESCRIPTION:Dans cette dégustation\, le sommelier Raf Van Pottelbergh (Restaurant Humphrey chez PIAS) nous guide vers une destination finale avec des combinaisons réussies de bière lambic avec autres bières ou vins. Avant d'y arriver\, nous faisons un arrêt au Schaerbeekse Kriek. Samedi 16 novembre 2019 à partir de 20h chez GC De Kriekelaar. Places limitées. Les frais sont de 11 € à l'accueil de De Kriekelaar (2 € avec Paspartoe) et de 11\,25 € en ligne (2\,25 € avec Paspartoe). Pour les lève-tôt\, nous diffusons le match de foot interland Russie-Belgique à partir de 18h00 au Dynamo Café (même adresse). Avec boissons adaptées.
URL:https://beer.be/agenda/degustatie-van-kriek-tot-druif-in-between/
LOCATION:De Kriekelaar GC\, 86 Gallaitstraat\, Bruxelles\, 1030\, Belgique
CATEGORIES:Dégustation
ATTACH;FMTTYPE=image/jpeg:https://beer.be/wp-content/uploads/2019/10/72414586_2398041216971721_5957171531346870272_o.jpg
END:VEVENT
BEGIN:VEVENT
DTSTART;VALUE=DATE:20191128
DTEND;VALUE=DATE:20191129
DTSTAMP:20260425T030036
CREATED:20191105T175845Z
LAST-MODIFIED:20191105T175845Z
UID:14545-1574899200-1574985599@beer.be
SUMMARY:It's the most wonderful time for a beer! Christmas beer tasting
DESCRIPTION:Deck the halls with boughs of hop leafs\, etc. As the days get colder and the nights longer\, Bon Jour and award-winning beer writer Eoghan Walsh\, founder of Brussels Beer City\, have teamed up to jump-start the holiday season with an evening celebrating Belgium’s Christmas beer tradition! So join us and drink to good cheer\, with a selection of Belgium’s best - and dangerously drinkable - Christmas tipples (and maybe some Christmas-themed games and treats too!)
URL:https://beer.be/agenda/its-the-most-wonderful-time-for-a-beer-christmas-beer-tasting/
LOCATION:Bon Jour\, 57 rue du Sceptre\, Bruxelles\, 1050\, Belgique
CATEGORIES:Dégustation
ATTACH;FMTTYPE=image/jpeg:https://beer.be/wp-content/uploads/2019/11/73504778_1561537190668959_5626020821156757504_o.jpg
END:VEVENT
END:VCALENDAR