BEGIN:VCALENDAR
VERSION:2.0
PRODID:-//Beer.be - ECPv6.15.20//NONSGML v1.0//EN
CALSCALE:GREGORIAN
METHOD:PUBLISH
X-ORIGINAL-URL:https://beer.be
X-WR-CALDESC:Évènements pour Beer.be
REFRESH-INTERVAL;VALUE=DURATION:PT1H
X-Robots-Tag:noindex
X-PUBLISHED-TTL:PT1H
BEGIN:VTIMEZONE
TZID:Europe/Brussels
BEGIN:DAYLIGHT
TZOFFSETFROM:+0100
TZOFFSETTO:+0200
TZNAME:CEST
DTSTART:20200329T010000
END:DAYLIGHT
BEGIN:STANDARD
TZOFFSETFROM:+0200
TZOFFSETTO:+0100
TZNAME:CET
DTSTART:20201025T010000
END:STANDARD
BEGIN:DAYLIGHT
TZOFFSETFROM:+0100
TZOFFSETTO:+0200
TZNAME:CEST
DTSTART:20210328T010000
END:DAYLIGHT
BEGIN:STANDARD
TZOFFSETFROM:+0200
TZOFFSETTO:+0100
TZNAME:CET
DTSTART:20211031T010000
END:STANDARD
BEGIN:DAYLIGHT
TZOFFSETFROM:+0100
TZOFFSETTO:+0200
TZNAME:CEST
DTSTART:20220327T010000
END:DAYLIGHT
BEGIN:STANDARD
TZOFFSETFROM:+0200
TZOFFSETTO:+0100
TZNAME:CET
DTSTART:20221030T010000
END:STANDARD
END:VTIMEZONE
BEGIN:VEVENT
DTSTART;VALUE=DATE:20210704
DTEND;VALUE=DATE:20210705
DTSTAMP:20260423T032636
CREATED:20210615T045917Z
LAST-MODIFIED:20210615T045917Z
UID:16824-1625356800-1625443199@beer.be
SUMMARY:Les Brigittines x Cantillon x albert
DESCRIPTION:“There have been events with Cantillon pairing all over the world. Everywhere\, just not in Brussels.” Jean Van Roy\nWe couldn’t just let this pass by. Especially for this occasion\, Dirk Myny (Les Brigittines) and Filip Fransen (albert Brussels) join forces for a 4 course dinner: Chouke invasie\n\nOur service will start at 17H00\, make sure to come early so you can embark on this journey totally relaxed.\nOn our menu:\n***\nBy albert:\n* Ris d’agneau\, lenteprei en petit-lait\n*Tartare de boeuf\, stinkdistel en sauce poisson\n*Sorbet van Karditsel “Virginie” en herbes sauvage\nThis will be served with a *Cantillon Drogone Lambic\nMix of a two year old Lambic with vinacce (marc de raisins) of Aglianico (blue grape) from Cantina Giardino in Campania.\n***\nBy Les Brigittines:\n*Zennepot\nFour iconic and typical Brussels dishes:\nBloempanch\, droge worst\, kool gegaard in cantillon\, wulk\nServed with *Cantillon Chouke 2018\nMix of 1\, 2 and 3 years old Lambic. jaar oud Lambic. A barrel each.\n2 Year old Lambic\, aged in a Cognac barrel.\n***\nBy Les Brigittines:\n*Vlieg met wind\nServed with *Cantillon La vie est Belge\nLambic\, aged in Vin Jaune barreld from the Domaine Stephane Tissot.\n***\nBy albert\n*Cantillon sorbet\n***\nBy albert\n*Savoyard Bruxellois\nDelicate and sunny: grevenbroecker\, karditsel “Aurélie” en veel romige boter\nServed with *Cantillon Sophia Lambic\nMix of two year old Lambic with vinacce (marc de raisins) of Greco di Tufo (white grape) from Cantina Giardino in Campania.\n***\nOnly 250 places available\nTickets at albert.eventgoose.com\n\nSoundtrack by Dj Jordi3000 and Stel-R (Music4People). Expect some Jazz\, Tropicalismo and Exotica.\n\nFree entrance if you don't wish to participate in this special menu. > Entrance at Kunstberg 28 before 5 pm > Entrance at Museumplein 1 after 5 pm
URL:https://beer.be/agenda/les-brigittines-x-cantillon-x-albert/
LOCATION:Museumplein\, 1 Museumplein\, Bruxelles\, 1000\, Belgique
CATEGORIES:Autre
ATTACH;FMTTYPE=image/jpeg:https://beer.be/wp-content/uploads/2021/06/199248878_120425963503449_193835179272034640_n.jpg
END:VEVENT
BEGIN:VEVENT
DTSTART;VALUE=DATE:20210708
DTEND;VALUE=DATE:20210709
DTSTAMP:20260423T032636
CREATED:20210618T061021Z
LAST-MODIFIED:20210618T061021Z
UID:16847-1625702400-1625788799@beer.be
SUMMARY:FERMENTATION | DEGUSTATION: FRONTAAL BREWERY (BREDA)
DESCRIPTION:Fermentation | Degustation is a bimonthly get together for people who want to explore the realm of beverage fermentation from around the globe. Every two weeks we will sample a certain theme\, dive deep into it’s creation\, gather stories from the producers and have a great moment describing what we taste. The aim is to get you out of your comfort zone\, make you acquainted with new types of ferment\, or discover new producers.\n\nFrontaal Brewery (Breda)\nFirst time we came accross Frontaal was at the Brussels Beer Fest almost three years ago. We were charmed by their brews immidiatly and where even more surprised that on a cold march day on of the head brewers called us to develop a collab around red rice yeast. The result is “into the burning sky” and we will taste it with several other of their brews on this tasting session.\n\nConcrete:\nFive to Seven tasters depending on the group & thematics\nSmall zero waste snacks in between tasting\nMax 15 participans\,\ninformal but instructive tasting for 1.5h
URL:https://beer.be/agenda/fermentation-degustation-frontaal-brewery-breda/
LOCATION:Fermenthings\, 4 rue Dieudonné Lefevre\, Bruxelles\, Laeken\, 1020\, Belgique
CATEGORIES:Fermenthings
ATTACH;FMTTYPE=image/jpeg:https://beer.be/wp-content/uploads/2021/06/200489788_1208199939606032_1881236127675747154_n.jpg
END:VEVENT
BEGIN:VEVENT
DTSTART;VALUE=DATE:20210730
DTEND;VALUE=DATE:20210731
DTSTAMP:20260423T032636
CREATED:20210729T083533Z
LAST-MODIFIED:20210729T083533Z
UID:17092-1627603200-1627689599@beer.be
SUMMARY:Fremont Stout Tasting Night
DESCRIPTION:Fremont Brewing uit Seattle staat al jaren gekend als een topbrouwerij voor Imperial Stouts.\nTijd om een avondje lekkere Bourbon BA heavy hitters te delen.\nWe proeven samen 5 flessen van Fremont Brewing. Tussendoor openen we ook enkele Wild Ales of IPAs van Antidoot\, Tommie Sjef en anderen.\nWe proeven samen met maximaal 8 personen op ons terras.\nWil je graag meedoen? Stuur een e-mail naar info@hopsnmore.com\nDe Fremont bieren:\n++ Bourbon Barrel Aged Dark Star Coffee Edition 2019 (BBADS)\n++ Bourbon Barrel-Aged Dark Star 2019 (BBADS)\n++ B-Bomb 2019 Bourbon BA\n++ Coconut Edition B-Bomb 2019 Bourbon BA\n++ The Rusty Nail 2020 Bourbon BA
URL:https://beer.be/agenda/fremont-stout-tasting-night/
CATEGORIES:Dégustation
ATTACH;FMTTYPE=image/jpeg:https://beer.be/wp-content/uploads/2021/07/225159919_357636662623333_1437718488363891892_n.jpg
END:VEVENT
END:VCALENDAR