BEGIN:VCALENDAR
VERSION:2.0
PRODID:-//Beer.be - ECPv6.15.20//NONSGML v1.0//EN
CALSCALE:GREGORIAN
METHOD:PUBLISH
X-WR-CALNAME:Beer.be
X-ORIGINAL-URL:https://beer.be
X-WR-CALDESC:Évènements pour Beer.be
REFRESH-INTERVAL;VALUE=DURATION:PT1H
X-Robots-Tag:noindex
X-PUBLISHED-TTL:PT1H
BEGIN:VTIMEZONE
TZID:Europe/Brussels
BEGIN:DAYLIGHT
TZOFFSETFROM:+0100
TZOFFSETTO:+0200
TZNAME:CEST
DTSTART:20190331T010000
END:DAYLIGHT
BEGIN:STANDARD
TZOFFSETFROM:+0200
TZOFFSETTO:+0100
TZNAME:CET
DTSTART:20191027T010000
END:STANDARD
BEGIN:DAYLIGHT
TZOFFSETFROM:+0100
TZOFFSETTO:+0200
TZNAME:CEST
DTSTART:20200329T010000
END:DAYLIGHT
BEGIN:STANDARD
TZOFFSETFROM:+0200
TZOFFSETTO:+0100
TZNAME:CET
DTSTART:20201025T010000
END:STANDARD
BEGIN:DAYLIGHT
TZOFFSETFROM:+0100
TZOFFSETTO:+0200
TZNAME:CEST
DTSTART:20210328T010000
END:DAYLIGHT
BEGIN:STANDARD
TZOFFSETFROM:+0200
TZOFFSETTO:+0100
TZNAME:CET
DTSTART:20211031T010000
END:STANDARD
END:VTIMEZONE
BEGIN:VEVENT
DTSTART;VALUE=DATE:20200213
DTEND;VALUE=DATE:20200214
DTSTAMP:20260426T063735
CREATED:20200124T191613Z
LAST-MODIFIED:20200124T191613Z
UID:14963-1581552000-1581638399@beer.be
SUMMARY:Des Bieres Des Bocals
DESCRIPTION:Amoureux de bières et de bonnes choses : Des Bières Des Bocals reviennent pour une pré-st Valentin tout en ** whololoihouuu !!! ** Sylvain nous propose 4 bières de saison et Alice cherche à assortir ces bières avec 4 petits mets 100% St Valentin. \nRDV le jeudi 13 février au DEKKERA\n(1er service commencera à 19h20 et le second à 20h)\n>>> sur résa uniquement (au bar ou par msg)\n>>> 4 accords : 24€\n>>> de pas hésiter à nous préciser vos allergies - le beerpairing sera omnivore cette fois-ci. \nA tout vite whololoi-hou
URL:https://beer.be/agenda/des-bieres-des-bocals/
LOCATION:Dekkera\, 109 rue Pierre Decoster\, Bruxelles\, 1190\, Belgique
CATEGORIES:Autre
ATTACH;FMTTYPE=image/jpeg:https://beer.be/wp-content/uploads/2020/01/82285743_10218402272260734_5742016875525570560_o.jpg
END:VEVENT
END:VCALENDAR