BEGIN:VCALENDAR
VERSION:2.0
PRODID:-//Beer.be - ECPv6.15.20//NONSGML v1.0//EN
CALSCALE:GREGORIAN
METHOD:PUBLISH
X-ORIGINAL-URL:https://beer.be
X-WR-CALDESC:Évènements pour Beer.be
REFRESH-INTERVAL;VALUE=DURATION:PT1H
X-Robots-Tag:noindex
X-PUBLISHED-TTL:PT1H
BEGIN:VTIMEZONE
TZID:Europe/Brussels
BEGIN:DAYLIGHT
TZOFFSETFROM:+0100
TZOFFSETTO:+0200
TZNAME:CEST
DTSTART:20200329T010000
END:DAYLIGHT
BEGIN:STANDARD
TZOFFSETFROM:+0200
TZOFFSETTO:+0100
TZNAME:CET
DTSTART:20201025T010000
END:STANDARD
BEGIN:DAYLIGHT
TZOFFSETFROM:+0100
TZOFFSETTO:+0200
TZNAME:CEST
DTSTART:20210328T010000
END:DAYLIGHT
BEGIN:STANDARD
TZOFFSETFROM:+0200
TZOFFSETTO:+0100
TZNAME:CET
DTSTART:20211031T010000
END:STANDARD
BEGIN:DAYLIGHT
TZOFFSETFROM:+0100
TZOFFSETTO:+0200
TZNAME:CEST
DTSTART:20220327T010000
END:DAYLIGHT
BEGIN:STANDARD
TZOFFSETFROM:+0200
TZOFFSETTO:+0100
TZNAME:CET
DTSTART:20221030T010000
END:STANDARD
END:VTIMEZONE
BEGIN:VEVENT
DTSTART;VALUE=DATE:20211205
DTEND;VALUE=DATE:20211206
DTSTAMP:20260423T210620
CREATED:20211130T175729Z
LAST-MODIFIED:20211130T175729Z
UID:18449-1638662400-1638748799@beer.be
SUMMARY:“Xmas Naughty List” Beer Release
DESCRIPTION:Venez vous procurer\, en avant-première\, notre bière de Noël « Xmas Naughty List ». Nous n’aurons qu’un certain nombre de bouteilles et une fois le stock épuisé\, il n’y en n’aura plus cette année.\nNous serons sur le parking de La Ronde Maison pour ceux qui souhaitent en acheter afin de la déguster lors des fêtes de fin d’année.\nOn a hâte de vous faire goûter ça !\n\nWe will be releasing our new Christmas beer “Xmas Naughty List” to the public prior to it being available anywhere else. We will have a limited number of bottles for sale this year and once they are sold out\, there will not be any more batches made this year.\nWe will be in the parking lot of “La Ronde Maison” selling bottles to go.\nWe can’t wait for you to try this beer!
URL:https://beer.be/agenda/xmas-naughty-list-beer-release/
CATEGORIES:Brasserie
ATTACH;FMTTYPE=image/jpeg:https://beer.be/wp-content/uploads/2021/11/262900282_417433513357675_2077305410499082574_n.jpg
END:VEVENT
END:VCALENDAR