BEGIN:VCALENDAR
VERSION:2.0
PRODID:-//Beer.be - ECPv6.15.20//NONSGML v1.0//EN
CALSCALE:GREGORIAN
METHOD:PUBLISH
X-ORIGINAL-URL:https://beer.be
X-WR-CALDESC:Évènements pour Beer.be
REFRESH-INTERVAL;VALUE=DURATION:PT1H
X-Robots-Tag:noindex
X-PUBLISHED-TTL:PT1H
BEGIN:VTIMEZONE
TZID:Europe/Brussels
BEGIN:DAYLIGHT
TZOFFSETFROM:+0100
TZOFFSETTO:+0200
TZNAME:CEST
DTSTART:20200329T010000
END:DAYLIGHT
BEGIN:STANDARD
TZOFFSETFROM:+0200
TZOFFSETTO:+0100
TZNAME:CET
DTSTART:20201025T010000
END:STANDARD
BEGIN:DAYLIGHT
TZOFFSETFROM:+0100
TZOFFSETTO:+0200
TZNAME:CEST
DTSTART:20210328T010000
END:DAYLIGHT
BEGIN:STANDARD
TZOFFSETFROM:+0200
TZOFFSETTO:+0100
TZNAME:CET
DTSTART:20211031T010000
END:STANDARD
BEGIN:DAYLIGHT
TZOFFSETFROM:+0100
TZOFFSETTO:+0200
TZNAME:CEST
DTSTART:20220327T010000
END:DAYLIGHT
BEGIN:STANDARD
TZOFFSETFROM:+0200
TZOFFSETTO:+0100
TZNAME:CET
DTSTART:20221030T010000
END:STANDARD
END:VTIMEZONE
BEGIN:VEVENT
DTSTART;VALUE=DATE:20211021
DTEND;VALUE=DATE:20211022
DTSTAMP:20260425T054715
CREATED:20210903T081254Z
LAST-MODIFIED:20210903T081254Z
UID:17517-1634774400-1634860799@beer.be
SUMMARY:Atelier zythologie par Emanuele Corazzini
DESCRIPTION:Venez assister à un atelier de zythologie présenté par Emanuele Corazzini ( brasseur et fondateur de la brasserie Novabirra ).\n\nRéservation en magasin ou par virement avec communication " zythologie " . Merci d'envoyer un mail de confirmation à : manu@fourez.be\nSeulement 30 places disponibles !\nPrix : 20€\nCompte bancaire :\nBE21363029571603
URL:https://beer.be/agenda/atelier-zythologie-par-emanuele-corazzini/
LOCATION:Drink Factory\, Chaussée du Roeulx 95\, Mons\, 7000\, Belgium
CATEGORIES:Dégustation
ATTACH;FMTTYPE=image/jpeg:https://beer.be/wp-content/uploads/2021/09/241014512_1259821837823728_3218659412828798823_n.jpg
END:VEVENT
END:VCALENDAR