BEGIN:VCALENDAR
VERSION:2.0
PRODID:-//Beer.be - ECPv6.15.20//NONSGML v1.0//EN
CALSCALE:GREGORIAN
METHOD:PUBLISH
X-ORIGINAL-URL:https://beer.be
X-WR-CALDESC:Évènements pour Beer.be
REFRESH-INTERVAL;VALUE=DURATION:PT1H
X-Robots-Tag:noindex
X-PUBLISHED-TTL:PT1H
BEGIN:VTIMEZONE
TZID:Europe/Brussels
BEGIN:DAYLIGHT
TZOFFSETFROM:+0100
TZOFFSETTO:+0200
TZNAME:CEST
DTSTART:20180325T010000
END:DAYLIGHT
BEGIN:STANDARD
TZOFFSETFROM:+0200
TZOFFSETTO:+0100
TZNAME:CET
DTSTART:20181028T010000
END:STANDARD
BEGIN:DAYLIGHT
TZOFFSETFROM:+0100
TZOFFSETTO:+0200
TZNAME:CEST
DTSTART:20190331T010000
END:DAYLIGHT
BEGIN:STANDARD
TZOFFSETFROM:+0200
TZOFFSETTO:+0100
TZNAME:CET
DTSTART:20191027T010000
END:STANDARD
BEGIN:DAYLIGHT
TZOFFSETFROM:+0100
TZOFFSETTO:+0200
TZNAME:CEST
DTSTART:20200329T010000
END:DAYLIGHT
BEGIN:STANDARD
TZOFFSETFROM:+0200
TZOFFSETTO:+0100
TZNAME:CET
DTSTART:20201025T010000
END:STANDARD
END:VTIMEZONE
BEGIN:VEVENT
DTSTART;VALUE=DATE:20190215
DTEND;VALUE=DATE:20190217
DTSTAMP:20260423T180820
CREATED:20190131T121254Z
LAST-MODIFIED:20190131T121303Z
UID:13156-1550188800-1550361599@beer.be
SUMMARY:Lithuanian Craft Beer Weekend: 20 beers on tap
DESCRIPTION:Join us for the Lithuanian Craft Beer Weekend 2019! Last year edition was a huge success and we decided to give it another go this year! Due to the huge success of the last edition\, we plan an earlier opening on Saturday this year. \nFour of the best lithuanian breweries will join us for the weekend: Dundulis\, Kuro Aparatūra\, Bravoras "Apynys" and Sakiškės Brewery. The brewers will travel from the Baltics to share a beer and have a chat with you.
URL:https://beer.be/agenda/lithuanian-craft-beer-weekend-20-beers-on-tap/
CATEGORIES:Dynamo
ATTACH;FMTTYPE=image/jpeg:https://beer.be/wp-content/uploads/2019/01/51061428_1911669905598822_604446041944621056_o.jpg
END:VEVENT
BEGIN:VEVENT
DTSTART;VALUE=DATE:20190216
DTEND;VALUE=DATE:20190217
DTSTAMP:20260423T180820
CREATED:20190131T121023Z
LAST-MODIFIED:20190131T121023Z
UID:13150-1550275200-1550361599@beer.be
SUMMARY:Brewers' Talk: From Lithuanian Brewing Tradition to Modern Craft
DESCRIPTION:During our Lithuanian Craft Beer Weekend: 20 beers on tap!\, we've invited the brewers to have a talk on the Saturday afternoon with the public. Lithuania is a country with a long tradition of beer like Belgium\, Czech or Germany. It was dominated for long by small farmhouse breweries\, a pattern you observe in the Baltics and in Scandinavia. Some very unique styles were produced (and are still produced nowadays) in the country such as Kaimiskas or Keptinis. Recently\, a modern craft beer scene (using new world hops and brewing recently developped styles) emerged in the country. \nWe suggested the brewers to talk about their experience\, the styles they decided to brew (old traditions vs modern) and what could make Lithuanian beer distinctive. Free event\, no previous brewing knowledge required\, just curiosity!
URL:https://beer.be/agenda/brewers-talk-from-lithuanian-brewing-tradition-to-modern-craft/
CATEGORIES:Dynamo
ATTACH;FMTTYPE=image/jpeg:https://beer.be/wp-content/uploads/2019/01/51128954_1913099052122574_631760294485426176_o.jpg
END:VEVENT
BEGIN:VEVENT
DTSTART;VALUE=DATE:20190222
DTEND;VALUE=DATE:20190223
DTSTAMP:20260423T180820
CREATED:20190206T153345Z
LAST-MODIFIED:20190206T153345Z
UID:13326-1550793600-1550879999@beer.be
SUMMARY:Cloudwater Tap Takeover: 12 beers on tap
DESCRIPTION:Cloudwater is one of the best brewery in the world\, all beer fans would agree here. We'll get 12 of their seasonal brews on tap on Friday 22! When we met with them in Manchester in May 2015\, two months after their launch\, they explained us that they wanted to brew seasonal beers without a core range and put a new artist in the spotlight every time. They would bring all types of beers and change every three months. In the meantime\, their hoppy beers became an absolute hit in Europe\, which made it pretty difficult for them to follow demand and pretty impossible for people in Belgium to drink their beers. \nTap List:\nSmall Pale\nOne Off Session IPL\nAll season Pale\nAll Season IPA\nDry Hopped Belgian Pale\nBelgian Plum Ale\nPilsener V1\nDDH Pale\nAll Season DIPA\nAW Baltic Porter\nRed Wine BA Chocolate Porter\nBourbon BA Kentucky Common
URL:https://beer.be/agenda/cloudwater-tap-takeover-12-beers-on-tap/
CATEGORIES:Dynamo
ATTACH;FMTTYPE=image/jpeg:https://beer.be/wp-content/uploads/2019/02/51482153_1922344647864681_1493684544878936064_o.jpg
END:VEVENT
END:VCALENDAR