BEGIN:VCALENDAR
VERSION:2.0
PRODID:-//Beer.be - ECPv6.15.20//NONSGML v1.0//EN
CALSCALE:GREGORIAN
METHOD:PUBLISH
X-WR-CALNAME:Beer.be
X-ORIGINAL-URL:https://beer.be
X-WR-CALDESC:Évènements pour Beer.be
REFRESH-INTERVAL;VALUE=DURATION:PT1H
X-Robots-Tag:noindex
X-PUBLISHED-TTL:PT1H
BEGIN:VTIMEZONE
TZID:Europe/Brussels
BEGIN:DAYLIGHT
TZOFFSETFROM:+0100
TZOFFSETTO:+0200
TZNAME:CEST
DTSTART:20180325T010000
END:DAYLIGHT
BEGIN:STANDARD
TZOFFSETFROM:+0200
TZOFFSETTO:+0100
TZNAME:CET
DTSTART:20181028T010000
END:STANDARD
BEGIN:DAYLIGHT
TZOFFSETFROM:+0100
TZOFFSETTO:+0200
TZNAME:CEST
DTSTART:20190331T010000
END:DAYLIGHT
BEGIN:STANDARD
TZOFFSETFROM:+0200
TZOFFSETTO:+0100
TZNAME:CET
DTSTART:20191027T010000
END:STANDARD
BEGIN:DAYLIGHT
TZOFFSETFROM:+0100
TZOFFSETTO:+0200
TZNAME:CEST
DTSTART:20200329T010000
END:DAYLIGHT
BEGIN:STANDARD
TZOFFSETFROM:+0200
TZOFFSETTO:+0100
TZNAME:CET
DTSTART:20201025T010000
END:STANDARD
END:VTIMEZONE
BEGIN:VEVENT
DTSTART;VALUE=DATE:20190301
DTEND;VALUE=DATE:20190302
DTSTAMP:20260423T163305
CREATED:20190220T152345Z
LAST-MODIFIED:20190220T152345Z
UID:13411-1551398400-1551484799@beer.be
SUMMARY:Make it Black: Van Moll Edition
DESCRIPTION:We will host a night full of dark beers on March 1 with Van Moll. They have a brewpub in Eindhoven and are big stout and black beer fans. In these conditions\, we HAD to do something together 😉 \nWe have been asked numerous times to organize a new black beer and chocolate night\, so here it is 🙂 For this tap takeover\, we decided to pair every dark beer Van Moll brings with a praline. Freek\, our Van Moll maestro\, will travel all the way from the Netherlands to share the night with us (and i suspect eat all the chocolates). \nBeer List:\n1) Black Metal Manita - Black IPA\n2) Bastenaken! - Belgian Cookie Brown Ale\n3) Road to Nowhere - Thai Coffee Stout\n4) Ons Blackie - Imperial Stout\n5) Morricone - Imperial Tiramisu Stout\n6) Camp Cariboo - Imperial Maple & Coffee Porter\n7) Zoltan Bowmore Barrel Aged - Imperial Stout\n8) Shadow Assassin Auchentoshan Barrel Aged - Black Barley Wine
URL:https://beer.be/agenda/make-it-black-van-moll-edition/
CATEGORIES:Dynamo
END:VEVENT
BEGIN:VEVENT
DTSTART;VALUE=DATE:20190322
DTEND;VALUE=DATE:20190323
DTSTAMP:20260423T163305
CREATED:20190318T131416Z
LAST-MODIFIED:20190318T131416Z
UID:13587-1553212800-1553299199@beer.be
SUMMARY:Bruxelles Arrive: Novabirra x Grand Paris TTO
DESCRIPTION:The event is all about friendship\, passion and good beer. Manu Corazzini (Novabirra) introduced Fabrice\, co-founder of Brasserie du Grand Paris\, to homebrewing a decade ago. Quickly after\, I (Greg from Dynamo) also took a course with Manu\, met with Fabrice and started to become a beer nerd. The start of a journey that we change our life. Earlier this year\, Manu and Fabrice decided to collab on a beer that they would name Bruxelles Arrive as a tribute. We are very happy to be able to introduce you the brew that two of our long time friends put together. We will launch the beer in Belgium this Friday 22 March at the Dynamo and Manu will be there\, as well as Laura from Grand Paris. There will be 10 beers on tap for the occasion.
URL:https://beer.be/agenda/bruxelles-arrive-novabirra-x-grand-paris-tto/
CATEGORIES:Dynamo
ATTACH;FMTTYPE=image/jpeg:https://beer.be/wp-content/uploads/2019/03/54258295_1978057622293383_8323427722344792064_o.jpg
END:VEVENT
END:VCALENDAR