BEGIN:VCALENDAR
VERSION:2.0
PRODID:-//Beer.be - ECPv6.15.20//NONSGML v1.0//EN
CALSCALE:GREGORIAN
METHOD:PUBLISH
X-ORIGINAL-URL:https://beer.be
X-WR-CALDESC:Évènements pour Beer.be
REFRESH-INTERVAL;VALUE=DURATION:PT1H
X-Robots-Tag:noindex
X-PUBLISHED-TTL:PT1H
BEGIN:VTIMEZONE
TZID:Europe/Brussels
BEGIN:DAYLIGHT
TZOFFSETFROM:+0100
TZOFFSETTO:+0200
TZNAME:CEST
DTSTART:20180325T010000
END:DAYLIGHT
BEGIN:STANDARD
TZOFFSETFROM:+0200
TZOFFSETTO:+0100
TZNAME:CET
DTSTART:20181028T010000
END:STANDARD
BEGIN:DAYLIGHT
TZOFFSETFROM:+0100
TZOFFSETTO:+0200
TZNAME:CEST
DTSTART:20190331T010000
END:DAYLIGHT
BEGIN:STANDARD
TZOFFSETFROM:+0200
TZOFFSETTO:+0100
TZNAME:CET
DTSTART:20191027T010000
END:STANDARD
BEGIN:DAYLIGHT
TZOFFSETFROM:+0100
TZOFFSETTO:+0200
TZNAME:CEST
DTSTART:20200329T010000
END:DAYLIGHT
BEGIN:STANDARD
TZOFFSETFROM:+0200
TZOFFSETTO:+0100
TZNAME:CET
DTSTART:20201025T010000
END:STANDARD
END:VTIMEZONE
BEGIN:VEVENT
DTSTART;VALUE=DATE:20191018
DTEND;VALUE=DATE:20191019
DTSTAMP:20260423T064447
CREATED:20191015T151625Z
LAST-MODIFIED:20191015T151625Z
UID:14433-1571356800-1571443199@beer.be
SUMMARY:Australia is Coming: La Sirène Night
DESCRIPTION:We go every year to the Carnivale Brettanomyces in Amsterdam\, a semi professional beer festival dedicated to bretts and sours and “La Sirene” beers were one of our highlights this year. Costa\, who is based in Melbourne\, Australia\, makes absolutely fantastic saisons and sour beers. When he told us that some of his beers were on a boat to Europe\, we felt we had to find a way to bring them to Brussels. The amount of work put on the barrel aged beers is insane but it has a direct impact on the final product. For this night\, no tap takeover\, there will be only 2 of his beers on tap and 8 by the bottle. Quantities are limited (12 bottles only for most beers) but the barrel aged beers will be available by the taster as well\, to make sure everybody can have a go. \nBeer Menu:\n1) Saison - 6\,5% Complex rustic flavours of spice and a little funk combine deliciously to finally deliver a dry finish. \n2) Citray Sour – 4\,5% Sour Farmhouse Ale brewed with local hops\, house yeast\, house lactobacillus and oranges. \n3) Bière de Provision – 3\,8% Farmhouse Style Workers Beer - Light Bodied - Floral Crisp & unique wild yeast imparts tart refreshment. \n4) Paradoxe – 5% Classic grape characters and juicy yet tangy green fruits dominate with the bracing acidity that delivers a dry\, creamy and refreshing finish. \n5) Wild Saison – 6\,5% Fermented and aged with wild Brettanomyces yeast coupled with their trademark funk. \n6) Farmhouse Noir – 6\,5% Dark Farmhouse Ale with smooth rich and dark malts and their house yeast\, naturally soured using their indigenous bacteria\, and with earthy citrus hop characters. \n7) Wild Wit – 4\,8% The Wild Wit is a Farmhouse Style White Ale that was laid to rest back in 2015 in premium Burgundy barrels which previously had Chardonnay in them. After a secondary then tertiary fermentation\, they hopped this farmhouse White Ale with wonderfully tropical Galaxy to give it a new-world edge. \n8) Cuvee de Bois – 6\,2% Barrel Aged Wild Ale with Chardonnay - Cuvée De Bois began as an open fermented Farmhouse Ale\, that was co-fermented with Victorian "free run" Chardonnay and left to naturally sour for an extended period. To the young fermented beer\, they blended 2 x selected barriques of 2013 & 2014 Saison that had been barrel fermented and aged on chardonnay lees a modern day ‘Bière De Coupage’ technique where young and old beer is blended. Cuvée De Bois was laid on its side to mature and naturally carbonate using indigenous flora for the last 8 months. \n9) Reserve Saison – 7% Saison vintages aged in Burgundian Barriques and Hogsheads since 2015 and 2016. The Reserve Saison displays generous oak character and balance with ethereal yet rustic notes of the indigenous wild yeast residing within the walls of their brewery. The Reserve Saison is the ultimate expression of their site and House Style\, imparting a sense of place\, time and season to this wild ale. \n10) Bière de Cerise – 5\,5% Barrel Aged Sour Wild Cherry Ale Solera Method - Blended from various farmhouse ales that have matured in French Oak barriques. These wild ales sat on luscious whole European cherries for 18-36 months naturally allowing the wild flora found in the brewery to slowly ferment and /or sour the remaining sugars.
URL:https://beer.be/agenda/australia-is-coming-la-sirene-night/
CATEGORIES:Dynamo
ATTACH;FMTTYPE=image/jpeg:https://beer.be/wp-content/uploads/2019/10/73202875_2323926921039783_1200931529509830656_o.jpg
END:VEVENT
BEGIN:VEVENT
DTSTART;VALUE=DATE:20191025
DTEND;VALUE=DATE:20191027
DTSTAMP:20260423T064447
CREATED:20191010T072750Z
LAST-MODIFIED:20191010T072750Z
UID:14410-1571961600-1572134399@beer.be
SUMMARY:Malt Attacks & Dynamo Anniversary Party
DESCRIPTION:Malt Attacks is turning 5 and Dynamo 4 end of this month. Time flies... but it's also the perfect excuse to get lots of beers from some of the best craft breweries from the UK! For this edition we'll bring beer from 6 different craft breweries\, some of our all time favourites and some new ones we have been following for a while and never seen in Belgium. 35 of the finest brews you can find in the country\, over the course of a weekend. 18 will be tapped on the Friday\, with a full new menu on the Saturday. Antoine will come with a pop up Malt Attacks to let you go back home with little souvenirs.
URL:https://beer.be/agenda/malt-attacks-dynamo-anniversary-party/
CATEGORIES:Dynamo
ATTACH;FMTTYPE=image/jpeg:https://beer.be/wp-content/uploads/2019/10/72458451_2314088872023588_8055129941521465344_o.jpg
END:VEVENT
BEGIN:VEVENT
DTSTART;VALUE=DATE:20191031
DTEND;VALUE=DATE:20191101
DTSTAMP:20260423T064447
CREATED:20190817T103533Z
LAST-MODIFIED:20190817T103533Z
UID:14180-1572480000-1572566399@beer.be
SUMMARY:Halloween’s Monster Mash - Second Edition
DESCRIPTION:Hell-O boils and ghouls! Get ready for the second edition of Voodoo Vegan’s Halloween Monster Mash at Dynamo - Bar de Soif! Just like last year\, with plenty of spine-tingling music to lift the spirits (👻)\, old school B horror movie screenings and\, above all\, lots of scary delicious thematic food to share (or not)! It’s going to be terrrrrific!
URL:https://beer.be/agenda/halloweens-monster-mash-second-edition/
CATEGORIES:Dynamo
ATTACH;FMTTYPE=image/jpeg:https://beer.be/wp-content/uploads/2019/08/67641676_2407444316005883_6859525893740560384_n.jpg
END:VEVENT
END:VCALENDAR