BEGIN:VCALENDAR
VERSION:2.0
PRODID:-//Beer.be - ECPv6.15.20//NONSGML v1.0//EN
CALSCALE:GREGORIAN
METHOD:PUBLISH
X-ORIGINAL-URL:https://beer.be
X-WR-CALDESC:Évènements pour Beer.be
REFRESH-INTERVAL;VALUE=DURATION:PT1H
X-Robots-Tag:noindex
X-PUBLISHED-TTL:PT1H
BEGIN:VTIMEZONE
TZID:Europe/Brussels
BEGIN:DAYLIGHT
TZOFFSETFROM:+0100
TZOFFSETTO:+0200
TZNAME:CEST
DTSTART:20190331T010000
END:DAYLIGHT
BEGIN:STANDARD
TZOFFSETFROM:+0200
TZOFFSETTO:+0100
TZNAME:CET
DTSTART:20191027T010000
END:STANDARD
BEGIN:DAYLIGHT
TZOFFSETFROM:+0100
TZOFFSETTO:+0200
TZNAME:CEST
DTSTART:20200329T010000
END:DAYLIGHT
BEGIN:STANDARD
TZOFFSETFROM:+0200
TZOFFSETTO:+0100
TZNAME:CET
DTSTART:20201025T010000
END:STANDARD
BEGIN:DAYLIGHT
TZOFFSETFROM:+0100
TZOFFSETTO:+0200
TZNAME:CEST
DTSTART:20210328T010000
END:DAYLIGHT
BEGIN:STANDARD
TZOFFSETFROM:+0200
TZOFFSETTO:+0100
TZNAME:CET
DTSTART:20211031T010000
END:STANDARD
END:VTIMEZONE
BEGIN:VEVENT
DTSTART;VALUE=DATE:20200214
DTEND;VALUE=DATE:20200215
DTSTAMP:20260423T002256
CREATED:20200207T153638Z
LAST-MODIFIED:20200207T153638Z
UID:15044-1581638400-1581724799@beer.be
SUMMARY:Super Smash Bros Night with North Brewing
DESCRIPTION:You asked for a Super Smash Bros Night? Here it is! No concept\, just a big screen\, up to 8 players at the same time. Just grab a controller and show your skills! \nAs beer pairing\, there will be the fresh release of North Brewing:\n- Transmission (not new\, just our all time fav)\n- Loops & Dots - IPA\n- Big House Waltz - Double IPA\n- Pressure Drop Collab - Cherry Porter\n- Buxton Collab - Smoked Imperial Stout\n+ the ultimate 8-can packs to takeaway!
URL:https://beer.be/agenda/super-smash-bros-night-with-north-brewing/
CATEGORIES:Dynamo
ATTACH;FMTTYPE=image/jpeg:https://beer.be/wp-content/uploads/2020/02/84457920_2560464320719374_1998676311232479232_o.jpg
END:VEVENT
BEGIN:VEVENT
DTSTART;VALUE=DATE:20200228
DTEND;VALUE=DATE:20200301
DTSTAMP:20260423T002256
CREATED:20200211T174109Z
LAST-MODIFIED:20200211T174109Z
UID:15077-1582848000-1583020799@beer.be
SUMMARY:Danish Beer Weekend: 13 beers on tap
DESCRIPTION:Join us this 28-29 Feb for our first Danish Beer Weekend\, with 2 of the best breweries in the country : Dry & Bitter and Broaden & Build. Dry & Bitter is a well known Danish brewery that we invited in November last year\, initially focusing on hoppy and bitter beers but that now makes a wide variety of styles. The beers were very well received when they paid us a visit and we promised people that we would bring them back soon again. Broaden & Build is a brewpub based Copenhagen\, exploring the use of local ingredients in beer. During the weekend\, you’ll for example be able to try a stout with blackened pears or a saison with apple and black pepper. There will be 13 different beers on tap over the course of the weekend and even more by the can.
URL:https://beer.be/agenda/danish-beer-weekend-13-beers-on-tap/
CATEGORIES:Dynamo
ATTACH;FMTTYPE=image/jpeg:https://beer.be/wp-content/uploads/2020/02/84646653_2566340860131720_1115916641910128640_o.jpg
END:VEVENT
END:VCALENDAR