BEGIN:VCALENDAR
VERSION:2.0
PRODID:-//Beer.be - ECPv6.15.20//NONSGML v1.0//EN
CALSCALE:GREGORIAN
METHOD:PUBLISH
X-ORIGINAL-URL:https://beer.be
X-WR-CALDESC:Évènements pour Beer.be
REFRESH-INTERVAL;VALUE=DURATION:PT1H
X-Robots-Tag:noindex
X-PUBLISHED-TTL:PT1H
BEGIN:VTIMEZONE
TZID:Europe/Brussels
BEGIN:DAYLIGHT
TZOFFSETFROM:+0100
TZOFFSETTO:+0200
TZNAME:CEST
DTSTART:20200329T010000
END:DAYLIGHT
BEGIN:STANDARD
TZOFFSETFROM:+0200
TZOFFSETTO:+0100
TZNAME:CET
DTSTART:20201025T010000
END:STANDARD
BEGIN:DAYLIGHT
TZOFFSETFROM:+0100
TZOFFSETTO:+0200
TZNAME:CEST
DTSTART:20210328T010000
END:DAYLIGHT
BEGIN:STANDARD
TZOFFSETFROM:+0200
TZOFFSETTO:+0100
TZNAME:CET
DTSTART:20211031T010000
END:STANDARD
BEGIN:DAYLIGHT
TZOFFSETFROM:+0100
TZOFFSETTO:+0200
TZNAME:CEST
DTSTART:20220327T010000
END:DAYLIGHT
BEGIN:STANDARD
TZOFFSETFROM:+0200
TZOFFSETTO:+0100
TZNAME:CET
DTSTART:20221030T010000
END:STANDARD
END:VTIMEZONE
BEGIN:VEVENT
DTSTART;VALUE=DATE:20210508
DTEND;VALUE=DATE:20210509
DTSTAMP:20260422T002143
CREATED:20210427T073037Z
LAST-MODIFIED:20210427T073037Z
UID:16572-1620432000-1620518399@beer.be
SUMMARY:Burning Sky Terrace Takeover
DESCRIPTION:7 months after our closure\, we are very happy to reopen the Dynamo terrace! We’ve been waiting for so long that we obviously had enough time to think what beers we would like to drink… Then Burning Sky is the obvious choice…\n\nThere will be 5 of their beers on tap:\n1) Saison Houblon\n2) Saison Provision\n3) Saison Anniversaire 2020\n4) Cuvee 2020\n5) Robust Porter\n\n5€/30cl of all their beers all day (or till the end of our stock) and the first 10 to drink them all will be offered a taster of the magnum of Assemblage #2 we’ll open that Saturday morning. Other beers will obviously be available (ipa\, gueuze stout et tout le tralala). We’ll open the terrace at 11am till 10pm that day. In case of good weather\, we should be able to fit 50-60 people (otherwise\, only 20 will be protected from the rain - take an umbrella).
URL:https://beer.be/agenda/burning-sky-terrace-takeover-2/
CATEGORIES:Dynamo
ATTACH;FMTTYPE=image/jpeg:https://beer.be/wp-content/uploads/2021/04/178167382_3702912146474580_2948815321076255727_n.jpg
END:VEVENT
BEGIN:VEVENT
DTSTART;VALUE=DATE:20210509
DTEND;VALUE=DATE:20210510
DTSTAMP:20260422T002143
CREATED:20210429T065240Z
LAST-MODIFIED:20210429T065240Z
UID:16599-1620518400-1620604799@beer.be
SUMMARY:La Source Terrace Takeover
DESCRIPTION:We’ve all drunk cans of La Source during this confinement. And I am sure you also wanna drink them now from tap! Let’s not wait longer for this and let’s have an event with La Source. There will be 12 of their brews on tap.\nThe Dynamo will open on weekend days at 2pm till 10pm (with an exception on May \, no booking available.
URL:https://beer.be/agenda/la-source-terrace-takeover/
CATEGORIES:Dynamo
ATTACH;FMTTYPE=image/jpeg:https://beer.be/wp-content/uploads/2021/04/178873288_3704879872944474_9086490880523653892_n.jpg
END:VEVENT
BEGIN:VEVENT
DTSTART;VALUE=DATE:20210521
DTEND;VALUE=DATE:20210522
DTSTAMP:20260422T002143
CREATED:20210521T090915Z
LAST-MODIFIED:20210521T090915Z
UID:16689-1621555200-1621641599@beer.be
SUMMARY:Drogenbos Cream Ale Launch
DESCRIPTION:The Drogenboys & Girls came this week with a sample of their brand new Cream Ale. And it was tasty. Cans will be available from next week but we tap a keg in avant première this Friday!
URL:https://beer.be/agenda/drogenbos-cream-ale-launch/
CATEGORIES:Dynamo
ATTACH;FMTTYPE=image/jpeg:https://beer.be/wp-content/uploads/2021/05/187455071_3771280586304402_2466565938853297245_n.jpg
END:VEVENT
END:VCALENDAR