BEGIN:VCALENDAR
VERSION:2.0
PRODID:-//Beer.be - ECPv6.15.20//NONSGML v1.0//EN
CALSCALE:GREGORIAN
METHOD:PUBLISH
X-WR-CALNAME:Beer.be
X-ORIGINAL-URL:https://beer.be
X-WR-CALDESC:Évènements pour Beer.be
REFRESH-INTERVAL;VALUE=DURATION:PT1H
X-Robots-Tag:noindex
X-PUBLISHED-TTL:PT1H
BEGIN:VTIMEZONE
TZID:Europe/Brussels
BEGIN:DAYLIGHT
TZOFFSETFROM:+0100
TZOFFSETTO:+0200
TZNAME:CEST
DTSTART:20200329T010000
END:DAYLIGHT
BEGIN:STANDARD
TZOFFSETFROM:+0200
TZOFFSETTO:+0100
TZNAME:CET
DTSTART:20201025T010000
END:STANDARD
BEGIN:DAYLIGHT
TZOFFSETFROM:+0100
TZOFFSETTO:+0200
TZNAME:CEST
DTSTART:20210328T010000
END:DAYLIGHT
BEGIN:STANDARD
TZOFFSETFROM:+0200
TZOFFSETTO:+0100
TZNAME:CET
DTSTART:20211031T010000
END:STANDARD
BEGIN:DAYLIGHT
TZOFFSETFROM:+0100
TZOFFSETTO:+0200
TZNAME:CEST
DTSTART:20220327T010000
END:DAYLIGHT
BEGIN:STANDARD
TZOFFSETFROM:+0200
TZOFFSETTO:+0100
TZNAME:CET
DTSTART:20221030T010000
END:STANDARD
END:VTIMEZONE
BEGIN:VEVENT
DTSTART;VALUE=DATE:20210716
DTEND;VALUE=DATE:20210717
DTSTAMP:20260421T212506
CREATED:20210715T042541Z
LAST-MODIFIED:20210715T042541Z
UID:17001-1626393600-1626479999@beer.be
SUMMARY:Video Gaming Night
DESCRIPTION:Football is over but our screens and projectors are ready for the come back of some consoles. Mario is coming home! Expect some Street Fighter on SNES\, some super smash bros on Switch\, some Tekken\, etc. The night wouldn't be perfect without some food (it's tokidoki last week before their summer break) but also some nice beers. We'll tap the following for the occasion:\n\n1) Buxton Right to Roam - English Bitter\n2) Arpus DDH Pale Ale\n3) Maltgarden Consider It Done - Double IPA\n4) Tempest Old Fashioned Bourbon Barrel Aged\n5) TBA
URL:https://beer.be/agenda/video-gaming-night/
CATEGORIES:Dynamo
ATTACH;FMTTYPE=image/jpeg:https://beer.be/wp-content/uploads/2021/07/214835305_3916640161768443_734001000051043009_n.jpg
END:VEVENT
BEGIN:VEVENT
DTSTART;VALUE=DATE:20210723
DTEND;VALUE=DATE:20210724
DTSTAMP:20260421T212506
CREATED:20210716T100937Z
LAST-MODIFIED:20210716T100937Z
UID:17022-1626998400-1627084799@beer.be
SUMMARY:Piggy Brewing Tap Taekover
DESCRIPTION:We have fresh kegs coming over from one of the best brewery in France: Piggy Brewing. They are known for the big hoppy beers as well as their monstruous fat serie\, which are big imperial stouts. Their cans can be found in Belgium but we don't get their kegs often!\n\nTap List:\n1) Eroica - NEIPA\n2) Carte Blanche - Hoppy Wit\n3) Pick me Up - Pale Ale\n4) Galaxy Cartel - Double IPA\n5) Imago - Double IPA\n6) Fruit Basket - Pale Ale\n7) Monstruous Mexican Cake - Imperial Stout
URL:https://beer.be/agenda/piggy-brewing-tap-taekover/
CATEGORIES:Dynamo
ATTACH;FMTTYPE=image/jpeg:https://beer.be/wp-content/uploads/2021/07/217053542_3927776813988111_2488290626075348358_n.jpg
END:VEVENT
END:VCALENDAR