BEGIN:VCALENDAR
VERSION:2.0
PRODID:-//Beer.be - ECPv6.15.20//NONSGML v1.0//EN
CALSCALE:GREGORIAN
METHOD:PUBLISH
X-WR-CALNAME:Beer.be
X-ORIGINAL-URL:https://beer.be
X-WR-CALDESC:Évènements pour Beer.be
REFRESH-INTERVAL;VALUE=DURATION:PT1H
X-Robots-Tag:noindex
X-PUBLISHED-TTL:PT1H
BEGIN:VTIMEZONE
TZID:Europe/Brussels
BEGIN:DAYLIGHT
TZOFFSETFROM:+0100
TZOFFSETTO:+0200
TZNAME:CEST
DTSTART:20190331T010000
END:DAYLIGHT
BEGIN:STANDARD
TZOFFSETFROM:+0200
TZOFFSETTO:+0100
TZNAME:CET
DTSTART:20191027T010000
END:STANDARD
BEGIN:DAYLIGHT
TZOFFSETFROM:+0100
TZOFFSETTO:+0200
TZNAME:CEST
DTSTART:20200329T010000
END:DAYLIGHT
BEGIN:STANDARD
TZOFFSETFROM:+0200
TZOFFSETTO:+0100
TZNAME:CET
DTSTART:20201025T010000
END:STANDARD
BEGIN:DAYLIGHT
TZOFFSETFROM:+0100
TZOFFSETTO:+0200
TZNAME:CEST
DTSTART:20210328T010000
END:DAYLIGHT
BEGIN:STANDARD
TZOFFSETFROM:+0200
TZOFFSETTO:+0100
TZNAME:CET
DTSTART:20211031T010000
END:STANDARD
END:VTIMEZONE
BEGIN:VEVENT
DTSTART;VALUE=DATE:20200618
DTEND;VALUE=DATE:20200619
DTSTAMP:20260424T013731
CREATED:20200609T171846Z
LAST-MODIFIED:20200609T171846Z
UID:15384-1592438400-1592524799@beer.be
SUMMARY:OWA - Meet the brewer
DESCRIPTION:Come and meet Leo Imai\, the OWA brew master ! And taste together with him the new batches and magic food paring. \nOld traditional Belgian (De Troch) lambics with a Japanese fruits or herbs twist ...\nBesides the great OWA Stout\, 1 year aged on Bourgogne wine barels\,\nMomo (Japanese peach) Lambic\nShiso (Green herbs) Lambic\nYuzu (Japanese lemon) Labic\nIchigo (Japanese Strawberry) Lambic\nUme (Japanese plum) Lambic \nEUR 30 per person - Reserve on PM!
URL:https://beer.be/agenda/owa-meet-the-brewer-2/
LOCATION:Family Brews\, Haringstraat 2\, Brussel\, 1000\, Belgique
CATEGORIES:Dégustation
ATTACH;FMTTYPE=image/jpeg:https://beer.be/wp-content/uploads/2020/06/102715454_871686106649525_592527282329952878_o.jpg
END:VEVENT
END:VCALENDAR