BEGIN:VCALENDAR
VERSION:2.0
PRODID:-//Beer.be - ECPv6.15.20//NONSGML v1.0//EN
CALSCALE:GREGORIAN
METHOD:PUBLISH
X-WR-CALNAME:Beer.be
X-ORIGINAL-URL:https://beer.be
X-WR-CALDESC:Évènements pour Beer.be
REFRESH-INTERVAL;VALUE=DURATION:PT1H
X-Robots-Tag:noindex
X-PUBLISHED-TTL:PT1H
BEGIN:VTIMEZONE
TZID:Europe/Brussels
BEGIN:DAYLIGHT
TZOFFSETFROM:+0100
TZOFFSETTO:+0200
TZNAME:CEST
DTSTART:20200329T010000
END:DAYLIGHT
BEGIN:STANDARD
TZOFFSETFROM:+0200
TZOFFSETTO:+0100
TZNAME:CET
DTSTART:20201025T010000
END:STANDARD
BEGIN:DAYLIGHT
TZOFFSETFROM:+0100
TZOFFSETTO:+0200
TZNAME:CEST
DTSTART:20210328T010000
END:DAYLIGHT
BEGIN:STANDARD
TZOFFSETFROM:+0200
TZOFFSETTO:+0100
TZNAME:CET
DTSTART:20211031T010000
END:STANDARD
BEGIN:DAYLIGHT
TZOFFSETFROM:+0100
TZOFFSETTO:+0200
TZNAME:CEST
DTSTART:20220327T010000
END:DAYLIGHT
BEGIN:STANDARD
TZOFFSETFROM:+0200
TZOFFSETTO:+0100
TZNAME:CET
DTSTART:20221030T010000
END:STANDARD
END:VTIMEZONE
BEGIN:VEVENT
DTSTART;VALUE=DATE:20211217
DTEND;VALUE=DATE:20211218
DTSTAMP:20260423T000156
CREATED:20211114T135623Z
LAST-MODIFIED:20211114T135623Z
UID:18195-1639699200-1639785599@beer.be
SUMMARY:Brewer's Delight #34 - FAUVE (FR)
DESCRIPTION:After a visit to the brewpub in the heart of Paris\, and a blast on all the taste buds with beers that range on all the spectrum of the best craft beers you can do\, we certainly wanted to bring you their colourful beers to Brussels! Ladies and Gents\, meet one of the best French breweries of the moment : FAUVE. The whole team will be at Le Barboteur behind the taps\, dancing on tables and chugging all the Mont d'Or au four they can get!\nAnd we will be twisting our hips to the one and only DJ KINKLE rock'n'roll dj set!
URL:https://beer.be/agenda/brewers-delight-34-fauve-fr/
LOCATION:Barboteur\, 23 avenue Louis Bertrand\, Bruxelles\, Schaerbeek\, 1030\, Belgique
CATEGORIES:Barboteur
ATTACH;FMTTYPE=image/jpeg:https://beer.be/wp-content/uploads/2021/11/255020833_1915207578661277_3615914554438777047_n.jpg
END:VEVENT
END:VCALENDAR