BEGIN:VCALENDAR
VERSION:2.0
PRODID:-//Beer.be - ECPv6.15.20//NONSGML v1.0//EN
CALSCALE:GREGORIAN
METHOD:PUBLISH
X-ORIGINAL-URL:https://beer.be
X-WR-CALDESC:Évènements pour Beer.be
REFRESH-INTERVAL;VALUE=DURATION:PT1H
X-Robots-Tag:noindex
X-PUBLISHED-TTL:PT1H
BEGIN:VTIMEZONE
TZID:Europe/Brussels
BEGIN:DAYLIGHT
TZOFFSETFROM:+0100
TZOFFSETTO:+0200
TZNAME:CEST
DTSTART:20180325T010000
END:DAYLIGHT
BEGIN:STANDARD
TZOFFSETFROM:+0200
TZOFFSETTO:+0100
TZNAME:CET
DTSTART:20181028T010000
END:STANDARD
BEGIN:DAYLIGHT
TZOFFSETFROM:+0100
TZOFFSETTO:+0200
TZNAME:CEST
DTSTART:20190331T010000
END:DAYLIGHT
BEGIN:STANDARD
TZOFFSETFROM:+0200
TZOFFSETTO:+0100
TZNAME:CET
DTSTART:20191027T010000
END:STANDARD
BEGIN:DAYLIGHT
TZOFFSETFROM:+0100
TZOFFSETTO:+0200
TZNAME:CEST
DTSTART:20200329T010000
END:DAYLIGHT
BEGIN:STANDARD
TZOFFSETFROM:+0200
TZOFFSETTO:+0100
TZNAME:CET
DTSTART:20201025T010000
END:STANDARD
END:VTIMEZONE
BEGIN:VEVENT
DTSTART;VALUE=DATE:20190406
DTEND;VALUE=DATE:20190408
DTSTAMP:20260422T222202
CREATED:20190311T150953Z
LAST-MODIFIED:20190311T150953Z
UID:13519-1554508800-1554681599@beer.be
SUMMARY:T'as Zouav'? - Festival de la bière
DESCRIPTION:Rendez-vous le week-end du 6 et 7 avril 2019 à la ferme de l'abbaye d'Aulne pour la première édition du T'as Zouav' - festival de la bière. Le festival se veut être un événement convivial et familial consacré à la bière rassemblant une quinzaine de brasseurs. Vous pourrez y retrouver une dégustation de bières\, un brassin public\, des animations pour petits et grands\, de la petite restauration avec une ambiance musicale.
URL:https://beer.be/agenda/tas-zouav-festival-de-la-biere/
LOCATION:Ferme de l'Abbaye d'Aulne\, rue de l'Abbaye d'Aulne\, Thuin\, Belgique
CATEGORIES:Festival
ATTACH;FMTTYPE=image/jpeg:https://beer.be/wp-content/uploads/2019/03/51632666_1234538156709372_5687308273598857216_n.jpg
END:VEVENT
BEGIN:VEVENT
DTSTART;VALUE=DATE:20190412
DTEND;VALUE=DATE:20190415
DTSTAMP:20260422T222202
CREATED:20190220T085005Z
LAST-MODIFIED:20190220T085005Z
UID:13397-1555027200-1555286399@beer.be
SUMMARY:La Cité De La Bière #6
DESCRIPTION:Le festival désormais incontournable La Cité De La Bière revient au Musée de la vie wallonne du 12 au 14 avril pour sa 6ème édition ! \nUn panel de micro-brasseries locales\, régionales mais aussi étrangères !\n# 13 micro-brasseries liégeoises & 5 invitées d'honneur > https://www.lacitedelabiere.net/micro-brasseries\n# 1 micro-brasserie de la Prov. du Luxembourg alias Gengoulf\n# 1 micro-brasserie flamande alias De Dochter van de Korenaar\n# Des micro-brasseries étrangères : Brasserie artisanale Mont Noble (Suisse) et ...\n# Plus de 60 bières en dégustation ?\n# Restauration par Restaurant Le Cloître (Work'Inn CISP)\n# Boulangerie "Chez Dolci's"
URL:https://beer.be/agenda/la-cite-de-la-biere-6/
LOCATION:Musée de la vie wallonne\, Liège\, 4000\, Belgique
CATEGORIES:Festival
ATTACH;FMTTYPE=image/jpeg:https://beer.be/wp-content/uploads/2019/02/52944340_1981975021911600_3575847706016350208_o.jpg
END:VEVENT
BEGIN:VEVENT
DTSTART;VALUE=DATE:20190413
DTEND;VALUE=DATE:20190415
DTSTAMP:20260422T222202
CREATED:20190127T095615Z
LAST-MODIFIED:20190127T095615Z
UID:13137-1555113600-1555286399@beer.be
SUMMARY:Leuven Innovation Beer Festival 2019
DESCRIPTION:Hof ten Dormaal selected 16 innovative breweries from all over the world to surprise you on the 5th edition of the Leuven Innovation Beer Festival!\n\n\n\n\n\n\n\n"The idea remains the same. We bring innovative breweries together from around the world to meet each other\, to create a setting where new ideas can grow\, where collaborations can spring\, where visitors meet the brewers and where you can taste unique and innovative brews from all over the world. All of this in the authentic setting of De Hoorn Brewery." \n- Andre Janssens\n\n\n\n\n\n\n\nIf you're curious to find out which breweries are invited\, make sure to follow us on FB\, Twitter or Instagram. The following weeks the breweries will be announced there!
URL:https://beer.be/agenda/leuven-innovation-beer-festival-2019/
LOCATION:De Hoorn\, Sluisstraat 79\, Leuven\, 3000\, Belgique
CATEGORIES:Festival
ATTACH;FMTTYPE=image/png:https://beer.be/wp-content/uploads/2019/01/LIBF2019_logo.png
END:VEVENT
BEGIN:VEVENT
DTSTART;VALUE=DATE:20190426
DTEND;VALUE=DATE:20190429
DTSTAMP:20260422T222202
CREATED:20190502T135457Z
LAST-MODIFIED:20190502T135457Z
UID:13810-1556236800-1556495999@beer.be
SUMMARY:Festival ARDEN BREW FEST 2019
DESCRIPTION:7ème FESTIVAL INTERNATIONAL DES BRASSERIES ARTISANALES à HAYBES au coeur du massif de l'ARDENNE 2019.
URL:https://beer.be/agenda/festival-arden-brew-fest-2019/
CATEGORIES:Festival
ATTACH;FMTTYPE=image/jpeg:https://beer.be/wp-content/uploads/2019/05/56611672_2458396620837593_6493739583727992832_o.jpg
END:VEVENT
BEGIN:VEVENT
DTSTART;VALUE=DATE:20190427
DTEND;VALUE=DATE:20190429
DTSTAMP:20260422T222202
CREATED:20181130T134038Z
LAST-MODIFIED:20181130T134104Z
UID:12920-1556323200-1556495999@beer.be
SUMMARY:Zythos Bierfestival 2019
DESCRIPTION:Opnieuw organiseert Zythos vzw het Zythos Bierfestival. Op 27 en 28 april kan je in de Brabanthal in Leuven komen proeven van meer dan 500 Belgische bieren van 100 verschillende brouwerijen en bierfirma's. Een niet te missen evenement voor alle bierliefhebbers! \nJust like every year\, Zythos vzw organises the Zythos Bierfestival. April 27th and 28th you can come to the Brabanthal in Leuven and taste more than 500 Belgian beers by 100 different breweries and beer companies. No beer enthousiast can miss this event!
URL:https://beer.be/agenda/zythos-bierfestival-2019/
LOCATION:Brabanthal\, Brabantlaan 1\, Leuven\, 3001\, Belgique
CATEGORIES:Festival
END:VEVENT
END:VCALENDAR