BEGIN:VCALENDAR
VERSION:2.0
PRODID:-//Beer.be - ECPv6.15.20//NONSGML v1.0//EN
CALSCALE:GREGORIAN
METHOD:PUBLISH
X-ORIGINAL-URL:https://beer.be
X-WR-CALDESC:Évènements pour Beer.be
REFRESH-INTERVAL;VALUE=DURATION:PT1H
X-Robots-Tag:noindex
X-PUBLISHED-TTL:PT1H
BEGIN:VTIMEZONE
TZID:Europe/Brussels
BEGIN:DAYLIGHT
TZOFFSETFROM:+0100
TZOFFSETTO:+0200
TZNAME:CEST
DTSTART:20180325T010000
END:DAYLIGHT
BEGIN:STANDARD
TZOFFSETFROM:+0200
TZOFFSETTO:+0100
TZNAME:CET
DTSTART:20181028T010000
END:STANDARD
BEGIN:DAYLIGHT
TZOFFSETFROM:+0100
TZOFFSETTO:+0200
TZNAME:CEST
DTSTART:20190331T010000
END:DAYLIGHT
BEGIN:STANDARD
TZOFFSETFROM:+0200
TZOFFSETTO:+0100
TZNAME:CET
DTSTART:20191027T010000
END:STANDARD
BEGIN:DAYLIGHT
TZOFFSETFROM:+0100
TZOFFSETTO:+0200
TZNAME:CEST
DTSTART:20200329T010000
END:DAYLIGHT
BEGIN:STANDARD
TZOFFSETFROM:+0200
TZOFFSETTO:+0100
TZNAME:CET
DTSTART:20201025T010000
END:STANDARD
END:VTIMEZONE
BEGIN:VEVENT
DTSTART;VALUE=DATE:20190504
DTEND;VALUE=DATE:20190505
DTSTAMP:20260422T204019
CREATED:20190408T105051Z
LAST-MODIFIED:20190408T105051Z
UID:13732-1556928000-1557014399@beer.be
SUMMARY:Pajot•ALE•Land - Pajottenland Craft Beer Festival
DESCRIPTION:On Saturday 4 May 2019\, vzw Lekker Vlaanderen organizes the first edition of Pajot Ale Land. This beer festival focuses on craft beers from small breweries from the Pajottenland and surroundings. More than 10 microbreweries are participating in the festival. The faucets open at 4 p.m. Entrance is free. \nPajot Ale Land takes place at the “Best cafe in the world” In de Verzekering tegen de Grote Dorst * on the church square of Eizeringen (Frans Baetensstraat 45\, Lennik). Never before have so many Pajot microbreweries been brought together in one place! Pajot Ale Land joins the first day of the legendary Toer de Geuze. If you would like to visit different lambic breweries and geuze studs during the day\, you can take the bus to In de Verzekering against the Grote Dorst in the morning. If you would like to reserve a seat on the Saturday bus\, you can reserve a ticket here: https://lekkervlaanderen.be/en/the-great-gueuze-tour-2019/ \nAfter enjoying Oude Geuze\, Oude Kriek and Oude Lambiek\, the bus will take you back to Eizeringen in the early evening and can get acquainted with the brews of 10 small microbreweries of the region between Zenne and Dender on the church square of Eizeringen. www.pajot.be
URL:https://beer.be/agenda/pajot%e2%80%a2ale%e2%80%a2land-pajottenland-craft-beer-festival/
LOCATION:Lekker Vlaanderen\, 45 Frans Baetensstraat\, Eizeringen\, 1750\, Belgique
CATEGORIES:Festival
ATTACH;FMTTYPE=image/jpeg:https://beer.be/wp-content/uploads/2019/04/56887141_596468647484322_2386390688443924480_n.jpg
END:VEVENT
BEGIN:VEVENT
DTSTART;VALUE=DATE:20190511
DTEND;VALUE=DATE:20190512
DTSTAMP:20260422T204019
CREATED:20190110T152907Z
LAST-MODIFIED:20190110T152907Z
UID:13068-1557532800-1557619199@beer.be
SUMMARY:Vilvordia BierProef Festival 2019
DESCRIPTION:Le cercle d’étudiants n.k. Vilvordia a le plaisir de vous convier à la 24ème edition de son Festival des Bières. ’60 Perles de la culture brassicole belge’ vous seront présentés. La dégustation se fait dans des verres de 15cl pour vous permettre d’en goûter un maximum. Le Festival ouvre ses portes à partir de 11heures. L’entrée est gratuite. A part\, plus de 60 différentes sortes de bières\, il y aura également un bbq.
URL:https://beer.be/agenda/vilvordia-bierproef-festival-2019/
LOCATION:VBPF Vilvordia Bierproef Festival\, Laarbeeklaan 119 [EhB Campus Jette]\, Bruxelles\, 1000\, Belgique
CATEGORIES:Festival
ATTACH;FMTTYPE=image/jpeg:https://beer.be/wp-content/uploads/2019/01/50177641_2479224765439717_1838471857838227456_o.jpg
END:VEVENT
BEGIN:VEVENT
DTSTART;VALUE=DATE:20190511
DTEND;VALUE=DATE:20190512
DTSTAMP:20260422T204019
CREATED:20190502T134002Z
LAST-MODIFIED:20190502T134002Z
UID:13795-1557532800-1557619199@beer.be
SUMMARY:BIRA BIRA beer festival #1
DESCRIPTION:ViaVia's very first Beer Festival !\n★ Come and taste the best and most extraordinary beers from 5 local Belgian breweries. Get to know what they stand for\, what they brew and let them surprise you with the experiments they create.\n★ First edition : 't Verzet\, L'annexe\, Grimaldie\, Siphon & Brasserie De La Senne. \n14 00 - 22 00 Beer Festival\n>> Free entrance // 1 euro per taster\nVote for your favorite beer of the month ! \n13 00 - 14 00 Beer Tasting Course\n>> Reservation required info@viaviabxl.com // price 15 €\nLearn what to look for and how to notice the subtile and less subtile differences in taste. \n22 00 - 02 30. DJ Set with Klet Perry
URL:https://beer.be/agenda/bira-bira-beer-festival-1/
LOCATION:ViaVia Café\, 74 quai aux briques\, Bruxelles\, 1000\, Belgique
CATEGORIES:Festival
ATTACH;FMTTYPE=image/jpeg:https://beer.be/wp-content/uploads/2019/05/58419921_10211593657355307_4478920534834282496_o.jpg
END:VEVENT
BEGIN:VEVENT
DTSTART;VALUE=DATE:20190518
DTEND;VALUE=DATE:20190520
DTSTAMP:20260422T204019
CREATED:20190331T103919Z
LAST-MODIFIED:20190331T103919Z
UID:13660-1558137600-1558310399@beer.be
SUMMARY:Festival de la coupe mulet 2019
DESCRIPTION:Bienvenue à cette première édition du Festival du mulet en Belgique ! Cette journée festive et conviviale réunira les adeptes de cette coupe de cheveux assumée\, parfois moquée\, mais malgré tout stylée ! \nProgramme :\n- Atelier coiffure pour se faire tailler la mule par des professionnels de la paire de ciseaux.\n- Elections des plus beaux mulets dans les catégories mulet naissant (court)\, féminin\, masculin\, enfants\, personnes âgées ; avec des prix à la clé pour les heureux gagnants.\n- Turbo-souffleur d'air pour ventiler votre chevelure\n- Bières artisanales locales\n- Concerts (si vous connaissez un coverband 80s avec mulets\, contactez-nous)\n- Arts de rue (si vous connaissez un jongleur\, cracheur de feu\, magicien\, équilibriste\, etc avec mulet\, contactez-nous)\n- petites promenades à dos de mulet.\n- projection de vidéo (reportages\, clips\, etc)\n- divers jeux et autres surprises ! \nUn photographe professionnel sera là pour immortaliser les tignasses de chacun. Le lieu sera communiqué prochainement\, mais sachez qu'on espère du beau temps car ça sera en plein air. Non-mulets\, vous êtes les très bienvenus\, mais gare à votre tignasse ! Entrée à prix libre\, pour rémunérer équitablement les artistes et couvrir les frais modestes de l'organisation. Tout surplus sera réinjecté dans le bar pour offrir des tournées à la fin de la soirée.
URL:https://beer.be/agenda/festival-de-la-coupe-mulet-2019/
LOCATION:Brasserie du Borinage\, 21 rue du Calvaire\, Boussu\, 7300\, Belgique
CATEGORIES:Festival
ATTACH;FMTTYPE=image/jpeg:https://beer.be/wp-content/uploads/2019/03/55932409_2392062087701919_9185592877453934592_o.jpg
END:VEVENT
BEGIN:VEVENT
DTSTART;VALUE=DATE:20190518
DTEND;VALUE=DATE:20190520
DTSTAMP:20260422T204019
CREATED:20190331T104239Z
LAST-MODIFIED:20190331T104239Z
UID:13664-1558137600-1558310399@beer.be
SUMMARY:Swafff! Brussels Craft Beer Festival 2019
DESCRIPTION:SWAFFF! Brussels Craft Beer Festival is back for the third time! Same amazing location as last year : le Château du Karreveld. That's right\, a castle! An amazing castle in the middle of Brussels\, invaded by about twenty of the best breweries from across Europe ! Great beers\, good food\, and of course tons of fun !
URL:https://beer.be/agenda/swafff-brussels-craft-beer-festival-2019/
LOCATION:Château du Karreveld\, 3 Avenue Jean de la Hoese\, Bruxelles\, Molenbeek\, 1080\, Belgique
CATEGORIES:Festival
ATTACH;FMTTYPE=image/jpeg:https://beer.be/wp-content/uploads/2019/03/55462966_2182807072032974_2665330977319944192_o.jpg
END:VEVENT
BEGIN:VEVENT
DTSTART;VALUE=DATE:20190524
DTEND;VALUE=DATE:20190525
DTSTAMP:20260422T204019
CREATED:20190331T105048Z
LAST-MODIFIED:20190331T105048Z
UID:13671-1558656000-1558742399@beer.be
SUMMARY:Festival de la bière des amis
DESCRIPTION:Le 24 mai 2019 aura lieu le 2ème festival de la bière des amis. Amateurs de bières\, amis des producteurs locaux\, un moment à ne pas rater. Festival de découvertes et de convivialité.
URL:https://beer.be/agenda/festival-de-la-biere-des-amis/
LOCATION:Festival de la bière des amis\, 184 Chaussée de Bruxelles\, Soignies\, 7061\, Belgique
CATEGORIES:Festival
ATTACH;FMTTYPE=image/jpeg:https://beer.be/wp-content/uploads/2019/03/56358405_2266133740308415_14808171063279616_n.jpg
END:VEVENT
END:VCALENDAR