BEGIN:VCALENDAR
VERSION:2.0
PRODID:-//Beer.be - ECPv6.15.20//NONSGML v1.0//EN
CALSCALE:GREGORIAN
METHOD:PUBLISH
X-WR-CALNAME:Beer.be
X-ORIGINAL-URL:https://beer.be
X-WR-CALDESC:Évènements pour Beer.be
REFRESH-INTERVAL;VALUE=DURATION:PT1H
X-Robots-Tag:noindex
X-PUBLISHED-TTL:PT1H
BEGIN:VTIMEZONE
TZID:Europe/Brussels
BEGIN:DAYLIGHT
TZOFFSETFROM:+0100
TZOFFSETTO:+0200
TZNAME:CEST
DTSTART:20180325T010000
END:DAYLIGHT
BEGIN:STANDARD
TZOFFSETFROM:+0200
TZOFFSETTO:+0100
TZNAME:CET
DTSTART:20181028T010000
END:STANDARD
BEGIN:DAYLIGHT
TZOFFSETFROM:+0100
TZOFFSETTO:+0200
TZNAME:CEST
DTSTART:20190331T010000
END:DAYLIGHT
BEGIN:STANDARD
TZOFFSETFROM:+0200
TZOFFSETTO:+0100
TZNAME:CET
DTSTART:20191027T010000
END:STANDARD
BEGIN:DAYLIGHT
TZOFFSETFROM:+0100
TZOFFSETTO:+0200
TZNAME:CEST
DTSTART:20200329T010000
END:DAYLIGHT
BEGIN:STANDARD
TZOFFSETFROM:+0200
TZOFFSETTO:+0100
TZNAME:CET
DTSTART:20201025T010000
END:STANDARD
END:VTIMEZONE
BEGIN:VEVENT
DTSTART;VALUE=DATE:20190906
DTEND;VALUE=DATE:20190909
DTSTAMP:20260422T142658
CREATED:20190906T074051Z
LAST-MODIFIED:20190906T074051Z
UID:14275-1567728000-1567987199@beer.be
SUMMARY:21 ème édition du Belgian Beer Weekend
DESCRIPTION:Du 6 au 8 septembre\, la Grand’Place de Bruxelles vous servira à nouveau de décor pour découvrir\, déguster et savourer notre fierté nationale. A l’occasion de la 21 ème édition du Belgian Beer Weekend\, 52 brasseries proposeront plus de 400 bières belges.
URL:https://beer.be/agenda/21-eme-edition-du-belgian-beer-weekend/
LOCATION:Grand Place de Bruxelles\, Grand-Place de Bruxelles\, Bruxelles\, 1000\, Belgique
CATEGORIES:Festival
ATTACH;FMTTYPE=image/jpeg:https://beer.be/wp-content/uploads/2019/09/67920374_2888756521197022_896633268386922496_o.jpg
END:VEVENT
BEGIN:VEVENT
DTSTART;VALUE=DATE:20190907
DTEND;VALUE=DATE:20190908
DTSTAMP:20260422T142658
CREATED:20190827T113539Z
LAST-MODIFIED:20190827T113539Z
UID:14224-1567814400-1567900799@beer.be
SUMMARY:Houblon en Fête à Erquelinnes en Val de Sambre
DESCRIPTION:La culture du houblon à Erquelinnes\, 15 ans déjà... et à présent en capacité de récolter et transformer le houblon sur le site ! Venez découvrir le jardin didactique et la houblonnière tout en assistant au brassage d'une bière naturelle. Découvrez les produits périphériques de la brasserie. Pains\, fromages au houblon\, biscuits... (avec la présence des producteurs locaux).
URL:https://beer.be/agenda/houblon-en-fete-a-erquelinnes-en-val-de-sambre/
LOCATION:Fête du Houblon en Val de Sambre\, 197 rue de Maubeuge\, Erquelinnes\, 6560\, Belgique
CATEGORIES:Festival
ATTACH;FMTTYPE=image/jpeg:https://beer.be/wp-content/uploads/2019/08/57909020_2544518958908964_287265017827426304_o.jpg
END:VEVENT
BEGIN:VEVENT
DTSTART;VALUE=DATE:20190914
DTEND;VALUE=DATE:20190916
DTSTAMP:20260422T142658
CREATED:20190711T130704Z
LAST-MODIFIED:20190711T130704Z
UID:14081-1568419200-1568591999@beer.be
SUMMARY:Wanderlust // BBP 6th Anniversary Festival
DESCRIPTION:Another year = Another Wanderlust. Let's celebrate our 6th year anniversary at Sainte Catherine (Vismet square) for an open air celebration! SMALL breweries - BIG Beers ! We'll travel with beautiful breweries around a whole spectrum of flavors. Stay tuned for the line up\, we are super proud of our friend brewers who are making the trip. Let's enjoy the party! Line up : Cloudwater Brew Co - Dok Brewing Company - BrewFist - Many more to come 😉
URL:https://beer.be/agenda/wanderlust-bbp-6th-anniversary-festival/
CATEGORIES:Festival
ATTACH;FMTTYPE=image/jpeg:https://beer.be/wp-content/uploads/2019/07/66596967_2219955398123631_7302916842543120384_o.jpg
END:VEVENT
BEGIN:VEVENT
DTSTART;VALUE=DATE:20190929
DTEND;VALUE=DATE:20190930
DTSTAMP:20260422T142658
CREATED:20190808T073322Z
LAST-MODIFIED:20190808T073322Z
UID:14145-1569715200-1569801599@beer.be
SUMMARY:Festival de la Bière
DESCRIPTION:La 3ème édition du Festival de la Bière de Woluwe-Saint-Pierre aura lieu le dimanche 29 septembre 2019 de 11h à 20h sur la Place des Maïeurs. Venez déguster de délicieuses bières (des classiques bien connus mais aussi des créations de petites brasseries)\, dans une ambiance musicale et conviviale. Petite restauration prévue pour accompagner vos dégustations.
URL:https://beer.be/agenda/festival-de-la-biere/
LOCATION:Woluwe1150\, 93 avenue Charles Thielemans\, Woluwé-Saint-Pierre\, 1150\, Belgique
CATEGORIES:Festival
ATTACH;FMTTYPE=image/jpeg:https://beer.be/wp-content/uploads/2019/08/67658075_2157206484406619_778289937081434112_n.jpg
END:VEVENT
END:VCALENDAR