BEGIN:VCALENDAR
VERSION:2.0
PRODID:-//Beer.be - ECPv6.15.20//NONSGML v1.0//EN
CALSCALE:GREGORIAN
METHOD:PUBLISH
X-ORIGINAL-URL:https://beer.be
X-WR-CALDESC:Évènements pour Beer.be
REFRESH-INTERVAL;VALUE=DURATION:PT1H
X-Robots-Tag:noindex
X-PUBLISHED-TTL:PT1H
BEGIN:VTIMEZONE
TZID:Europe/Brussels
BEGIN:DAYLIGHT
TZOFFSETFROM:+0100
TZOFFSETTO:+0200
TZNAME:CEST
DTSTART:20180325T010000
END:DAYLIGHT
BEGIN:STANDARD
TZOFFSETFROM:+0200
TZOFFSETTO:+0100
TZNAME:CET
DTSTART:20181028T010000
END:STANDARD
BEGIN:DAYLIGHT
TZOFFSETFROM:+0100
TZOFFSETTO:+0200
TZNAME:CEST
DTSTART:20190331T010000
END:DAYLIGHT
BEGIN:STANDARD
TZOFFSETFROM:+0200
TZOFFSETTO:+0100
TZNAME:CET
DTSTART:20191027T010000
END:STANDARD
BEGIN:DAYLIGHT
TZOFFSETFROM:+0100
TZOFFSETTO:+0200
TZNAME:CEST
DTSTART:20200329T010000
END:DAYLIGHT
BEGIN:STANDARD
TZOFFSETFROM:+0200
TZOFFSETTO:+0100
TZNAME:CET
DTSTART:20201025T010000
END:STANDARD
END:VTIMEZONE
BEGIN:VEVENT
DTSTART;VALUE=DATE:20191207
DTEND;VALUE=DATE:20191209
DTSTAMP:20260422T095106
CREATED:20191203T154935Z
LAST-MODIFIED:20191203T154935Z
UID:14727-1575676800-1575849599@beer.be
SUMMARY:Gebrande Winning Beer-festival 2019 'Circus'-edition
DESCRIPTION:Beer-festival with a focus on gastronomy 2nd edition\nWe combine a beer festival\, with the presence of 20 national and international breweries\, with the culinary: the praised beer-foodpairings from the beer-restaurant of the year\, De Gebrande Winning \nEntrance 40€/day\nInclusive:\n- Entrance\n- A tasting glass (10cl)\n- 8 beers from the present breweries\, selected by the chef (different selection on Saturday & Sunday).\n- 6 foodpairings to go with these beers \nIn addition to these 8 beers\, you can purchase additional drinks\, in our tasting glasses\, from our present breweries\, there is an enormous amount of great beer to taste! \nBuy your tickets online:\ngebrandewinning.eventbrite.com
URL:https://beer.be/agenda/gebrande-winning-beer-festival-2019-circus-edition/
LOCATION:Gebrande Winning\, 7 Zepperenweg\, Saint-Trond\, 3800\, Belgique
CATEGORIES:Festival
ATTACH;FMTTYPE=image/jpeg:https://beer.be/wp-content/uploads/2019/12/70348178_10162379995540137_6171216904489795584_o.jpg
END:VEVENT
END:VCALENDAR