BEGIN:VCALENDAR
VERSION:2.0
PRODID:-//Beer.be - ECPv6.15.20//NONSGML v1.0//EN
CALSCALE:GREGORIAN
METHOD:PUBLISH
X-ORIGINAL-URL:https://beer.be
X-WR-CALDESC:Évènements pour Beer.be
REFRESH-INTERVAL;VALUE=DURATION:PT1H
X-Robots-Tag:noindex
X-PUBLISHED-TTL:PT1H
BEGIN:VTIMEZONE
TZID:Europe/Brussels
BEGIN:DAYLIGHT
TZOFFSETFROM:+0100
TZOFFSETTO:+0200
TZNAME:CEST
DTSTART:20190331T010000
END:DAYLIGHT
BEGIN:STANDARD
TZOFFSETFROM:+0200
TZOFFSETTO:+0100
TZNAME:CET
DTSTART:20191027T010000
END:STANDARD
BEGIN:DAYLIGHT
TZOFFSETFROM:+0100
TZOFFSETTO:+0200
TZNAME:CEST
DTSTART:20200329T010000
END:DAYLIGHT
BEGIN:STANDARD
TZOFFSETFROM:+0200
TZOFFSETTO:+0100
TZNAME:CET
DTSTART:20201025T010000
END:STANDARD
BEGIN:DAYLIGHT
TZOFFSETFROM:+0100
TZOFFSETTO:+0200
TZNAME:CEST
DTSTART:20210328T010000
END:DAYLIGHT
BEGIN:STANDARD
TZOFFSETFROM:+0200
TZOFFSETTO:+0100
TZNAME:CET
DTSTART:20211031T010000
END:STANDARD
END:VTIMEZONE
BEGIN:VEVENT
DTSTART;VALUE=DATE:20200307
DTEND;VALUE=DATE:20200309
DTSTAMP:20260422T050534
CREATED:20190827T113725Z
LAST-MODIFIED:20190827T113725Z
UID:14228-1583539200-1583711999@beer.be
SUMMARY:Hoppe Craft Beer Fest 2020
DESCRIPTION:MEER DAN 100 BIEREN UIT MEER DAN 15 LANDEN\nHet International Craft Beer Fest HOPPE is uniek in zijn soort en biedt de ware bierfanaat een nieuw toevluchtsoord om zijn zintuigen te laten prikkelen door een uitgebreid aanbod van craftbieren uit alle uithoeken van de wereld. Kortom\, een evenement dat je absoluut niet mag missen! Wees er snel bij\, er is slechts plaats voor een gelimiteerd aantal bezoekers.
URL:https://beer.be/agenda/hoppe-craft-beer-fest-2020/
LOCATION:Hoppebeerfest\, 10 Kappelstraat\, Merksplas\, 2330\, Belgique
CATEGORIES:Festival
ATTACH;FMTTYPE=image/jpeg:https://beer.be/wp-content/uploads/2019/08/57909020_2544518958908964_287265017827426304_o-1.jpg
END:VEVENT
END:VCALENDAR