BEGIN:VCALENDAR
VERSION:2.0
PRODID:-//Beer.be - ECPv6.15.20//NONSGML v1.0//EN
CALSCALE:GREGORIAN
METHOD:PUBLISH
X-ORIGINAL-URL:https://beer.be
X-WR-CALDESC:Évènements pour Beer.be
REFRESH-INTERVAL;VALUE=DURATION:PT1H
X-Robots-Tag:noindex
X-PUBLISHED-TTL:PT1H
BEGIN:VTIMEZONE
TZID:Europe/Brussels
BEGIN:DAYLIGHT
TZOFFSETFROM:+0100
TZOFFSETTO:+0200
TZNAME:CEST
DTSTART:20200329T010000
END:DAYLIGHT
BEGIN:STANDARD
TZOFFSETFROM:+0200
TZOFFSETTO:+0100
TZNAME:CET
DTSTART:20201025T010000
END:STANDARD
BEGIN:DAYLIGHT
TZOFFSETFROM:+0100
TZOFFSETTO:+0200
TZNAME:CEST
DTSTART:20210328T010000
END:DAYLIGHT
BEGIN:STANDARD
TZOFFSETFROM:+0200
TZOFFSETTO:+0100
TZNAME:CET
DTSTART:20211031T010000
END:STANDARD
BEGIN:DAYLIGHT
TZOFFSETFROM:+0100
TZOFFSETTO:+0200
TZNAME:CEST
DTSTART:20220327T010000
END:DAYLIGHT
BEGIN:STANDARD
TZOFFSETFROM:+0200
TZOFFSETTO:+0100
TZNAME:CET
DTSTART:20221030T010000
END:STANDARD
END:VTIMEZONE
BEGIN:VEVENT
DTSTART;VALUE=DATE:20211023
DTEND;VALUE=DATE:20211025
DTSTAMP:20260421T214551
CREATED:20211022T045924Z
LAST-MODIFIED:20211022T050034Z
UID:18063-1634947200-1635119999@beer.be
SUMMARY:Festival des Bières Belges 2021
DESCRIPTION:FESTIVAL DES BIÈRES BELGES\n23 & 24 octobre 2021 - 6ème édition\nCentre d'Animation (Rue de l'Abattoir\, 2 - Quiévrain)\n100 bières en dégustation\n19 brasseries présentes :\nBrasserie de Silly - Brasserie Saint-Feuillien - Brasserie des Carrières - Abbaye des Rocs - Brasserie du Borinage - Volte Face - Brasserie Dubuisson - Brasserie Caulier - Brasserie de Londres - Brasserie Van Honsebrouck - Brasserie Boon - Brasserie Du Bocq - Brasserie Haacht - Brasserie des Légendes - Brasserie Dupont - Brasserie De Brabandere - Brasserie Deseveaux - Brasserie Saint-Lazare - Brasserie Huyghe\n____\nSAMEDI 23 OCTOBRE 2021\n11h00 : Ouverture des stands\nDès 19h : Soirée de concerts cover\n19h00 : HAPPY HOUR\nUn soupçon de batterie\, un groove de basse\, une once de guitare\, le tout saupoudré de cuivres survitaminés et surmonté de deux jolies cerises vocales... Voilà la recette du cocktail proposé par Happy Hour ! C'Est un véritable show que vous propose cette bande de potes majoritairement issus de Wallonie Picarde...\nIls sont tous prêts à vous faire lever de vos sièges pour faire la fête jusqu'au bout de la nuit ! Des classiques de la soul et du funk en passant par quelques nouveautés bien groovy\, tout y passe dans la bonne humeur et avec un max d'énergie ! Vous ne verrez pas passer ces deux heures de show décidément bien Happy en leur compagnie !\n22h00 : AWISSA\nAwissa est un groupe de cover déjanté reprenant essentiellement les grands tubes de chanson française des années 80 à nos jours.\nLe moderne n’est pas oublié pour autant : Rock\, techno\, reggae\, Rap … De Joe Dassin aux Black Eyed Peas\, Medley Techno ou Pop Kitch\, tout y passe ! Un pur moment de bonheur au 12ème degré\, à consommer sans modération …\n____\nDIMANCHE 24 OCTOBRE 2021\n11h00 : Ouverture des stands\nDès 15h00 : Animation musicale\navec EL BANDAS TICO\nEl Bandas Tico c'est quoi?\nC'est un street band dourois composé de 15 amoureux de la musique et qui ne désirent qu'une seule chose: mettre le feu !\n____\nUN GRAND RENDEZ-VOUS AUTOUR DU PATRIMOINE BRASSICOLE BELGE\nLe Festival des Bières Belges reviendra les samedi 23 et dimanche 24 octobre prochains au Centre d’Animation : pour sa 6ème édition\, vous pourrez à nouveau profiter de l’occasion pour déguster un grand choix de bières\, issues de brasseries que vous connaissez bien ou de découvertes surprenantes. Cette année\, quatre nouvelles brasseries seront à l’affiche et une brasserie locale fera son retour …\nAmoureux du terroir et amateur de houblon\, cet événement phare dans l’entité rassemblera à nouveau pas moins de 20 brasseries\, avec 100 bières en dégustation durant ces deux jours de fête : de la Paix Dieu à la Moinette\, en passant par la Petrus\, la Montoise\, la Blanche des Honnelles\, la saison Avena ou la Saint-Feuillien\, l’occasion vous sera donnée de partager un bon moment en famille ou entre amis.\nLe samedi soir\, une soirée de concerts orientée vers les cover band promet une belle fête et le dimanche\, un brass band viendra ponctuer l’après-midi autour de rythmiques cuivrées ! L’accès a l’événement sera soumis à la présentation d’un Covid Safe Ticket valide\, afin de profiter du festival tel que nous l’avons toujours connu\, sans masque et sans distanciation !\nQUATRE NOUVELLES BRASSERIES ET LE RETOUR D'UNE LOCALE\nAu rayon des nouveautés : la brasserie de Londres\, notamment célèbre pour La Montoise\, fera partie des exposants : cette brasserie\, actuellement en pleine installation au coeur de Mons\, dans un bâtiment qui abritait déjà un brasseur en 1455\, est assurément attachée au patrimoine comme notre événement.\nAutre montoise de l’étape\, Saint-Lazare\, quant à elle\, se revendique indépendante et à dimension humaine. Les artisans utilisent leur savoir-faire\, leur passion et leur créativité pour élaborer des bières sur-mesure.\nUne entreprise familiale avec des produits d’exception\, c’est la brasserie Boon évidemment : avec sa gamme de Kriek et de Gueuze bouchonnées\, leurs bières médaillées raviront les plus fins palais.\nEnfin\, la brasserie Deseveaux fera son retour : basée dans l’ancienne ferme du Hanneton à Boussu\, elle propose des bières artisanales en prêtant une attention particulière au développement durable : la Sarazen et la Saison Avena\, de nombreuses fois médaillées\, sont les produits phares de leur gamme !\nCOMMENT ACCÉDER À l'ÉVÉNEMENT ?\nSuite à la décision du CODECO du 20 août 2021 et en raison des mesures appliquées aux événements d’ampleur\, cette année\, une seule chose change pour vous : la présentation d’un Covid Safe Ticket (ou Pass sanitaire) dès l’entrée de l’événement (pour les personnes à partir de 12 ans).\nConcrètement\, ce pass peut s’obtenir de quatre manières : une vaccination complète\, un test PCR négatif datant de moins de 48h\, un certificat de guérison datant de plus de 10 jours et de moins de 6 mois ou un test antigénique datant de moins de 24h. Il sera à présenter (QR code sur votre application ou version papier) aux personnes chargées de la vérification à l’entrée du festival.\nDès ce passage validé\, vous aurez la possibilité de profiter du festival sans masque obligatoire et sans distanciation sociale.\n____\nENTRÉE : 2€ pour les 2 jours\n____\nINFOS & RENSEIGNEMENTS :\nFlorian Nisolle\nService Culture & Festivités\n065/450.470 - florian.nisolle@quievrain.be\nLaurent Choteau\nAssociation "Les Amis des Brasseries"\n0479/100.062 - choteau.laurent@icloud.com
URL:https://beer.be/agenda/festival-des-bieres-belges-2021/
LOCATION:Centre d'animation de Quiévrain\, 2 Rue de l'Abattoir\, Quiévrain\, 7380\, Belgique
CATEGORIES:Festival
ATTACH;FMTTYPE=image/jpeg:https://beer.be/wp-content/uploads/2021/10/242449085_6099680586740669_5756584334844665020_n.jpg
END:VEVENT
END:VCALENDAR