BEGIN:VCALENDAR
VERSION:2.0
PRODID:-//Beer.be - ECPv6.15.20//NONSGML v1.0//EN
CALSCALE:GREGORIAN
METHOD:PUBLISH
X-ORIGINAL-URL:https://beer.be
X-WR-CALDESC:Évènements pour Beer.be
REFRESH-INTERVAL;VALUE=DURATION:PT1H
X-Robots-Tag:noindex
X-PUBLISHED-TTL:PT1H
BEGIN:VTIMEZONE
TZID:Europe/Brussels
BEGIN:DAYLIGHT
TZOFFSETFROM:+0100
TZOFFSETTO:+0200
TZNAME:CEST
DTSTART:20180325T010000
END:DAYLIGHT
BEGIN:STANDARD
TZOFFSETFROM:+0200
TZOFFSETTO:+0100
TZNAME:CET
DTSTART:20181028T010000
END:STANDARD
BEGIN:DAYLIGHT
TZOFFSETFROM:+0100
TZOFFSETTO:+0200
TZNAME:CEST
DTSTART:20190331T010000
END:DAYLIGHT
BEGIN:STANDARD
TZOFFSETFROM:+0200
TZOFFSETTO:+0100
TZNAME:CET
DTSTART:20191027T010000
END:STANDARD
BEGIN:DAYLIGHT
TZOFFSETFROM:+0100
TZOFFSETTO:+0200
TZNAME:CEST
DTSTART:20200329T010000
END:DAYLIGHT
BEGIN:STANDARD
TZOFFSETFROM:+0200
TZOFFSETTO:+0100
TZNAME:CET
DTSTART:20201025T010000
END:STANDARD
END:VTIMEZONE
BEGIN:VEVENT
DTSTART;VALUE=DATE:20190623
DTEND;VALUE=DATE:20190624
DTSTAMP:20260425T133237
CREATED:20190527T124153Z
LAST-MODIFIED:20190527T124153Z
UID:13935-1561248000-1561334399@beer.be
SUMMARY:Fête nationale du Québec à Bruxelles
DESCRIPTION:Célébrez la Fête nationale du Québec à Bruxelles\, dans une ambiance des plus conviviales en compagnie des amoureux du Québec\, de sa musique\, de ses bières\, de ses saveurs! Pour les nostalgiques du Québec ou pour ceux qui rêvent d’un jour le visiter. \nLe programme du 23 juin :\n12h : Le Moeder Lambic ouvrira sa terrasse dès l’heure du midi pour offrir poutine et bières de microbrasserie du Québec dont la Dunham des Cantons-de-l’Est et la Auval de la Gaspésie.\n14h : À partir de 14h\, vous serez accueillis au village québécois où vous trouverez de l’information touristique\, des produits culinaires typiques et des livres du Québec. Des animations seront proposées aux enfants : maquillages et bricolages évoquant les contrées boréales outre-Atlantique.\n17h30 : Le trio Vio & Co\, formé de Violaine Filion\, Arnaud Bourgis et Frédéric Frouch Dailly\, vous fera taper du pied et danser sur les airs classiques de la chanson populaire québécoise à partir de 17h30.\nLes animations se poursuivront jusqu’à 19h30. Les bières et les mets québécois vous seront servis jusqu’à la fermeture du Moeder Lambic Fontainas. \nCette année encore\, des voisins sympathiques de la rue du Marché au Charbon se joindront à la Fête\, dont la fromagerie La Fruitière qui ajoutera quelques parfums québécois à son menu proposé en terrasse. Le soleil brille toujours pour la Fête du Québec\, mais nous avons tout de même prévu des tentes en cas d’intempéries !
URL:https://beer.be/agenda/fete-nationale-du-quebec-a-bruxelles/
LOCATION:Moeder Lambic Fontainas\, 8 place Fontainas\, Bruxelles\, Bruxelles\, 1000\, Belgique
CATEGORIES:Autre
ATTACH;FMTTYPE=image/jpeg:https://beer.be/wp-content/uploads/2019/05/60608844_2399542246751682_2357518028494602240_o.jpg
END:VEVENT
END:VCALENDAR