BEGIN:VCALENDAR
VERSION:2.0
PRODID:-//Beer.be - ECPv6.15.20//NONSGML v1.0//EN
CALSCALE:GREGORIAN
METHOD:PUBLISH
X-ORIGINAL-URL:https://beer.be
X-WR-CALDESC:Évènements pour Beer.be
REFRESH-INTERVAL;VALUE=DURATION:PT1H
X-Robots-Tag:noindex
X-PUBLISHED-TTL:PT1H
BEGIN:VTIMEZONE
TZID:Europe/Brussels
BEGIN:DAYLIGHT
TZOFFSETFROM:+0100
TZOFFSETTO:+0200
TZNAME:CEST
DTSTART:20190331T010000
END:DAYLIGHT
BEGIN:STANDARD
TZOFFSETFROM:+0200
TZOFFSETTO:+0100
TZNAME:CET
DTSTART:20191027T010000
END:STANDARD
BEGIN:DAYLIGHT
TZOFFSETFROM:+0100
TZOFFSETTO:+0200
TZNAME:CEST
DTSTART:20200329T010000
END:DAYLIGHT
BEGIN:STANDARD
TZOFFSETFROM:+0200
TZOFFSETTO:+0100
TZNAME:CET
DTSTART:20201025T010000
END:STANDARD
BEGIN:DAYLIGHT
TZOFFSETFROM:+0100
TZOFFSETTO:+0200
TZNAME:CEST
DTSTART:20210328T010000
END:DAYLIGHT
BEGIN:STANDARD
TZOFFSETFROM:+0200
TZOFFSETTO:+0100
TZNAME:CET
DTSTART:20211031T010000
END:STANDARD
END:VTIMEZONE
BEGIN:VEVENT
DTSTART;VALUE=DATE:20200214
DTEND;VALUE=DATE:20200215
DTSTAMP:20260424T042400
CREATED:20200214T063448Z
LAST-MODIFIED:20200214T063448Z
UID:15103-1581638400-1581724799@beer.be
SUMMARY:FIsh'N'Ships DJ Buffet
DESCRIPTION:Back from the grave of their dark era\, the notorious DJ duo FISH'N'SHIPS has returned ! Behold for the best set for your Friday Night Fever ! JEAN-MI has cooked a greedy playlist of PUNK and BRIT-POP - TIMMY will take you to his sweetest and rare selection of SOUL - MANON and BEN will take care of yourinhuman thirst.
URL:https://beer.be/agenda/fishnships-dj-buffet/
CATEGORIES:Gist
ATTACH;FMTTYPE=image/jpeg:https://beer.be/wp-content/uploads/2020/02/86349393_846277599146478_5380363981909131264_o.jpg
END:VEVENT
END:VCALENDAR