BEGIN:VCALENDAR
VERSION:2.0
PRODID:-//Beer.be - ECPv6.15.20//NONSGML v1.0//EN
CALSCALE:GREGORIAN
METHOD:PUBLISH
X-ORIGINAL-URL:https://beer.be
X-WR-CALDESC:Évènements pour Beer.be
REFRESH-INTERVAL;VALUE=DURATION:PT1H
X-Robots-Tag:noindex
X-PUBLISHED-TTL:PT1H
BEGIN:VTIMEZONE
TZID:Europe/Brussels
BEGIN:DAYLIGHT
TZOFFSETFROM:+0100
TZOFFSETTO:+0200
TZNAME:CEST
DTSTART:20200329T010000
END:DAYLIGHT
BEGIN:STANDARD
TZOFFSETFROM:+0200
TZOFFSETTO:+0100
TZNAME:CET
DTSTART:20201025T010000
END:STANDARD
BEGIN:DAYLIGHT
TZOFFSETFROM:+0100
TZOFFSETTO:+0200
TZNAME:CEST
DTSTART:20210328T010000
END:DAYLIGHT
BEGIN:STANDARD
TZOFFSETFROM:+0200
TZOFFSETTO:+0100
TZNAME:CET
DTSTART:20211031T010000
END:STANDARD
BEGIN:DAYLIGHT
TZOFFSETFROM:+0100
TZOFFSETTO:+0200
TZNAME:CEST
DTSTART:20220327T010000
END:DAYLIGHT
BEGIN:STANDARD
TZOFFSETFROM:+0200
TZOFFSETTO:+0100
TZNAME:CET
DTSTART:20221030T010000
END:STANDARD
END:VTIMEZONE
BEGIN:VEVENT
DTSTART;VALUE=DATE:20211210
DTEND;VALUE=DATE:20211211
DTSTAMP:20260423T041523
CREATED:20210929T051907Z
LAST-MODIFIED:20210929T051907Z
UID:17775-1639094400-1639180799@beer.be
SUMMARY:FRANCKY GOES TO POINTE A PITRE + ANNABEL LEE + COOL KIDS + DISCO DEWANE
DESCRIPTION:FRANCKY GOES TO PINTE A PITRE\nhttps://franckygoestopointeapitre.bandcamp.com/\nhttps://www.youtube.com/watch?v=acKG46XqJsI\nANNABEL LEE\nhttps://annabelleeband.bandcamp.com/\nhttps://www.youtube.com/watch?v=q_SqNSd-580\n------------------------------------\nBAR - 16:00\nCONCERT - 20:00\n------------------------------------\nFREE CONCERT\nprésentation du Covid Safe Ticket*\nSANS RESERVATION
URL:https://beer.be/agenda/francky-goes-to-pointe-a-pitre-annabel-lee-cool-kids-disco-dewane/
LOCATION:La Source Beer Co.\, 4 rue Dieudonné Lefèvre\, Bruxelles\, 1020\, Belgique
CATEGORIES:Concert
ATTACH;FMTTYPE=image/jpeg:https://beer.be/wp-content/uploads/2021/09/243320196_958182764740092_5659243353429954546_n.jpg
END:VEVENT
END:VCALENDAR