BEGIN:VCALENDAR
VERSION:2.0
PRODID:-//Beer.be - ECPv6.15.20//NONSGML v1.0//EN
CALSCALE:GREGORIAN
METHOD:PUBLISH
X-WR-CALNAME:Beer.be
X-ORIGINAL-URL:https://beer.be
X-WR-CALDESC:Évènements pour Beer.be
REFRESH-INTERVAL;VALUE=DURATION:PT1H
X-Robots-Tag:noindex
X-PUBLISHED-TTL:PT1H
BEGIN:VTIMEZONE
TZID:Europe/Brussels
BEGIN:DAYLIGHT
TZOFFSETFROM:+0100
TZOFFSETTO:+0200
TZNAME:CEST
DTSTART:20190331T010000
END:DAYLIGHT
BEGIN:STANDARD
TZOFFSETFROM:+0200
TZOFFSETTO:+0100
TZNAME:CET
DTSTART:20191027T010000
END:STANDARD
BEGIN:DAYLIGHT
TZOFFSETFROM:+0100
TZOFFSETTO:+0200
TZNAME:CEST
DTSTART:20200329T010000
END:DAYLIGHT
BEGIN:STANDARD
TZOFFSETFROM:+0200
TZOFFSETTO:+0100
TZNAME:CET
DTSTART:20201025T010000
END:STANDARD
BEGIN:DAYLIGHT
TZOFFSETFROM:+0100
TZOFFSETTO:+0200
TZNAME:CEST
DTSTART:20210328T010000
END:DAYLIGHT
BEGIN:STANDARD
TZOFFSETFROM:+0200
TZOFFSETTO:+0100
TZNAME:CET
DTSTART:20211031T010000
END:STANDARD
END:VTIMEZONE
BEGIN:VEVENT
DTSTART;VALUE=DATE:20200202
DTEND;VALUE=DATE:20200203
DTSTAMP:20260424T030515
CREATED:20200124T191034Z
LAST-MODIFIED:20200124T191034Z
UID:14954-1580601600-1580687999@beer.be
SUMMARY:Koduõlu day
DESCRIPTION:A few weeks ago we went to brew a native farmhouse beer style called Koduõlu on Saaremaa island (Estonia). This beer is not boiled\, juniper infused and open fermented with bakers yeast. The style is getting near to extinction\, but there still is a homebrewer community trying to keep the tradition going. Luc for us there are also two official breweries brewing the style. We went to brew an official collab with Pihtla õlu. For the first time ever there will be Koduõlu available in Belgium and Holland! \nThe recipe is constructed with all respect for Saaremaa brewing tradition\, but with an extra rye twist to give it extra creaminess. Because of skipping the boiling step you get a very cloudy appearance\, thick mouthfeel\, sweet cereal\, piny flavour combined with a lot of bananas coming from the esthers of the yeast. We want to make this day a true farmhouse celebration and are serving the beer throughout different locations in Belgium and Holland at the same day. Because of the short shelf life we want the beer to be drunk superfresh\, so everybody can have an objective opinion of what a raw farmhouse ale tastes like.
URL:https://beer.be/agenda/koduolu-day/
LOCATION:DOK Brewing Company\, 4B Dok Noord\, Gent\, 9000\, Belgique
CATEGORIES:Tap Takeover
ATTACH;FMTTYPE=image/jpeg:https://beer.be/wp-content/uploads/2020/01/83107868_603022273822895_7442915046767722496_n.jpg
END:VEVENT
BEGIN:VEVENT
DTSTART;VALUE=DATE:20200215
DTEND;VALUE=DATE:20200216
DTSTAMP:20260424T030515
CREATED:20200130T190059Z
LAST-MODIFIED:20200130T190059Z
UID:14995-1581724800-1581811199@beer.be
SUMMARY:2nd Anniversary
DESCRIPTION:We worden 2! Dat zijn 2 jaren vol mooie avonturen\, nieuwe recepten\, creatieve brouwsessies\, overwonnen hindernissen\, leuke collabs\, goede muziek\, uitbundig gezang\, gezellige toogbabbels\, en geweldige vriendschappen... En dat allemaal met lekkere biertjes erbij. Dat moet gevierd worden! Allen welkom op 15 februari voor een feestavond met aangepaste deuntjes en wie weet wel een nieuwe creatie speciaal voor de gelegenheid... Meer info volgt nog!
URL:https://beer.be/agenda/2nd-anniversary/
LOCATION:Brouwbar\, Oudburg 70a-72a\, Gand\, 9000\, Belgique
CATEGORIES:Autre
ATTACH;FMTTYPE=image/jpeg:https://beer.be/wp-content/uploads/2020/01/83410765_1252954324896050_5704963466813505536_o.jpg
END:VEVENT
BEGIN:VEVENT
DTSTART;VALUE=DATE:20200228
DTEND;VALUE=DATE:20200229
DTSTAMP:20260424T030515
CREATED:20200124T192144Z
LAST-MODIFIED:20200124T192144Z
UID:14975-1582848000-1582934399@beer.be
SUMMARY:La Calavera x Alvinne
DESCRIPTION:Een gemengde TTO dus met Catalaans en West-Vlaams geweld die uit de kranen zal vloeien.
URL:https://beer.be/agenda/la-calavera-x-alvinne/
LOCATION:DOK Brewing Company\, 4B Dok Noord\, Gent\, 9000\, Belgique
CATEGORIES:Tap Takeover
ATTACH;FMTTYPE=image/jpeg:https://beer.be/wp-content/uploads/2020/01/82732563_602511810540608_2745626198372515840_n.jpg
END:VEVENT
END:VCALENDAR