BEGIN:VCALENDAR
VERSION:2.0
PRODID:-//Beer.be - ECPv6.15.20//NONSGML v1.0//EN
CALSCALE:GREGORIAN
METHOD:PUBLISH
X-WR-CALNAME:Beer.be
X-ORIGINAL-URL:https://beer.be
X-WR-CALDESC:Évènements pour Beer.be
REFRESH-INTERVAL;VALUE=DURATION:PT1H
X-Robots-Tag:noindex
X-PUBLISHED-TTL:PT1H
BEGIN:VTIMEZONE
TZID:Europe/Brussels
BEGIN:DAYLIGHT
TZOFFSETFROM:+0100
TZOFFSETTO:+0200
TZNAME:CEST
DTSTART:20190331T010000
END:DAYLIGHT
BEGIN:STANDARD
TZOFFSETFROM:+0200
TZOFFSETTO:+0100
TZNAME:CET
DTSTART:20191027T010000
END:STANDARD
BEGIN:DAYLIGHT
TZOFFSETFROM:+0100
TZOFFSETTO:+0200
TZNAME:CEST
DTSTART:20200329T010000
END:DAYLIGHT
BEGIN:STANDARD
TZOFFSETFROM:+0200
TZOFFSETTO:+0100
TZNAME:CET
DTSTART:20201025T010000
END:STANDARD
BEGIN:DAYLIGHT
TZOFFSETFROM:+0100
TZOFFSETTO:+0200
TZNAME:CEST
DTSTART:20210328T010000
END:DAYLIGHT
BEGIN:STANDARD
TZOFFSETFROM:+0200
TZOFFSETTO:+0100
TZNAME:CET
DTSTART:20211031T010000
END:STANDARD
END:VTIMEZONE
BEGIN:VEVENT
DTSTART;VALUE=DATE:20200822
DTEND;VALUE=DATE:20200823
DTSTAMP:20260423T181526
CREATED:20200609T170709Z
LAST-MODIFIED:20200609T170709Z
UID:15378-1598054400-1598140799@beer.be
SUMMARY:Gents Bierfestival
DESCRIPTION:Op zaterdag 22 augustus 2020 vindt de elfde editie van het Gents Bierfestival plaats. Gents Bierfestival 11 we beginnen om 11u en nodigen iedereen uit om te toosten op de vriendschap\, te aperitieven met geliefden en de dis te delen met goeie kennissen. we gaan 11 uur door en zwaaien je uit om 22u. Kom proeven van meer dan 100 verschillende bieren in allerlei stijlen en smaken. Een verwennerij voor je smaakpapillen.
URL:https://beer.be/agenda/gents-bierfestival-3/
LOCATION:het Spectrum\, 13 Martelaarslaan\, Gent\, 9000\, Belgique
CATEGORIES:Festival
ATTACH;FMTTYPE=image/jpeg:https://beer.be/wp-content/uploads/2020/06/70302812_2186723841436563_8053442612079624192_o.jpg
END:VEVENT
END:VCALENDAR