BEGIN:VCALENDAR
VERSION:2.0
PRODID:-//Beer.be - ECPv6.15.20//NONSGML v1.0//EN
CALSCALE:GREGORIAN
METHOD:PUBLISH
X-ORIGINAL-URL:https://beer.be
X-WR-CALDESC:Évènements pour Beer.be
REFRESH-INTERVAL;VALUE=DURATION:PT1H
X-Robots-Tag:noindex
X-PUBLISHED-TTL:PT1H
BEGIN:VTIMEZONE
TZID:Europe/Brussels
BEGIN:DAYLIGHT
TZOFFSETFROM:+0100
TZOFFSETTO:+0200
TZNAME:CEST
DTSTART:20200329T010000
END:DAYLIGHT
BEGIN:STANDARD
TZOFFSETFROM:+0200
TZOFFSETTO:+0100
TZNAME:CET
DTSTART:20201025T010000
END:STANDARD
BEGIN:DAYLIGHT
TZOFFSETFROM:+0100
TZOFFSETTO:+0200
TZNAME:CEST
DTSTART:20210328T010000
END:DAYLIGHT
BEGIN:STANDARD
TZOFFSETFROM:+0200
TZOFFSETTO:+0100
TZNAME:CET
DTSTART:20211031T010000
END:STANDARD
BEGIN:DAYLIGHT
TZOFFSETFROM:+0100
TZOFFSETTO:+0200
TZNAME:CEST
DTSTART:20220327T010000
END:DAYLIGHT
BEGIN:STANDARD
TZOFFSETFROM:+0200
TZOFFSETTO:+0100
TZNAME:CET
DTSTART:20221030T010000
END:STANDARD
END:VTIMEZONE
BEGIN:VEVENT
DTSTART;VALUE=DATE:20210810
DTEND;VALUE=DATE:20210811
DTSTAMP:20260422T112907
CREATED:20210803T064811Z
LAST-MODIFIED:20210803T064811Z
UID:17125-1628553600-1628639999@beer.be
SUMMARY:THE GARDEN BREWERY TTO + COLLAB
DESCRIPTION:Begin augustus is The Garden Brewery uit Kroatië in het land. Dinsdag 10/8 brouwen we samen een dikke TIPA en om de brouwdag af te sluiten serveren we:\nNew England Pale Ale #05\nHazy Double IPA #07 - Stigbergets collab\nHazy IPA Hop Showcase #08 Strata\nFloridaWeisse #07 - Strawberry\, Papaya\, Vanilla & Lemon\nKeller Helles\nImperial Peanut Butter Jelly & 'Smores Stout
URL:https://beer.be/agenda/the-garden-brewery-tto-collab/
LOCATION:DOK Brewing Company\, 4B Dok Noord\, Gent\, 9000\, Belgique
CATEGORIES:Tap Takeover
ATTACH;FMTTYPE=image/jpeg:https://beer.be/wp-content/uploads/2021/08/225890838_217045137090363_7350260593770663055_n.jpg
END:VEVENT
BEGIN:VEVENT
DTSTART;VALUE=DATE:20210831
DTEND;VALUE=DATE:20210901
DTSTAMP:20260422T112907
CREATED:20210802T061310Z
LAST-MODIFIED:20210802T061310Z
UID:17108-1630368000-1630454399@beer.be
SUMMARY:De la Senne Tap Takeover
DESCRIPTION:Yvan De Baets van Brasserie de la Senne komt dinsdag 31/8 samen met ons brouwen en brengt zijn bieren met zich mee. De la Senne\, de eerste brouwerij in Brussel na Cantillon heeft weinig introductie meer nodig. Hun bieren zetten Brussel destijds volledig op hun kop met hun revolutionaire karakter\, dominante\, cleane bitterheid en hun vastberadenheid om nooit in te boeten op kwaliteit. Yvan heeft doorheen zijn carrière bewezen een van België zijn grootste brouwwonderen te zijn en het is dan ook een absolute eer hem te mogen ontvangen in onze brouwerij. De stijl die we gaan brouwen waren we al even over aan het discussiëren en het is uiteindelijk een oude vergeten Gentse stijl geworden\, bière de garde Gantoise of ook wel bekend als Dubbel Uytzet. De regio rond Gent stond in de jaren 1700-1800 in heel Europa bekend voor deze stijl . Nog even wachten tot eind september en dan kunt u onze versie van deze vergeten klassieker drinken.
URL:https://beer.be/agenda/de-la-senne-tap-takeover/
LOCATION:DOK Brewing Company\, 4B Dok Noord\, Gent\, 9000\, Belgique
CATEGORIES:Tap Takeover
ATTACH;FMTTYPE=image/jpeg:https://beer.be/wp-content/uploads/2021/08/229050765_218338720294338_1536943865578471848_n.jpg
END:VEVENT
END:VCALENDAR