BEGIN:VCALENDAR
VERSION:2.0
PRODID:-//Beer.be - ECPv6.15.20//NONSGML v1.0//EN
CALSCALE:GREGORIAN
METHOD:PUBLISH
X-WR-CALNAME:Beer.be
X-ORIGINAL-URL:https://beer.be
X-WR-CALDESC:Évènements pour Beer.be
REFRESH-INTERVAL;VALUE=DURATION:PT1H
X-Robots-Tag:noindex
X-PUBLISHED-TTL:PT1H
BEGIN:VTIMEZONE
TZID:Europe/Brussels
BEGIN:DAYLIGHT
TZOFFSETFROM:+0100
TZOFFSETTO:+0200
TZNAME:CEST
DTSTART:20200329T010000
END:DAYLIGHT
BEGIN:STANDARD
TZOFFSETFROM:+0200
TZOFFSETTO:+0100
TZNAME:CET
DTSTART:20201025T010000
END:STANDARD
BEGIN:DAYLIGHT
TZOFFSETFROM:+0100
TZOFFSETTO:+0200
TZNAME:CEST
DTSTART:20210328T010000
END:DAYLIGHT
BEGIN:STANDARD
TZOFFSETFROM:+0200
TZOFFSETTO:+0100
TZNAME:CET
DTSTART:20211031T010000
END:STANDARD
BEGIN:DAYLIGHT
TZOFFSETFROM:+0100
TZOFFSETTO:+0200
TZNAME:CEST
DTSTART:20220327T010000
END:DAYLIGHT
BEGIN:STANDARD
TZOFFSETFROM:+0200
TZOFFSETTO:+0100
TZNAME:CET
DTSTART:20221030T010000
END:STANDARD
END:VTIMEZONE
BEGIN:VEVENT
DTSTART;VALUE=DATE:20211205
DTEND;VALUE=DATE:20211206
DTSTAMP:20260422T045622
CREATED:20211206T054158Z
LAST-MODIFIED:20211206T054158Z
UID:18523-1638662400-1638748799@beer.be
SUMMARY:ZONDAG VOSDAG
DESCRIPTION:Vandaag is het 'Zondag Vosdag'!\nWe eren een van Gents zijn bekendste zangers Luc De Vos met:\n2 Nieuwe bierreleases.\nBeide bieren hebben dezelfde basis\, maar zijn gehopt met twee verschillende cryo pop blends van Yakima Chief.\nWe mochten als eerste in België aan de slag met de cryo pop Mango blend en de cryo pop Berry blend. Beide blends zorgen voor de typische aromacomponenten die ons doen denken aan mango of aan bessen.\n\nBESSEN KOMEN\, BESSEN GAAN: Pale ale gebrouwen met Simcoe en de cryo pop berry blend\nALLEEN MANGO BLIJFT BESTAAN: Pale ale gebrouwen met Simcoe en de cryo pop mango blend.\nVorig jaar brachten ze reeds hun cryo popblend uit waarbij aromacomponenten die anders niet overleefden tijdens de oogst\, verwerking en het brouwen van het bier toch aanwezig waren in het finale bier. Hun onderzoekers bleven niet stil zitten en nu brachten ze deze twee nieuwe state of the art cryo blends uit.\nSTOOFVLEES FRIET door RØK\nWe hadden normaal een Gorki tributeband voor jullie voorzien\, maar de band heeft wegens eens blessure op het laatste moment moeten afzeggen. Niet getreurd\, de playlist wordt aangepast.
URL:https://beer.be/agenda/zondag-vosdag/
LOCATION:DOK Brewing Company\, 4B Dok Noord\, Gent\, 9000\, Belgique
CATEGORIES:Brasserie
ATTACH;FMTTYPE=image/jpeg:https://beer.be/wp-content/uploads/2021/12/264708418_306492591478950_241733579139959352_n-scaled.jpg
END:VEVENT
BEGIN:VEVENT
DTSTART;TZID=Europe/Brussels:20211217T170000
DTEND;TZID=Europe/Brussels:20211217T230000
DTSTAMP:20260422T045622
CREATED:20211217T063025Z
LAST-MODIFIED:20211217T063025Z
UID:18684-1639760400-1639782000@beer.be
SUMMARY:TTO KAAPSE BROUWERS + RELEASE KAAPSE HERMAN
DESCRIPTION:Vrijdag komen onze Rotterdamse vrienden van de Kaapse brouwers langs en ze zullen maar liefst 10 verschillende bieren schenken.\nEen van deze bieren is de collab die we vorige maand samen brouwden in hun brouwerij in Rotterdam\nKAAPSE HERMAN\nDouble black farmhouse IPA\nDroogtrekkend in de mond met toch een wat romiger mondgevoel door de gebruikte granen \, bitter\, geroosterd en met zijn 7\,5% de de ideale (black) winter IPA.
URL:https://beer.be/agenda/tto-kaapse-brouwers-release-kaapse-herman/
LOCATION:DOK Brewing Company\, 4B Dok Noord\, Gent\, 9000\, Belgique
CATEGORIES:Brasserie
ATTACH;FMTTYPE=image/jpeg:https://beer.be/wp-content/uploads/2021/12/267449048_312457487549127_7926400054184517914_n-scaled.jpg
END:VEVENT
END:VCALENDAR