BEGIN:VCALENDAR
VERSION:2.0
PRODID:-//Beer.be - ECPv6.15.20//NONSGML v1.0//EN
CALSCALE:GREGORIAN
METHOD:PUBLISH
X-WR-CALNAME:Beer.be
X-ORIGINAL-URL:https://beer.be
X-WR-CALDESC:Évènements pour Beer.be
REFRESH-INTERVAL;VALUE=DURATION:PT1H
X-Robots-Tag:noindex
X-PUBLISHED-TTL:PT1H
BEGIN:VTIMEZONE
TZID:Europe/Brussels
BEGIN:DAYLIGHT
TZOFFSETFROM:+0100
TZOFFSETTO:+0200
TZNAME:CEST
DTSTART:20200329T010000
END:DAYLIGHT
BEGIN:STANDARD
TZOFFSETFROM:+0200
TZOFFSETTO:+0100
TZNAME:CET
DTSTART:20201025T010000
END:STANDARD
BEGIN:DAYLIGHT
TZOFFSETFROM:+0100
TZOFFSETTO:+0200
TZNAME:CEST
DTSTART:20210328T010000
END:DAYLIGHT
BEGIN:STANDARD
TZOFFSETFROM:+0200
TZOFFSETTO:+0100
TZNAME:CET
DTSTART:20211031T010000
END:STANDARD
BEGIN:DAYLIGHT
TZOFFSETFROM:+0100
TZOFFSETTO:+0200
TZNAME:CEST
DTSTART:20220327T010000
END:DAYLIGHT
BEGIN:STANDARD
TZOFFSETFROM:+0200
TZOFFSETTO:+0100
TZNAME:CET
DTSTART:20221030T010000
END:STANDARD
END:VTIMEZONE
BEGIN:VEVENT
DTSTART;VALUE=DATE:20211031
DTEND;VALUE=DATE:20211101
DTSTAMP:20260420T202042
CREATED:20211008T065856Z
LAST-MODIFIED:20211008T065856Z
UID:17894-1635638400-1635724799@beer.be
SUMMARY:Halloween Aulne Night
DESCRIPTION:Une nuit de pleine lune\, un quartier désert\, un chien qui hurle au loin … Mais qui peut bien frapper à la porte ? Ce sont les monstres d’Halloween qui investissent la Brasserie Taverne de l'Abbaye d'Aulne ! Citrouilles hurlantes\, sorcières au nez crochu et zombie fraîchement sortis de leur tombe vont vous faire passer une soirée d’horreur inoubliable ! Venez déguster nos queues de lézard farcies\, nos beignets d’araignée ou les fameux rats marinés dans du jus de vipère… un délice. (Et une petite bière ADA bien sûr) Les monstruosités se sont données rendez-vous le dimanche 31 octobre à partir de 19h00 à la Brasserie Taverne de l'Abbaye d'Aulne : ne soyez pas en retard\, l'heure des sorcières approche !\nPS : Un parking à balai sera prévu. Venez habillés de vos plus effroyables tenues !
URL:https://beer.be/agenda/halloween-aulne-night/
LOCATION:Ferme de l'Abbaye d'Aulne\, rue de l'Abbaye d'Aulne\, Thuin\, Belgique
CATEGORIES:Brasserie
ATTACH;FMTTYPE=image/jpeg:https://beer.be/wp-content/uploads/2021/10/244706121_6145097992228406_1099947285798878638_n.jpg
END:VEVENT
BEGIN:VEVENT
DTSTART;VALUE=DATE:20211031
DTEND;VALUE=DATE:20211101
DTSTAMP:20260420T202042
CREATED:20211011T050656Z
LAST-MODIFIED:20211011T050656Z
UID:17913-1635638400-1635724799@beer.be
SUMMARY:Halloween au manoir
DESCRIPTION:Release  Candy Shop \nContes\, soupe d'automne\, citrouilles et monstres \nSAVE THE DATE 
URL:https://beer.be/agenda/halloween-au-manoir/
LOCATION:Misery Beer Co.\, Pouhon 22\, Aywaille\, Belgique
CATEGORIES:Brasserie
ATTACH;FMTTYPE=image/jpeg:https://beer.be/wp-content/uploads/2021/10/244444086_2921198591478426_7577148623754761168_n.jpg
END:VEVENT
END:VCALENDAR