BEGIN:VCALENDAR
VERSION:2.0
PRODID:-//Beer.be - ECPv6.15.20//NONSGML v1.0//EN
CALSCALE:GREGORIAN
METHOD:PUBLISH
X-ORIGINAL-URL:https://beer.be
X-WR-CALDESC:Évènements pour Beer.be
REFRESH-INTERVAL;VALUE=DURATION:PT1H
X-Robots-Tag:noindex
X-PUBLISHED-TTL:PT1H
BEGIN:VTIMEZONE
TZID:Europe/Brussels
BEGIN:DAYLIGHT
TZOFFSETFROM:+0100
TZOFFSETTO:+0200
TZNAME:CEST
DTSTART:20200329T010000
END:DAYLIGHT
BEGIN:STANDARD
TZOFFSETFROM:+0200
TZOFFSETTO:+0100
TZNAME:CET
DTSTART:20201025T010000
END:STANDARD
BEGIN:DAYLIGHT
TZOFFSETFROM:+0100
TZOFFSETTO:+0200
TZNAME:CEST
DTSTART:20210328T010000
END:DAYLIGHT
BEGIN:STANDARD
TZOFFSETFROM:+0200
TZOFFSETTO:+0100
TZNAME:CET
DTSTART:20211031T010000
END:STANDARD
BEGIN:DAYLIGHT
TZOFFSETFROM:+0100
TZOFFSETTO:+0200
TZNAME:CEST
DTSTART:20220327T010000
END:DAYLIGHT
BEGIN:STANDARD
TZOFFSETFROM:+0200
TZOFFSETTO:+0100
TZNAME:CET
DTSTART:20221030T010000
END:STANDARD
END:VTIMEZONE
BEGIN:VEVENT
DTSTART;VALUE=DATE:20210703
DTEND;VALUE=DATE:20210704
DTSTAMP:20260420T045412
CREATED:20210702T045555Z
LAST-MODIFIED:20210702T045555Z
UID:16920-1625270400-1625356799@beer.be
SUMMARY:Alvinne Fellowship & Other Half NYC Tasting
DESCRIPTION:We zijn al jaren fan van Brouwerij Alvinne. Glenn en zijn team\, klein maar fijn\, doen wonderlijke dingen met vaten en fruit.\nSinds enkele jaren hebben ze ook hun Fellowship\, een jaarlijkse membership waarbij je 6 speciallekes kan aanschaffen.\nEn die 6 bieren van de Alvinne Fellowship gaan we samen proeven!\n++ Laurelin 2019\n++ Barrel Rider\n++ Smaug\n++ Miruvor\n++ Goldberry\n++ Palantir\nTussendoor nemen we er enkele exclusieve IPAs bij van Other Half Brewing uit NYC. Vers van de pers\, perfect als afwisseling voor de BA bieren van Alvinne.\nOH Bagels Schmear\nOH Dense HDHC\nOH Down to the socks DDH\nOH Triple citra daydream\nOH DDH Vapor Ringz\nOH Triple Liquid Gems\nStuur ons een bericht of e-mail om in te schrijven. Plaatsen zijn beperkt!
URL:https://beer.be/agenda/alvinne-fellowship-other-half-nyc-tasting/
CATEGORIES:Dégustation
ATTACH;FMTTYPE=image/jpeg:https://beer.be/wp-content/uploads/2021/07/211425187_340139941039672_4583315505373362603_n.jpg
END:VEVENT
BEGIN:VEVENT
DTSTART;VALUE=DATE:20210716
DTEND;VALUE=DATE:20210717
DTSTAMP:20260420T045412
CREATED:20210715T042712Z
LAST-MODIFIED:20210715T042712Z
UID:17004-1626393600-1626479999@beer.be
SUMMARY:La Source x Hops N More Collab + TAPS Happy Hour
DESCRIPTION:The time is near. Time to release our collab beer with La Source. To celebrate our 1 year anniversary\, our good friends from La Source in Brussels brewed an IPA (of course!): 100% New Zealand hops\, Motueka and Nectaron. With peaches added! Come and join us to try this fun hazy IPA: Hops N Peaches. It's Friday night\, so we have our Happy Hour on all our taps\, ALL NIGHT.\n\nFrom 18h-22h\, buy 2\, get 1 free!\n\n+++ TAP LIST +++\n1. La Source x Hops N More - Hops N Peaches\nHazy NZ IPA with peaches\n2. Dry & Bitter - Trip Hazard\nTriple IPA\n3. Nova Runda - Top Manager\nHazy New England Pale Ale\n4. Alvinne/Vrijstaat Vanmol - Bloedarend\nSour Ale w/ Blood Oranges\n5. Maltgarden - Consider it Done\nDDH Double IPA w/ HBC586\, Strata & Citra\n6. Poolside - Gemini\nDDH Double IPA w/ Nelson Sauvin & Citra\n7. La Source - Faucheuse\nHoppy Pilsner\, Barbe Rouge hops!\n8. Coureur - Aan de rekker\nSour Session IPA\n(Happy hour: 2+1 on draft beers and take away crowlers\, cheapest is free)
URL:https://beer.be/agenda/la-source-x-hops-n-more-collab-taps-happy-hour/
CATEGORIES:Tap Takeover
ATTACH;FMTTYPE=image/jpeg:https://beer.be/wp-content/uploads/2021/07/216327759_348079456912387_6738256747557395764_n.jpg
END:VEVENT
BEGIN:VEVENT
DTSTART;VALUE=DATE:20210730
DTEND;VALUE=DATE:20210731
DTSTAMP:20260420T045412
CREATED:20210729T083533Z
LAST-MODIFIED:20210729T083533Z
UID:17092-1627603200-1627689599@beer.be
SUMMARY:Fremont Stout Tasting Night
DESCRIPTION:Fremont Brewing uit Seattle staat al jaren gekend als een topbrouwerij voor Imperial Stouts.\nTijd om een avondje lekkere Bourbon BA heavy hitters te delen.\nWe proeven samen 5 flessen van Fremont Brewing. Tussendoor openen we ook enkele Wild Ales of IPAs van Antidoot\, Tommie Sjef en anderen.\nWe proeven samen met maximaal 8 personen op ons terras.\nWil je graag meedoen? Stuur een e-mail naar info@hopsnmore.com\nDe Fremont bieren:\n++ Bourbon Barrel Aged Dark Star Coffee Edition 2019 (BBADS)\n++ Bourbon Barrel-Aged Dark Star 2019 (BBADS)\n++ B-Bomb 2019 Bourbon BA\n++ Coconut Edition B-Bomb 2019 Bourbon BA\n++ The Rusty Nail 2020 Bourbon BA
URL:https://beer.be/agenda/fremont-stout-tasting-night/
CATEGORIES:Dégustation
ATTACH;FMTTYPE=image/jpeg:https://beer.be/wp-content/uploads/2021/07/225159919_357636662623333_1437718488363891892_n.jpg
END:VEVENT
END:VCALENDAR