BEGIN:VCALENDAR
VERSION:2.0
PRODID:-//Beer.be - ECPv6.15.20//NONSGML v1.0//EN
CALSCALE:GREGORIAN
METHOD:PUBLISH
X-ORIGINAL-URL:https://beer.be
X-WR-CALDESC:Évènements pour Beer.be
REFRESH-INTERVAL;VALUE=DURATION:PT1H
X-Robots-Tag:noindex
X-PUBLISHED-TTL:PT1H
BEGIN:VTIMEZONE
TZID:Europe/Brussels
BEGIN:DAYLIGHT
TZOFFSETFROM:+0100
TZOFFSETTO:+0200
TZNAME:CEST
DTSTART:20190331T010000
END:DAYLIGHT
BEGIN:STANDARD
TZOFFSETFROM:+0200
TZOFFSETTO:+0100
TZNAME:CET
DTSTART:20191027T010000
END:STANDARD
BEGIN:DAYLIGHT
TZOFFSETFROM:+0100
TZOFFSETTO:+0200
TZNAME:CEST
DTSTART:20200329T010000
END:DAYLIGHT
BEGIN:STANDARD
TZOFFSETFROM:+0200
TZOFFSETTO:+0100
TZNAME:CET
DTSTART:20201025T010000
END:STANDARD
BEGIN:DAYLIGHT
TZOFFSETFROM:+0100
TZOFFSETTO:+0200
TZNAME:CEST
DTSTART:20210328T010000
END:DAYLIGHT
BEGIN:STANDARD
TZOFFSETFROM:+0200
TZOFFSETTO:+0100
TZNAME:CET
DTSTART:20211031T010000
END:STANDARD
END:VTIMEZONE
BEGIN:VEVENT
DTSTART;VALUE=DATE:20200115
DTEND;VALUE=DATE:20200116
DTSTAMP:20260420T012749
CREATED:20191230T200424Z
LAST-MODIFIED:20191230T200424Z
UID:14828-1579046400-1579132799@beer.be
SUMMARY:Lambiek Academie
DESCRIPTION:Professioneel met bier bezig of er door gepassioneerd en altijd al willen weten wat lambiek nu echt zo speciaal maakt? De kans dat de Lambiek Academie dan iets voor jou is\, is niet gering! Op 15 januari is het weer mogelijk om jou een dag lang te laten onderdompelen in de wereld van deze uitzonderlijke bieren. \nDe Lambiek Academie is een opleidingsaanbod van de Hoge Raad voor de Ambachtelijke Lambiekbieren (HORAL)\, om iedereen die op professioneel niveau in aanraking komt met lambiekbieren vakkundige ondersteuning te bieden. Het richt zich dus in de eerste plaats tot horeca-uitbaters en hun personeel maar zeker niet uitsluitend. Iedereen met een gezonde interesse om echt te weten hoe de vork in de steel zit is welkom. Het doel is dat je nadien alle vragen over lambiekbieren moeiteloos kunt beantwoorden en door het leven kunt gaan als een ware ambassadeur van een van onze meest authentieke bierstijlen. \nDie dag wordt dieper ingegaan op de geschiedenis van lambiekbieren\, krijg je inzicht in de brouwmethode en haar specificiteit en maak je kennis met verschillende producenten en hun lambiekbieren. Met handige weetjes en praktijk over het schenken\, ruiken en proeven van de authentieke lambiekbieren en de positionering ervan tussen de andere Belgische bierstijlen krijg je een stevige bagage mee om dit wonderlijke product ten volle te waarderen en die passie te delen met anderen. \nEen leerrijke mix van ‘droge’ materie en kennis die wat vloeiender zal worden opgedaan\, gedreven lesgevers\, leuke contacten\, … en dat in ruil voor amper een dagje uit jouw leven … mooie return of investment! \nAlle info en inschrijvingen via www.horal.be/lambiek-academie .
URL:https://beer.be/agenda/lambiek-academie-2/
LOCATION:Bezoekerscentrum "De Lambiek"\,  Gemeenveldstraat 1\, Alsemberg\, Vlaams Brabant\, 1652\, Belgique
CATEGORIES:Autre
ATTACH;FMTTYPE=image/jpeg:https://beer.be/wp-content/uploads/2019/12/73266134_2520066414742403_5402915936057425920_o.jpg
END:VEVENT
END:VCALENDAR