BEGIN:VCALENDAR
VERSION:2.0
PRODID:-//Beer.be - ECPv6.15.20//NONSGML v1.0//EN
CALSCALE:GREGORIAN
METHOD:PUBLISH
X-WR-CALNAME:Beer.be
X-ORIGINAL-URL:https://beer.be
X-WR-CALDESC:Évènements pour Beer.be
REFRESH-INTERVAL;VALUE=DURATION:PT1H
X-Robots-Tag:noindex
X-PUBLISHED-TTL:PT1H
BEGIN:VTIMEZONE
TZID:Europe/Brussels
BEGIN:DAYLIGHT
TZOFFSETFROM:+0100
TZOFFSETTO:+0200
TZNAME:CEST
DTSTART:20200329T010000
END:DAYLIGHT
BEGIN:STANDARD
TZOFFSETFROM:+0200
TZOFFSETTO:+0100
TZNAME:CET
DTSTART:20201025T010000
END:STANDARD
BEGIN:DAYLIGHT
TZOFFSETFROM:+0100
TZOFFSETTO:+0200
TZNAME:CEST
DTSTART:20210328T010000
END:DAYLIGHT
BEGIN:STANDARD
TZOFFSETFROM:+0200
TZOFFSETTO:+0100
TZNAME:CET
DTSTART:20211031T010000
END:STANDARD
BEGIN:DAYLIGHT
TZOFFSETFROM:+0100
TZOFFSETTO:+0200
TZNAME:CEST
DTSTART:20220327T010000
END:DAYLIGHT
BEGIN:STANDARD
TZOFFSETFROM:+0200
TZOFFSETTO:+0100
TZNAME:CET
DTSTART:20221030T010000
END:STANDARD
END:VTIMEZONE
BEGIN:VEVENT
DTSTART;VALUE=DATE:20211023
DTEND;VALUE=DATE:20211024
DTSTAMP:20260423T020503
CREATED:20211019T045117Z
LAST-MODIFIED:20211019T045117Z
UID:18031-1634947200-1635033599@beer.be
SUMMARY:Jam'in Jette @ La Source
DESCRIPTION:Une nouvelle collaboration que nous voulons mettre en place pour le mois d’octobre au Be-Here\, et plus précisément en collaboration avec la brasserie de la source. Venez redécouvrir ce lieu qui est l’ancien établissement Byrrh ayant rouvert ses portes. Ce lieu accueille des entreprises génératrices d’emplois qui s’inscrivent dans les modèles de l’alimentation durable\, de l’économie circulaire et de l’économie sociale. Sa vaste cour intérieure vous abritera et l’ASBL Kwa! s’occupera de la programmation musicale dans l'antre qu'est la brasserie de La Source.\n\nLine-up:\n16:00 - 17:30 Flying Platane (Belgique – DJ Ska Rock’n’roll)\n17:30 - 18:30 Ananke (Bruxelles – Jazz fusion)\n18:30 - 19:30 Flying Platane (Belgique – DJ Ska Rock’n’roll)\n19:30 - 20:30 Azmari (Bruxelles – Ethiogroove)\n20:30 - 21:30 Flying Platane (Belgique – DJ Ska Rock’n’roll)\n21:30 - 22:30 Steffig Raff (Bruxelles – Electro - Rock)
URL:https://beer.be/agenda/jamin-jette-la-source/
LOCATION:La Source Beer Co.\, 4 rue Dieudonné Lefèvre\, Bruxelles\, 1020\, Belgique
CATEGORIES:Concert
ATTACH;FMTTYPE=image/jpeg:https://beer.be/wp-content/uploads/2021/10/244048952_1955781517923042_3790472972718645305_n.jpg
END:VEVENT
END:VCALENDAR