BEGIN:VCALENDAR
VERSION:2.0
PRODID:-//Beer.be - ECPv6.15.20//NONSGML v1.0//EN
CALSCALE:GREGORIAN
METHOD:PUBLISH
X-ORIGINAL-URL:https://beer.be
X-WR-CALDESC:Évènements pour Beer.be
REFRESH-INTERVAL;VALUE=DURATION:PT1H
X-Robots-Tag:noindex
X-PUBLISHED-TTL:PT1H
BEGIN:VTIMEZONE
TZID:Europe/Brussels
BEGIN:DAYLIGHT
TZOFFSETFROM:+0100
TZOFFSETTO:+0200
TZNAME:CEST
DTSTART:20180325T010000
END:DAYLIGHT
BEGIN:STANDARD
TZOFFSETFROM:+0200
TZOFFSETTO:+0100
TZNAME:CET
DTSTART:20181028T010000
END:STANDARD
BEGIN:DAYLIGHT
TZOFFSETFROM:+0100
TZOFFSETTO:+0200
TZNAME:CEST
DTSTART:20190331T010000
END:DAYLIGHT
BEGIN:STANDARD
TZOFFSETFROM:+0200
TZOFFSETTO:+0100
TZNAME:CET
DTSTART:20191027T010000
END:STANDARD
BEGIN:DAYLIGHT
TZOFFSETFROM:+0100
TZOFFSETTO:+0200
TZNAME:CEST
DTSTART:20200329T010000
END:DAYLIGHT
BEGIN:STANDARD
TZOFFSETFROM:+0200
TZOFFSETTO:+0100
TZNAME:CET
DTSTART:20201025T010000
END:STANDARD
END:VTIMEZONE
BEGIN:VEVENT
DTSTART;VALUE=DATE:20191220
DTEND;VALUE=DATE:20191221
DTSTAMP:20260423T103955
CREATED:20191219T073709Z
LAST-MODIFIED:20191219T073709Z
UID:14778-1576800000-1576886399@beer.be
SUMMARY:Soirée Beer Market : " 100% Lambic "
DESCRIPTION:Il aura fallu pas moins de 4 années d'existence au magasin Beer Market pour enfin organiser une soirée 100% Lambic. Une soirée qui rendra hommage à la famille de bière belge la plus spécifique\, la plus authentique. Celle que le monde entier nous envie. La famille des lambics et dérivés (vieilles gueuzes\, krieks\, etc...). Je peux vous garantir que du très bon vous sera proposé. Une soirée à ne pas manquer! Concept : 7 bières artisanales vous sont présentées et décrites. Et bien sûr vous les goûtez. Les thèmes de ces soirées récurrentes varient (exploration d’un pays en particulier\, d’un style\, etc…).
URL:https://beer.be/agenda/soiree-beer-market-100-lambic/
LOCATION:Beer Market\, 2 Rue Louis de Brouckère\, La Louvière\, 7100\, Belgique
CATEGORIES:Dégustation
ATTACH;FMTTYPE=image/jpeg:https://beer.be/wp-content/uploads/2019/12/79685151_1069331340069153_1700091584973897728_o.jpg
END:VEVENT
END:VCALENDAR